BEGIN:VCALENDAR
VERSION:2.0
PRODID:-//Celebration Day For Girls - ECPv6.15.20//NONSGML v1.0//EN
CALSCALE:GREGORIAN
METHOD:PUBLISH
X-WR-CALNAME:Celebration Day For Girls
X-ORIGINAL-URL:https://celebrationdayforgirls.com
X-WR-CALDESC:Events for Celebration Day For Girls
REFRESH-INTERVAL;VALUE=DURATION:PT1H
X-Robots-Tag:noindex
X-PUBLISHED-TTL:PT1H
BEGIN:VTIMEZONE
TZID:Europe/Copenhagen
BEGIN:DAYLIGHT
TZOFFSETFROM:+0100
TZOFFSETTO:+0200
TZNAME:CEST
DTSTART:20210328T010000
END:DAYLIGHT
BEGIN:STANDARD
TZOFFSETFROM:+0200
TZOFFSETTO:+0100
TZNAME:CET
DTSTART:20211031T010000
END:STANDARD
BEGIN:DAYLIGHT
TZOFFSETFROM:+0100
TZOFFSETTO:+0200
TZNAME:CEST
DTSTART:20220327T010000
END:DAYLIGHT
BEGIN:STANDARD
TZOFFSETFROM:+0200
TZOFFSETTO:+0100
TZNAME:CET
DTSTART:20221030T010000
END:STANDARD
BEGIN:DAYLIGHT
TZOFFSETFROM:+0100
TZOFFSETTO:+0200
TZNAME:CEST
DTSTART:20230326T010000
END:DAYLIGHT
BEGIN:STANDARD
TZOFFSETFROM:+0200
TZOFFSETTO:+0100
TZNAME:CET
DTSTART:20231029T010000
END:STANDARD
END:VTIMEZONE
BEGIN:VTIMEZONE
TZID:UTC
BEGIN:STANDARD
TZOFFSETFROM:+0000
TZOFFSETTO:+0000
TZNAME:UTC
DTSTART:20210101T000000
END:STANDARD
END:VTIMEZONE
BEGIN:VTIMEZONE
TZID:America/Bogota
BEGIN:STANDARD
TZOFFSETFROM:-0500
TZOFFSETTO:-0500
TZNAME:-05
DTSTART:20210101T000000
END:STANDARD
END:VTIMEZONE
BEGIN:VEVENT
DTSTART;TZID=Europe/Copenhagen:20221105T091500
DTEND;TZID=Europe/Copenhagen:20221105T160000
DTSTAMP:20260423T023136
CREATED:20220907T074632Z
LAST-MODIFIED:20220908T000256Z
UID:7771-1667639700-1667664000@celebrationdayforgirls.com
SUMMARY:Celebration Day for Girls\, Gadevang\, 3400 Hillerod\, Denmark
DESCRIPTION:Places are available for this event.
URL:https://celebrationdayforgirls.com/event/celebration-day-for-girls-copenhagen-denmark-2/
LOCATION:Gadevang\, 3400 Hillerod\, Copenhagen\, Denmark
ORGANIZER;CN="Bodil Stentebjerg":MAILTO:bodil@yogamudra.dk
END:VEVENT
BEGIN:VEVENT
DTSTART;TZID=UTC:20221108T190000
DTEND;TZID=UTC:20221108T210000
DTSTAMP:20260423T023136
CREATED:20220815T040929Z
LAST-MODIFIED:20220815T040929Z
UID:7736-1667934000-1667941200@celebrationdayforgirls.com
SUMMARY:Mother's Session\, online in Mandarin
DESCRIPTION:Places are available for this event.
URL:https://celebrationdayforgirls.com/event/mothers-session-online-in-mandarin-3/
ORGANIZER;CN="Valentina Thayer":MAILTO:valentina.thayer@gmail.com
END:VEVENT
BEGIN:VEVENT
DTSTART;TZID=UTC:20221112T100000
DTEND;TZID=UTC:20221112T160000
DTSTAMP:20260423T023136
CREATED:20220815T041040Z
LAST-MODIFIED:20220815T041040Z
UID:7738-1668247200-1668268800@celebrationdayforgirls.com
SUMMARY:Celebration Circle for Girls online\, in Mandarin
DESCRIPTION:Places are available for this event.
URL:https://celebrationdayforgirls.com/event/celebration-circle-for-girls-online-in-mandarin-5/
ORGANIZER;CN="Valentina Thayer":MAILTO:valentina.thayer@gmail.com
END:VEVENT
BEGIN:VEVENT
DTSTART;TZID=America/Bogota:20221112T100000
DTEND;TZID=America/Bogota:20221112T160000
DTSTAMP:20260423T023136
CREATED:20230205T051503Z
LAST-MODIFIED:20230205T051503Z
UID:7994-1668247200-1668268800@celebrationdayforgirls.com
SUMMARY:Día de Celebración para Niñas\, Abejorral\, Colombia
DESCRIPTION:Places are available for this event.
URL:https://celebrationdayforgirls.com/event/dia-de-celebracion-para-ninas-abejorral-colombia-2/
LOCATION:Abejorral\, Abejorral\, Colombia
ORGANIZER;CN="Didi Ananda Tapomaya":MAILTO:tarjalepojarvi@gmail.com
END:VEVENT
BEGIN:VEVENT
DTSTART;TZID=UTC:20221113T100000
DTEND;TZID=UTC:20221113T160000
DTSTAMP:20260423T023136
CREATED:20220815T041139Z
LAST-MODIFIED:20220815T041139Z
UID:7740-1668333600-1668355200@celebrationdayforgirls.com
SUMMARY:Celebration Circle for Girls\, online in Mandarin
DESCRIPTION:Places are available for this event.
URL:https://celebrationdayforgirls.com/event/celebration-circle-for-girls-online-in-mandarin-6/
ORGANIZER;CN="Valentina Thayer":MAILTO:valentina.thayer@gmail.com
END:VEVENT
BEGIN:VEVENT
DTSTART;TZID=UTC:20221119T100000
DTEND;TZID=UTC:20221119T160000
DTSTAMP:20260423T023136
CREATED:20220815T041245Z
LAST-MODIFIED:20220815T041245Z
UID:7742-1668852000-1668873600@celebrationdayforgirls.com
SUMMARY:Celebration Circle for Girls and Mothers\, online in Mandarin
DESCRIPTION:Places are available for this event.
URL:https://celebrationdayforgirls.com/event/celebration-circle-for-girls-and-mothers-online-in-mandarin-3/
ORGANIZER;CN="Valentina Thayer":MAILTO:valentina.thayer@gmail.com
END:VEVENT
BEGIN:VEVENT
DTSTART;TZID=UTC:20221126T100000
DTEND;TZID=UTC:20221126T160000
DTSTAMP:20260423T023136
CREATED:20221024T042626Z
LAST-MODIFIED:20221024T042626Z
UID:7809-1669456800-1669478400@celebrationdayforgirls.com
SUMMARY:Celebration Day for Girls\, Falmouth\, Cornwall\, UK
DESCRIPTION:Places are available for this event.
URL:https://celebrationdayforgirls.com/event/celebration-day-for-girls-falmouth-cornwall-uk-2/
LOCATION:Cornwall\, Falmouth\, Cornwall\, United Kingdom
ORGANIZER;CN="Victoria Dufour":MAILTO:victoria@natureandme.co.uk
END:VEVENT
BEGIN:VEVENT
DTSTART;TZID=America/Bogota:20221126T100000
DTEND;TZID=America/Bogota:20221126T160000
DTSTAMP:20260423T023136
CREATED:20230205T051717Z
LAST-MODIFIED:20230205T051717Z
UID:7996-1669456800-1669478400@celebrationdayforgirls.com
SUMMARY:Día de Celebración para Niñas\, Pantanillo\, Colombia
DESCRIPTION:Places are available for this event.
URL:https://celebrationdayforgirls.com/event/dia-de-celebracion-para-ninas-pantanillo-colombia/
LOCATION:Pantanillo\, Pantanillo\, Colombia
ORGANIZER;CN="Didi Ananda Tapomaya":MAILTO:tarjalepojarvi@gmail.com
END:VEVENT
BEGIN:VEVENT
DTSTART;TZID=UTC:20221127T100000
DTEND;TZID=UTC:20221127T160000
DTSTAMP:20260423T023136
CREATED:20220907T071921Z
LAST-MODIFIED:20220907T072059Z
UID:7762-1669543200-1669564800@celebrationdayforgirls.com
SUMMARY:Celebration Day for Girls\, Staverton\, UK
DESCRIPTION:This is a class event. Please contact the facilitator for future events.
URL:https://celebrationdayforgirls.com/event/celebration-day-for-girls-staverton-uk/
LOCATION:Staverton (near Totnes)\, Staverton\, United Kingdom
ORGANIZER;CN="Nisha Toppin":MAILTO:nisha@periodhealthmatters.com
END:VEVENT
END:VCALENDAR