BEGIN:VCALENDAR
VERSION:2.0
PRODID:-//Celebration Day For Girls - ECPv6.15.20//NONSGML v1.0//EN
CALSCALE:GREGORIAN
METHOD:PUBLISH
X-ORIGINAL-URL:https://celebrationdayforgirls.com
X-WR-CALDESC:Events for Celebration Day For Girls
REFRESH-INTERVAL;VALUE=DURATION:PT1H
X-Robots-Tag:noindex
X-PUBLISHED-TTL:PT1H
BEGIN:VTIMEZONE
TZID:Australia/Melbourne
BEGIN:STANDARD
TZOFFSETFROM:+1100
TZOFFSETTO:+1000
TZNAME:AEST
DTSTART:20210403T160000
END:STANDARD
BEGIN:DAYLIGHT
TZOFFSETFROM:+1000
TZOFFSETTO:+1100
TZNAME:AEDT
DTSTART:20211002T160000
END:DAYLIGHT
BEGIN:STANDARD
TZOFFSETFROM:+1100
TZOFFSETTO:+1000
TZNAME:AEST
DTSTART:20220402T160000
END:STANDARD
BEGIN:DAYLIGHT
TZOFFSETFROM:+1000
TZOFFSETTO:+1100
TZNAME:AEDT
DTSTART:20221001T160000
END:DAYLIGHT
BEGIN:STANDARD
TZOFFSETFROM:+1100
TZOFFSETTO:+1000
TZNAME:AEST
DTSTART:20230401T160000
END:STANDARD
BEGIN:DAYLIGHT
TZOFFSETFROM:+1000
TZOFFSETTO:+1100
TZNAME:AEDT
DTSTART:20230930T160000
END:DAYLIGHT
END:VTIMEZONE
BEGIN:VTIMEZONE
TZID:UTC
BEGIN:STANDARD
TZOFFSETFROM:+0000
TZOFFSETTO:+0000
TZNAME:UTC
DTSTART:20210101T000000
END:STANDARD
END:VTIMEZONE
BEGIN:VTIMEZONE
TZID:Europe/Paris
BEGIN:DAYLIGHT
TZOFFSETFROM:+0100
TZOFFSETTO:+0200
TZNAME:CEST
DTSTART:20210328T010000
END:DAYLIGHT
BEGIN:STANDARD
TZOFFSETFROM:+0200
TZOFFSETTO:+0100
TZNAME:CET
DTSTART:20211031T010000
END:STANDARD
BEGIN:DAYLIGHT
TZOFFSETFROM:+0100
TZOFFSETTO:+0200
TZNAME:CEST
DTSTART:20220327T010000
END:DAYLIGHT
BEGIN:STANDARD
TZOFFSETFROM:+0200
TZOFFSETTO:+0100
TZNAME:CET
DTSTART:20221030T010000
END:STANDARD
BEGIN:DAYLIGHT
TZOFFSETFROM:+0100
TZOFFSETTO:+0200
TZNAME:CEST
DTSTART:20230326T010000
END:DAYLIGHT
BEGIN:STANDARD
TZOFFSETFROM:+0200
TZOFFSETTO:+0100
TZNAME:CET
DTSTART:20231029T010000
END:STANDARD
END:VTIMEZONE
BEGIN:VTIMEZONE
TZID:Europe/Brussels
BEGIN:DAYLIGHT
TZOFFSETFROM:+0100
TZOFFSETTO:+0200
TZNAME:CEST
DTSTART:20210328T010000
END:DAYLIGHT
BEGIN:STANDARD
TZOFFSETFROM:+0200
TZOFFSETTO:+0100
TZNAME:CET
DTSTART:20211031T010000
END:STANDARD
BEGIN:DAYLIGHT
TZOFFSETFROM:+0100
TZOFFSETTO:+0200
TZNAME:CEST
DTSTART:20220327T010000
END:DAYLIGHT
BEGIN:STANDARD
TZOFFSETFROM:+0200
TZOFFSETTO:+0100
TZNAME:CET
DTSTART:20221030T010000
END:STANDARD
BEGIN:DAYLIGHT
TZOFFSETFROM:+0100
TZOFFSETTO:+0200
TZNAME:CEST
DTSTART:20230326T010000
END:DAYLIGHT
BEGIN:STANDARD
TZOFFSETFROM:+0200
TZOFFSETTO:+0100
TZNAME:CET
DTSTART:20231029T010000
END:STANDARD
END:VTIMEZONE
BEGIN:VTIMEZONE
TZID:Europe/Copenhagen
BEGIN:DAYLIGHT
TZOFFSETFROM:+0100
TZOFFSETTO:+0200
TZNAME:CEST
DTSTART:20210328T010000
END:DAYLIGHT
BEGIN:STANDARD
TZOFFSETFROM:+0200
TZOFFSETTO:+0100
TZNAME:CET
DTSTART:20211031T010000
END:STANDARD
BEGIN:DAYLIGHT
TZOFFSETFROM:+0100
TZOFFSETTO:+0200
TZNAME:CEST
DTSTART:20220327T010000
END:DAYLIGHT
BEGIN:STANDARD
TZOFFSETFROM:+0200
TZOFFSETTO:+0100
TZNAME:CET
DTSTART:20221030T010000
END:STANDARD
BEGIN:DAYLIGHT
TZOFFSETFROM:+0100
TZOFFSETTO:+0200
TZNAME:CEST
DTSTART:20230326T010000
END:DAYLIGHT
BEGIN:STANDARD
TZOFFSETFROM:+0200
TZOFFSETTO:+0100
TZNAME:CET
DTSTART:20231029T010000
END:STANDARD
END:VTIMEZONE
BEGIN:VTIMEZONE
TZID:Pacific/Auckland
BEGIN:STANDARD
TZOFFSETFROM:+1300
TZOFFSETTO:+1200
TZNAME:NZST
DTSTART:20210403T140000
END:STANDARD
BEGIN:DAYLIGHT
TZOFFSETFROM:+1200
TZOFFSETTO:+1300
TZNAME:NZDT
DTSTART:20210925T140000
END:DAYLIGHT
BEGIN:STANDARD
TZOFFSETFROM:+1300
TZOFFSETTO:+1200
TZNAME:NZST
DTSTART:20220402T140000
END:STANDARD
BEGIN:DAYLIGHT
TZOFFSETFROM:+1200
TZOFFSETTO:+1300
TZNAME:NZDT
DTSTART:20220924T140000
END:DAYLIGHT
BEGIN:STANDARD
TZOFFSETFROM:+1300
TZOFFSETTO:+1200
TZNAME:NZST
DTSTART:20230401T140000
END:STANDARD
BEGIN:DAYLIGHT
TZOFFSETFROM:+1200
TZOFFSETTO:+1300
TZNAME:NZDT
DTSTART:20230923T140000
END:DAYLIGHT
END:VTIMEZONE
BEGIN:VEVENT
DTSTART;TZID=Australia/Melbourne:20221002T100000
DTEND;TZID=Australia/Melbourne:20221002T160000
DTSTAMP:20260420T223437
CREATED:20220917T082458Z
LAST-MODIFIED:20220917T082520Z
UID:7788-1664704800-1664726400@celebrationdayforgirls.com
SUMMARY:Celebration Day for Girls\, Warrandyte\, VIC
DESCRIPTION:Places are available for this event.
URL:https://celebrationdayforgirls.com/event/celebration-day-for-girls-warrandyte-vic-2/
LOCATION:Warrandyte\, Warrandyte\, Australia
ORGANIZER;CN="Lori Elizabeth":MAILTO:lori.elizabeth@outlook.com
END:VEVENT
BEGIN:VEVENT
DTSTART;TZID=UTC:20221011T190000
DTEND;TZID=UTC:20221011T210000
DTSTAMP:20260420T223437
CREATED:20220815T040401Z
LAST-MODIFIED:20220815T040401Z
UID:7728-1665514800-1665522000@celebrationdayforgirls.com
SUMMARY:Mother's Session\, online in Mandarin
DESCRIPTION:Places are available for this event.
URL:https://celebrationdayforgirls.com/event/mothers-session-online-in-mandarin-2/
ORGANIZER;CN="Valentina Thayer":MAILTO:valentina.thayer@gmail.com
END:VEVENT
BEGIN:VEVENT
DTSTART;TZID=UTC:20221015T100000
DTEND;TZID=UTC:20221015T160000
DTSTAMP:20260420T223437
CREATED:20220815T040517Z
LAST-MODIFIED:20220815T040517Z
UID:7730-1665828000-1665849600@celebrationdayforgirls.com
SUMMARY:Celebration Circle for Girls\, online\, in Mandarin
DESCRIPTION:Places are available for this event.
URL:https://celebrationdayforgirls.com/event/celebration-circle-for-girls-online-in-mandarin-3/
ORGANIZER;CN="Valentina Thayer":MAILTO:valentina.thayer@gmail.com
END:VEVENT
BEGIN:VEVENT
DTSTART;TZID=UTC:20221016T100000
DTEND;TZID=UTC:20221016T160000
DTSTAMP:20260420T223437
CREATED:20220815T040704Z
LAST-MODIFIED:20220815T040704Z
UID:7732-1665914400-1665936000@celebrationdayforgirls.com
SUMMARY:Celebration Circle for Girls\, online\, in Mandarin
DESCRIPTION:Places are available for this event.
URL:https://celebrationdayforgirls.com/event/celebration-circle-for-girls-online-in-mandarin-4/
ORGANIZER;CN="Valentina Thayer":MAILTO:valentina.thayer@gmail.com
END:VEVENT
BEGIN:VEVENT
DTSTART;TZID=Europe/Paris:20221022T100000
DTEND;TZID=Europe/Paris:20221022T160000
DTSTAMP:20260420T223437
CREATED:20220813T070004Z
LAST-MODIFIED:20220822T093904Z
UID:7704-1666432800-1666454400@celebrationdayforgirls.com
SUMMARY:Fêter la Puberté\, Geneva\, Switzerland
DESCRIPTION:Places are available for this event.
URL:https://celebrationdayforgirls.com/event/feter-la-puberte-geneva-france/
LOCATION:Geneva\, Geneva\, France
ORGANIZER;CN="Pauline":MAILTO:dansetavie@proton.me
END:VEVENT
BEGIN:VEVENT
DTSTART;TZID=UTC:20221022T100000
DTEND;TZID=UTC:20221022T160000
DTSTAMP:20260420T223437
CREATED:20220815T040811Z
LAST-MODIFIED:20220815T040811Z
UID:7734-1666432800-1666454400@celebrationdayforgirls.com
SUMMARY:Celebration Circle for Girls and Mothers\, online in Mandarin
DESCRIPTION:Places are available for this event.
URL:https://celebrationdayforgirls.com/event/celebration-circle-for-girls-and-mothers-online-in-mandarin-2/
ORGANIZER;CN="Valentina Thayer":MAILTO:valentina.thayer@gmail.com
END:VEVENT
BEGIN:VEVENT
DTSTART;TZID=Europe/Brussels:20221023T100000
DTEND;TZID=Europe/Brussels:20221023T160000
DTSTAMP:20260420T223437
CREATED:20220908T063641Z
LAST-MODIFIED:20220908T063641Z
UID:7776-1666519200-1666540800@celebrationdayforgirls.com
SUMMARY:Celebration Day for Girls\, Ghent\, Belgium
DESCRIPTION:Places are available for this event.
URL:https://celebrationdayforgirls.com/event/celebration-day-for-girls-ghent-belgium-2/
LOCATION:Ghent\, Ghent\, Belgium
ORGANIZER;CN="Micha%C3%ABla Valkenberg":MAILTO:mich_valkenberg@yahoo.com
END:VEVENT
BEGIN:VEVENT
DTSTART;TZID=Europe/Copenhagen:20221027T193000
DTEND;TZID=Europe/Copenhagen:20221027T213000
DTSTAMP:20260420T223437
CREATED:20220907T074349Z
LAST-MODIFIED:20220907T074349Z
UID:7769-1666899000-1666906200@celebrationdayforgirls.com
SUMMARY:Mother's Session\, Copenhagen\, Denmark
DESCRIPTION:Places are available for this event.
URL:https://celebrationdayforgirls.com/event/mothers-session-copenhagen-denmark-2/
LOCATION:Gadevang\, 3400 Hillerod\, Copenhagen\, Denmark
ORGANIZER;CN="Bodil Stentebjerg":MAILTO:bodil@yogamudra.dk
END:VEVENT
BEGIN:VEVENT
DTSTART;TZID=Pacific/Auckland:20221029T100000
DTEND;TZID=Pacific/Auckland:20221029T160000
DTSTAMP:20260420T223437
CREATED:20220915T015433Z
LAST-MODIFIED:20220915T015433Z
UID:7779-1667037600-1667059200@celebrationdayforgirls.com
SUMMARY:Celebration Day for Girls\, Ngamōtu/New Plymouth\, Taranaki\, Aotearoa New Zealand
DESCRIPTION:Places are available for this event.
URL:https://celebrationdayforgirls.com/event/celebration-day-for-girls-ngamotu-new-plymouth-taranaki-aotearoa-new-zealand/
LOCATION:Ngamōtu/New Plymouth\, Taranaki\, Aotearoa New Zealand\, Ngamoto/New Plymouth\, New Zealand
ORGANIZER;CN="Angela Fraser":MAILTO:angelafrasernz@gmail.com
END:VEVENT
BEGIN:VEVENT
DTSTART;TZID=Pacific/Auckland:20221029T190000
DTEND;TZID=Pacific/Auckland:20221029T210000
DTSTAMP:20260420T223437
CREATED:20220915T015549Z
LAST-MODIFIED:20220915T015549Z
UID:7782-1667070000-1667077200@celebrationdayforgirls.com
SUMMARY:Mothers Session\, Ngamōtu/New Plymouth\, Taranaki\, Aotearoa New Zealand
DESCRIPTION:Places are available for this event.
URL:https://celebrationdayforgirls.com/event/mothers-session-ngamotu-new-plymouth-taranaki-aotearoa-new-zealand/
LOCATION:Ngamōtu/New Plymouth\, Taranaki\, Aotearoa New Zealand\, Ngamoto/New Plymouth\, New Zealand
ORGANIZER;CN="Angela Fraser":MAILTO:angelafrasernz@gmail.com
END:VEVENT
END:VCALENDAR