BEGIN:VCALENDAR
VERSION:2.0
PRODID:-//Celebration Day For Girls - ECPv6.15.20//NONSGML v1.0//EN
CALSCALE:GREGORIAN
METHOD:PUBLISH
X-ORIGINAL-URL:https://celebrationdayforgirls.com
X-WR-CALDESC:Events for Celebration Day For Girls
REFRESH-INTERVAL;VALUE=DURATION:PT1H
X-Robots-Tag:noindex
X-PUBLISHED-TTL:PT1H
BEGIN:VTIMEZONE
TZID:Europe/Paris
BEGIN:DAYLIGHT
TZOFFSETFROM:+0100
TZOFFSETTO:+0200
TZNAME:CEST
DTSTART:20200329T010000
END:DAYLIGHT
BEGIN:STANDARD
TZOFFSETFROM:+0200
TZOFFSETTO:+0100
TZNAME:CET
DTSTART:20201025T010000
END:STANDARD
BEGIN:DAYLIGHT
TZOFFSETFROM:+0100
TZOFFSETTO:+0200
TZNAME:CEST
DTSTART:20210328T010000
END:DAYLIGHT
BEGIN:STANDARD
TZOFFSETFROM:+0200
TZOFFSETTO:+0100
TZNAME:CET
DTSTART:20211031T010000
END:STANDARD
BEGIN:DAYLIGHT
TZOFFSETFROM:+0100
TZOFFSETTO:+0200
TZNAME:CEST
DTSTART:20220327T010000
END:DAYLIGHT
BEGIN:STANDARD
TZOFFSETFROM:+0200
TZOFFSETTO:+0100
TZNAME:CET
DTSTART:20221030T010000
END:STANDARD
END:VTIMEZONE
BEGIN:VEVENT
DTSTART;TZID=Europe/Paris:20211229T100000
DTEND;TZID=Europe/Paris:20211229T160000
DTSTAMP:20260424T154828
CREATED:20211221T062141Z
LAST-MODIFIED:20211221T062141Z
UID:7366-1640772000-1640793600@celebrationdayforgirls.com
SUMMARY:Fêter La Puberté\, Rodez\, France
DESCRIPTION:This event is available for bookings.
URL:https://celebrationdayforgirls.com/event/feter-la-puberte-rodez-france/
LOCATION:Rodez\, Rodez\, France
ORGANIZER;CN="Sandrine Rouquet":MAILTO:sandrine.rouquet.therapeute@gmail.com
END:VEVENT
END:VCALENDAR