BEGIN:VCALENDAR
VERSION:2.0
PRODID:-//Celebration Day For Girls - ECPv6.15.20//NONSGML v1.0//EN
CALSCALE:GREGORIAN
METHOD:PUBLISH
X-WR-CALNAME:Celebration Day For Girls
X-ORIGINAL-URL:https://celebrationdayforgirls.com
X-WR-CALDESC:Events for Celebration Day For Girls
REFRESH-INTERVAL;VALUE=DURATION:PT1H
X-Robots-Tag:noindex
X-PUBLISHED-TTL:PT1H
BEGIN:VTIMEZONE
TZID:Australia/Melbourne
BEGIN:STANDARD
TZOFFSETFROM:+1100
TZOFFSETTO:+1000
TZNAME:AEST
DTSTART:20200404T160000
END:STANDARD
BEGIN:DAYLIGHT
TZOFFSETFROM:+1000
TZOFFSETTO:+1100
TZNAME:AEDT
DTSTART:20201003T160000
END:DAYLIGHT
BEGIN:STANDARD
TZOFFSETFROM:+1100
TZOFFSETTO:+1000
TZNAME:AEST
DTSTART:20210403T160000
END:STANDARD
BEGIN:DAYLIGHT
TZOFFSETFROM:+1000
TZOFFSETTO:+1100
TZNAME:AEDT
DTSTART:20211002T160000
END:DAYLIGHT
BEGIN:STANDARD
TZOFFSETFROM:+1100
TZOFFSETTO:+1000
TZNAME:AEST
DTSTART:20220402T160000
END:STANDARD
BEGIN:DAYLIGHT
TZOFFSETFROM:+1000
TZOFFSETTO:+1100
TZNAME:AEDT
DTSTART:20221001T160000
END:DAYLIGHT
END:VTIMEZONE
BEGIN:VTIMEZONE
TZID:Pacific/Auckland
BEGIN:STANDARD
TZOFFSETFROM:+1300
TZOFFSETTO:+1200
TZNAME:NZST
DTSTART:20200404T140000
END:STANDARD
BEGIN:DAYLIGHT
TZOFFSETFROM:+1200
TZOFFSETTO:+1300
TZNAME:NZDT
DTSTART:20200926T140000
END:DAYLIGHT
BEGIN:STANDARD
TZOFFSETFROM:+1300
TZOFFSETTO:+1200
TZNAME:NZST
DTSTART:20210403T140000
END:STANDARD
BEGIN:DAYLIGHT
TZOFFSETFROM:+1200
TZOFFSETTO:+1300
TZNAME:NZDT
DTSTART:20210925T140000
END:DAYLIGHT
BEGIN:STANDARD
TZOFFSETFROM:+1300
TZOFFSETTO:+1200
TZNAME:NZST
DTSTART:20220402T140000
END:STANDARD
BEGIN:DAYLIGHT
TZOFFSETFROM:+1200
TZOFFSETTO:+1300
TZNAME:NZDT
DTSTART:20220924T140000
END:DAYLIGHT
END:VTIMEZONE
BEGIN:VTIMEZONE
TZID:UTC
BEGIN:STANDARD
TZOFFSETFROM:+0000
TZOFFSETTO:+0000
TZNAME:UTC
DTSTART:20200101T000000
END:STANDARD
END:VTIMEZONE
BEGIN:VTIMEZONE
TZID:Europe/London
BEGIN:DAYLIGHT
TZOFFSETFROM:+0000
TZOFFSETTO:+0100
TZNAME:BST
DTSTART:20200329T010000
END:DAYLIGHT
BEGIN:STANDARD
TZOFFSETFROM:+0100
TZOFFSETTO:+0000
TZNAME:GMT
DTSTART:20201025T010000
END:STANDARD
BEGIN:DAYLIGHT
TZOFFSETFROM:+0000
TZOFFSETTO:+0100
TZNAME:BST
DTSTART:20210328T010000
END:DAYLIGHT
BEGIN:STANDARD
TZOFFSETFROM:+0100
TZOFFSETTO:+0000
TZNAME:GMT
DTSTART:20211031T010000
END:STANDARD
BEGIN:DAYLIGHT
TZOFFSETFROM:+0000
TZOFFSETTO:+0100
TZNAME:BST
DTSTART:20220327T010000
END:DAYLIGHT
BEGIN:STANDARD
TZOFFSETFROM:+0100
TZOFFSETTO:+0000
TZNAME:GMT
DTSTART:20221030T010000
END:STANDARD
END:VTIMEZONE
BEGIN:VTIMEZONE
TZID:Australia/Adelaide
BEGIN:STANDARD
TZOFFSETFROM:+1030
TZOFFSETTO:+0930
TZNAME:ACST
DTSTART:20200404T163000
END:STANDARD
BEGIN:DAYLIGHT
TZOFFSETFROM:+0930
TZOFFSETTO:+1030
TZNAME:ACDT
DTSTART:20201003T163000
END:DAYLIGHT
BEGIN:STANDARD
TZOFFSETFROM:+1030
TZOFFSETTO:+0930
TZNAME:ACST
DTSTART:20210403T163000
END:STANDARD
BEGIN:DAYLIGHT
TZOFFSETFROM:+0930
TZOFFSETTO:+1030
TZNAME:ACDT
DTSTART:20211002T163000
END:DAYLIGHT
BEGIN:STANDARD
TZOFFSETFROM:+1030
TZOFFSETTO:+0930
TZNAME:ACST
DTSTART:20220402T163000
END:STANDARD
BEGIN:DAYLIGHT
TZOFFSETFROM:+0930
TZOFFSETTO:+1030
TZNAME:ACDT
DTSTART:20221001T163000
END:DAYLIGHT
END:VTIMEZONE
BEGIN:VEVENT
DTSTART;TZID=Australia/Melbourne:20210706T190000
DTEND;TZID=Australia/Melbourne:20210706T210000
DTSTAMP:20260424T233954
CREATED:20210723T022229Z
LAST-MODIFIED:20210723T022229Z
UID:6801-1625598000-1625605200@celebrationdayforgirls.com
SUMMARY:Fathers Celebrating Daughters\, Castlemaine\, VIC
DESCRIPTION:Places are available for this event.
URL:https://celebrationdayforgirls.com/event/fathers-celebrating-daughters-castlemaine-vic-5/
LOCATION:Castlemaine
ORGANIZER;CN="Rachel Pilgrim":MAILTO:rachel.pilgrim@yahoo.com
END:VEVENT
BEGIN:VEVENT
DTSTART;TZID=Pacific/Auckland:20210709T190000
DTEND;TZID=Pacific/Auckland:20210709T210000
DTSTAMP:20260424T233954
CREATED:20210624T055402Z
LAST-MODIFIED:20210624T055402Z
UID:6539-1625857200-1625864400@celebrationdayforgirls.com
SUMMARY:Elders Meeting\, Christchurch/Otautahi\, NZ
DESCRIPTION:This is a class event. Please contact the facilitator for future events.
URL:https://celebrationdayforgirls.com/event/elders-meeting-christchurch-otautahi-nz/
LOCATION:Christchurch\, Christchurch\, New Zealand
ORGANIZER;CN="Alice Tabak":MAILTO:cdg.alicetabak@gmail.com
END:VEVENT
BEGIN:VEVENT
DTSTART;TZID=UTC:20210709T190000
DTEND;TZID=UTC:20210709T210000
DTSTAMP:20260424T233954
CREATED:20210723T022523Z
LAST-MODIFIED:20210723T022523Z
UID:6803-1625857200-1625864400@celebrationdayforgirls.com
SUMMARY:Mother's Session\, West London\, UK
DESCRIPTION:Places are available for this event.
URL:https://celebrationdayforgirls.com/event/mothers-session-west-london-uk-3/
LOCATION:West London\, West London\, United Kingdom
ORGANIZER;CN="Noura Alfadl":MAILTO:nouranaf@gmail.com
END:VEVENT
BEGIN:VEVENT
DTSTART;TZID=Pacific/Auckland:20210709T190000
DTEND;TZID=Pacific/Auckland:20210709T210000
DTSTAMP:20260424T233954
CREATED:20210723T022736Z
LAST-MODIFIED:20210723T022736Z
UID:6807-1625857200-1625864400@celebrationdayforgirls.com
SUMMARY:Elders Meeting\, Christchurch/Otautahi\, NZ
DESCRIPTION:Places are available for this event.
URL:https://celebrationdayforgirls.com/event/elders-meeting-christchurch-otautahi-nz-2/
LOCATION:Christchurch\, Christchurch\, New Zealand
ORGANIZER;CN="Alice Tabak":MAILTO:cdg.alicetabak@gmail.com
END:VEVENT
BEGIN:VEVENT
DTSTART;TZID=Europe/London:20210710T100000
DTEND;TZID=Europe/London:20210710T160000
DTSTAMP:20260424T233954
CREATED:20210723T023212Z
LAST-MODIFIED:20210723T023212Z
UID:6809-1625911200-1625932800@celebrationdayforgirls.com
SUMMARY:Celebration Day for Girls\, West London\, UK
DESCRIPTION:Places are available for this event.
URL:https://celebrationdayforgirls.com/event/celebration-day-for-girls-west-london-uk-3/
LOCATION:West London\, West London\, United Kingdom
ORGANIZER;CN="Noura Alfadl":MAILTO:nouranaf@gmail.com
END:VEVENT
BEGIN:VEVENT
DTSTART;TZID=Pacific/Auckland:20210711T100000
DTEND;TZID=Pacific/Auckland:20210711T160000
DTSTAMP:20260424T233954
CREATED:20210624T055515Z
LAST-MODIFIED:20210624T055515Z
UID:6541-1625997600-1626019200@celebrationdayforgirls.com
SUMMARY:Celebration Day for Girls\, Christchurch/Otautahi\, NZ
DESCRIPTION:This is a class event. Please contact the facilitator for future events.
URL:https://celebrationdayforgirls.com/event/celebration-day-for-girls-christchurch-otautahi-nz-2/
LOCATION:Christchurch\, Christchurch\, New Zealand
ORGANIZER;CN="Alice Tabak":MAILTO:cdg.alicetabak@gmail.com
END:VEVENT
BEGIN:VEVENT
DTSTART;TZID=Pacific/Auckland:20210711T100000
DTEND;TZID=Pacific/Auckland:20210711T160000
DTSTAMP:20260424T233954
CREATED:20210723T023410Z
LAST-MODIFIED:20210723T023410Z
UID:6811-1625997600-1626019200@celebrationdayforgirls.com
SUMMARY:Celebration Day For Girls\, Christchurch/Otautahi\, NZ
DESCRIPTION:Places are available for this event.
URL:https://celebrationdayforgirls.com/event/celebration-day-for-girls-christchurch-otautahi-nz-3/
LOCATION:Celebration Day For Girls\, Christchurch/Otautahi\, NZ\, Christchurch\, New Zealand
ORGANIZER;CN="Alice Tabak":MAILTO:cdg.alicetabak@gmail.com
END:VEVENT
BEGIN:VEVENT
DTSTART;TZID=Australia/Adelaide:20210718T063000
DTEND;TZID=Australia/Adelaide:20210718T204500
DTSTAMP:20260424T233954
CREATED:20210723T023619Z
LAST-MODIFIED:20210723T023619Z
UID:6814-1626589800-1626641100@celebrationdayforgirls.com
SUMMARY:Mother’s Session\, Adelaide East\, SA
DESCRIPTION:Places are available for this event.
URL:https://celebrationdayforgirls.com/event/mothers-session-adelaide-east-sa/
LOCATION:Adelaide\, Adelaide\, South Australia\, Australia
ORGANIZER;CN="Melissa Hellwig":MAILTO:fmrahellwig@bigpond.com
END:VEVENT
BEGIN:VEVENT
DTSTART;TZID=Australia/Melbourne:20210722T190000
DTEND;TZID=Australia/Melbourne:20210722T210000
DTSTAMP:20260424T233954
CREATED:20210722T233928Z
LAST-MODIFIED:20210722T233928Z
UID:6746-1626980400-1626987600@celebrationdayforgirls.com
SUMMARY:Fathers Celebrating Daughters\, Noojee\, VIC
DESCRIPTION:Places are available for this event.
URL:https://celebrationdayforgirls.com/event/fathers-celebrating-daughters-noojee-vic/
LOCATION:Noojee\, Noojee\, Victoria\, Australia
ORGANIZER;CN="Inge Scott":MAILTO:spicedoutales@gmail.com
END:VEVENT
BEGIN:VEVENT
DTSTART;TZID=Australia/Adelaide:20210724T100000
DTEND;TZID=Australia/Adelaide:20210724T160000
DTSTAMP:20260424T233954
CREATED:20210724T060546Z
LAST-MODIFIED:20210724T060546Z
UID:6817-1627120800-1627142400@celebrationdayforgirls.com
SUMMARY:Celebration Day for Girls\, Adelaide East\, SA
DESCRIPTION:Places are available for this event.
URL:https://celebrationdayforgirls.com/event/celebration-day-for-girls-adelaide-east-sa/
LOCATION:Adelaide East\, Adelaide East\, Australia
ORGANIZER;CN="Melissa Hellwig":MAILTO:fmrahellwig@bigpond.com
END:VEVENT
BEGIN:VEVENT
DTSTART;TZID=Australia/Melbourne:20210727T190000
DTEND;TZID=Australia/Melbourne:20210727T210000
DTSTAMP:20260424T233954
CREATED:20210219T062510Z
LAST-MODIFIED:20210219T062510Z
UID:5804-1627412400-1627419600@celebrationdayforgirls.com
SUMMARY:Mother's Session\, Castlemaine\, VIC
DESCRIPTION:Places are available for this event.
URL:https://celebrationdayforgirls.com/event/mothers-session-castlemaine-vic-7/
LOCATION:Castlemaine
ORGANIZER;CN="Rachel Pilgrim":MAILTO:rachel.pilgrim@yahoo.com
END:VEVENT
BEGIN:VEVENT
DTSTART;TZID=Australia/Melbourne:20210727T190000
DTEND;TZID=Australia/Melbourne:20210727T210000
DTSTAMP:20260424T233954
CREATED:20210722T230046Z
LAST-MODIFIED:20210722T230046Z
UID:6736-1627412400-1627419600@celebrationdayforgirls.com
SUMMARY:Mother's Session\, Yarra Junction\, VIC
DESCRIPTION:This is a class event. Please contact the facilitator for future events.
URL:https://celebrationdayforgirls.com/event/mothers-session-yarra-junction-vic-5/
LOCATION:Little Yarra Steiner School\, Yarra Junction\, VIC\, Australia
ORGANIZER;CN="Melinda Whyman":MAILTO:mummamel@gmail.com
END:VEVENT
BEGIN:VEVENT
DTSTART;TZID=Pacific/Auckland:20210730T190000
DTEND;TZID=Pacific/Auckland:20210730T210000
DTSTAMP:20260424T233954
CREATED:20210624T055627Z
LAST-MODIFIED:20210624T055627Z
UID:6543-1627671600-1627678800@celebrationdayforgirls.com
SUMMARY:Elders Meeting\, Heathcote\, Christchurch\, NZ
DESCRIPTION:Places are available for this event.
URL:https://celebrationdayforgirls.com/event/elders-meeting-heathcote-christchurch-nz/
LOCATION:Christchurch\, Christchurch\, New Zealand
ORGANIZER;CN="Alice Tabak":MAILTO:cdg.alicetabak@gmail.com
END:VEVENT
BEGIN:VEVENT
DTSTART;TZID=Pacific/Auckland:20210801T100000
DTEND;TZID=Pacific/Auckland:20210801T160000
DTSTAMP:20260424T233954
CREATED:20210624T055753Z
LAST-MODIFIED:20210624T055753Z
UID:6545-1627812000-1627833600@celebrationdayforgirls.com
SUMMARY:Celebration Day for Girls\, Heathcote Valley\, Christchurch\, NZ
DESCRIPTION:Places are available for this event.
URL:https://celebrationdayforgirls.com/event/celebration-day-for-girls-heathcote-valley-christchurch-nz/
LOCATION:Christchurch\, Christchurch\, New Zealand
ORGANIZER;CN="Alice Tabak":MAILTO:cdg.alicetabak@gmail.com
END:VEVENT
END:VCALENDAR