BEGIN:VCALENDAR
VERSION:2.0
PRODID:-//Celebration Day For Girls - ECPv6.15.20//NONSGML v1.0//EN
CALSCALE:GREGORIAN
METHOD:PUBLISH
X-ORIGINAL-URL:https://celebrationdayforgirls.com
X-WR-CALDESC:Events for Celebration Day For Girls
REFRESH-INTERVAL;VALUE=DURATION:PT1H
X-Robots-Tag:noindex
X-PUBLISHED-TTL:PT1H
BEGIN:VTIMEZONE
TZID:Europe/London
BEGIN:DAYLIGHT
TZOFFSETFROM:+0000
TZOFFSETTO:+0100
TZNAME:BST
DTSTART:20200329T010000
END:DAYLIGHT
BEGIN:STANDARD
TZOFFSETFROM:+0100
TZOFFSETTO:+0000
TZNAME:GMT
DTSTART:20201025T010000
END:STANDARD
BEGIN:DAYLIGHT
TZOFFSETFROM:+0000
TZOFFSETTO:+0100
TZNAME:BST
DTSTART:20210328T010000
END:DAYLIGHT
BEGIN:STANDARD
TZOFFSETFROM:+0100
TZOFFSETTO:+0000
TZNAME:GMT
DTSTART:20211031T010000
END:STANDARD
BEGIN:DAYLIGHT
TZOFFSETFROM:+0000
TZOFFSETTO:+0100
TZNAME:BST
DTSTART:20220327T010000
END:DAYLIGHT
BEGIN:STANDARD
TZOFFSETFROM:+0100
TZOFFSETTO:+0000
TZNAME:GMT
DTSTART:20221030T010000
END:STANDARD
END:VTIMEZONE
BEGIN:VTIMEZONE
TZID:Australia/Melbourne
BEGIN:STANDARD
TZOFFSETFROM:+1100
TZOFFSETTO:+1000
TZNAME:AEST
DTSTART:20200404T160000
END:STANDARD
BEGIN:DAYLIGHT
TZOFFSETFROM:+1000
TZOFFSETTO:+1100
TZNAME:AEDT
DTSTART:20201003T160000
END:DAYLIGHT
BEGIN:STANDARD
TZOFFSETFROM:+1100
TZOFFSETTO:+1000
TZNAME:AEST
DTSTART:20210403T160000
END:STANDARD
BEGIN:DAYLIGHT
TZOFFSETFROM:+1000
TZOFFSETTO:+1100
TZNAME:AEDT
DTSTART:20211002T160000
END:DAYLIGHT
BEGIN:STANDARD
TZOFFSETFROM:+1100
TZOFFSETTO:+1000
TZNAME:AEST
DTSTART:20220402T160000
END:STANDARD
BEGIN:DAYLIGHT
TZOFFSETFROM:+1000
TZOFFSETTO:+1100
TZNAME:AEDT
DTSTART:20221001T160000
END:DAYLIGHT
END:VTIMEZONE
BEGIN:VTIMEZONE
TZID:Europe/Madrid
BEGIN:DAYLIGHT
TZOFFSETFROM:+0100
TZOFFSETTO:+0200
TZNAME:CEST
DTSTART:20200329T010000
END:DAYLIGHT
BEGIN:STANDARD
TZOFFSETFROM:+0200
TZOFFSETTO:+0100
TZNAME:CET
DTSTART:20201025T010000
END:STANDARD
BEGIN:DAYLIGHT
TZOFFSETFROM:+0100
TZOFFSETTO:+0200
TZNAME:CEST
DTSTART:20210328T010000
END:DAYLIGHT
BEGIN:STANDARD
TZOFFSETFROM:+0200
TZOFFSETTO:+0100
TZNAME:CET
DTSTART:20211031T010000
END:STANDARD
BEGIN:DAYLIGHT
TZOFFSETFROM:+0100
TZOFFSETTO:+0200
TZNAME:CEST
DTSTART:20220327T010000
END:DAYLIGHT
BEGIN:STANDARD
TZOFFSETFROM:+0200
TZOFFSETTO:+0100
TZNAME:CET
DTSTART:20221030T010000
END:STANDARD
END:VTIMEZONE
BEGIN:VTIMEZONE
TZID:Pacific/Auckland
BEGIN:STANDARD
TZOFFSETFROM:+1300
TZOFFSETTO:+1200
TZNAME:NZST
DTSTART:20200404T140000
END:STANDARD
BEGIN:DAYLIGHT
TZOFFSETFROM:+1200
TZOFFSETTO:+1300
TZNAME:NZDT
DTSTART:20200926T140000
END:DAYLIGHT
BEGIN:STANDARD
TZOFFSETFROM:+1300
TZOFFSETTO:+1200
TZNAME:NZST
DTSTART:20210403T140000
END:STANDARD
BEGIN:DAYLIGHT
TZOFFSETFROM:+1200
TZOFFSETTO:+1300
TZNAME:NZDT
DTSTART:20210925T140000
END:DAYLIGHT
BEGIN:STANDARD
TZOFFSETFROM:+1300
TZOFFSETTO:+1200
TZNAME:NZST
DTSTART:20220402T140000
END:STANDARD
BEGIN:DAYLIGHT
TZOFFSETFROM:+1200
TZOFFSETTO:+1300
TZNAME:NZDT
DTSTART:20220924T140000
END:DAYLIGHT
END:VTIMEZONE
BEGIN:VEVENT
DTSTART;TZID=Europe/London:20210509T100000
DTEND;TZID=Europe/London:20210509T160000
DTSTAMP:20260425T031719
CREATED:20210312T045741Z
LAST-MODIFIED:20210312T045741Z
UID:5839-1620554400-1620576000@celebrationdayforgirls.com
SUMMARY:Celebration Day for Girls\, East London\, UK
DESCRIPTION:Places are available for this event.
URL:https://celebrationdayforgirls.com/event/celebration-day-for-girls-east-london-uk/
LOCATION:East London\, East London\, United Kingdom
ORGANIZER;CN="Prema Sandy":MAILTO:prema.sandy@googlemail.com
END:VEVENT
BEGIN:VEVENT
DTSTART;TZID=Australia/Melbourne:20210523T100000
DTEND;TZID=Australia/Melbourne:20210523T160000
DTSTAMP:20260425T031719
CREATED:20210722T235005Z
LAST-MODIFIED:20210722T235005Z
UID:6750-1621764000-1621785600@celebrationdayforgirls.com
SUMMARY:Celebration Day for Girls\, Noojee\, VIC
DESCRIPTION:Places are available for this event.
URL:https://celebrationdayforgirls.com/event/celebration-day-for-girls-noojee-vic-2/
LOCATION:Noojee\, Noojee\, Victoria\, Australia
ORGANIZER;CN="Inge Scott":MAILTO:spicedoutales@gmail.com
END:VEVENT
BEGIN:VEVENT
DTSTART;TZID=Australia/Melbourne:20210523T190000
DTEND;TZID=Australia/Melbourne:20210523T210000
DTSTAMP:20260425T031719
CREATED:20210722T233750Z
LAST-MODIFIED:20210722T234852Z
UID:6744-1621796400-1621803600@celebrationdayforgirls.com
SUMMARY:Mother's Session\, Noojee\, VIC
DESCRIPTION:Places are available for this event.
URL:https://celebrationdayforgirls.com/event/mothers-session-noojee-vic-2/
LOCATION:Noojee\, Noojee\, Victoria\, Australia
ORGANIZER;CN="Inge Scott":MAILTO:spicedoutales@gmail.com
END:VEVENT
BEGIN:VEVENT
DTSTART;TZID=Australia/Melbourne:20210523T190000
DTEND;TZID=Australia/Melbourne:20210523T210000
DTSTAMP:20260425T031719
CREATED:20210722T234304Z
LAST-MODIFIED:20210722T234736Z
UID:6748-1621796400-1621803600@celebrationdayforgirls.com
SUMMARY:Mother's Session\, Noojee\, VIC
DESCRIPTION:Places are available for this event.
URL:https://celebrationdayforgirls.com/event/mothers-session-noojee-vic-3/
LOCATION:Noojee\, Noojee\, Victoria\, Australia
ORGANIZER;CN="Inge Scott":MAILTO:spicedoutales@gmail.com
END:VEVENT
BEGIN:VEVENT
DTSTART;TZID=Europe/Madrid:20210528T190000
DTEND;TZID=Europe/Madrid:20210528T210000
DTSTAMP:20260425T031719
CREATED:20210722T235355Z
LAST-MODIFIED:20210722T235355Z
UID:6752-1622228400-1622235600@celebrationdayforgirls.com
SUMMARY:Mother's Session\, Marbella\, Spain
DESCRIPTION:Places are available for this event.
URL:https://celebrationdayforgirls.com/event/mothers-session-marbella-spain-10/
LOCATION:Marbella\, Spain
ORGANIZER;CN="Mariana Zavery and Didi Ananda Rashmika":MAILTO:sprout@astralize.com
END:VEVENT
BEGIN:VEVENT
DTSTART;TZID=Pacific/Auckland:20210528T190000
DTEND;TZID=Pacific/Auckland:20210528T210000
DTSTAMP:20260425T031719
CREATED:20210722T235650Z
LAST-MODIFIED:20210722T235650Z
UID:6755-1622228400-1622235600@celebrationdayforgirls.com
SUMMARY:Mother's Session\, Tirohanga\, Lower Hutt\, Wellington\, NZ
DESCRIPTION:Places are available for this event.
URL:https://celebrationdayforgirls.com/event/mothers-session-tirohanga-lower-hutt-wellington-nz/
LOCATION:Tirohanga\, Lower Hutt\, Wellington\, Tirohanga\, New Zealand
ORGANIZER;CN="Alice Tabak":MAILTO:cdg.alicetabak@gmail.com
END:VEVENT
BEGIN:VEVENT
DTSTART;TZID=Europe/Madrid:20210529T100000
DTEND;TZID=Europe/Madrid:20210529T160000
DTSTAMP:20260425T031719
CREATED:20210723T011107Z
LAST-MODIFIED:20210723T011107Z
UID:6759-1622282400-1622304000@celebrationdayforgirls.com
SUMMARY:Celebration Day for Girls\, Marbella\, Spain
DESCRIPTION:Places are available for this event.
URL:https://celebrationdayforgirls.com/event/celebration-day-for-girls-marbella-spain-10/
LOCATION:Marbella\, Spain
ORGANIZER;CN="Mariana Zavery and Didi Ananda Rashmika":MAILTO:sprout@astralize.com
END:VEVENT
BEGIN:VEVENT
DTSTART;TZID=Australia/Melbourne:20210529T150000
DTEND;TZID=Australia/Melbourne:20210529T170000
DTSTAMP:20260425T031719
CREATED:20210723T011307Z
LAST-MODIFIED:20210723T011307Z
UID:6761-1622300400-1622307600@celebrationdayforgirls.com
SUMMARY:Mother's Session\, Camperdown\, VIC
DESCRIPTION:Places are available for this event.
URL:https://celebrationdayforgirls.com/event/mothers-session-camperdown-vic/
LOCATION:Camperdown\, Camperdown\, Victoria\, Australia
ORGANIZER;CN="Keitha Theodore":MAILTO:keithajtheodore@gmail.com
END:VEVENT
BEGIN:VEVENT
DTSTART;TZID=Australia/Melbourne:20210530T100000
DTEND;TZID=Australia/Melbourne:20210530T160000
DTSTAMP:20260425T031719
CREATED:20210723T011443Z
LAST-MODIFIED:20210723T011443Z
UID:6764-1622368800-1622390400@celebrationdayforgirls.com
SUMMARY:Celebration Day for Girls\, Camperdown\, VIC
DESCRIPTION:Places are available for this event.
URL:https://celebrationdayforgirls.com/event/celebration-day-for-girls-camperdown-vic/
LOCATION:Camperdown\, Camperdown\, Victoria\, Australia
ORGANIZER;CN="Keitha Theodore":MAILTO:keithajtheodore@gmail.com
END:VEVENT
BEGIN:VEVENT
DTSTART;TZID=Pacific/Auckland:20210530T100000
DTEND;TZID=Pacific/Auckland:20210530T160000
DTSTAMP:20260425T031719
CREATED:20210723T011701Z
LAST-MODIFIED:20210723T011701Z
UID:6766-1622368800-1622390400@celebrationdayforgirls.com
SUMMARY:Celebration Day for Girls\, Tirohanga\, Lower Hutt\, Wellington\, NZ
DESCRIPTION:Places are available for this event.
URL:https://celebrationdayforgirls.com/event/celebration-day-for-girls-tirohanga-lower-hutt-wellington-nz/
LOCATION:Tirohanga\, Lower Hutt\, Wellington\, Tirohanga\, New Zealand
ORGANIZER;CN="Alice Tabak":MAILTO:cdg.alicetabak@gmail.com
END:VEVENT
END:VCALENDAR