BEGIN:VCALENDAR
VERSION:2.0
PRODID:-//Celebration Day For Girls - ECPv6.15.20//NONSGML v1.0//EN
CALSCALE:GREGORIAN
METHOD:PUBLISH
X-ORIGINAL-URL:https://celebrationdayforgirls.com
X-WR-CALDESC:Events for Celebration Day For Girls
REFRESH-INTERVAL;VALUE=DURATION:PT1H
X-Robots-Tag:noindex
X-PUBLISHED-TTL:PT1H
BEGIN:VTIMEZONE
TZID:UTC
BEGIN:STANDARD
TZOFFSETFROM:+0000
TZOFFSETTO:+0000
TZNAME:UTC
DTSTART:20190101T000000
END:STANDARD
END:VTIMEZONE
BEGIN:VTIMEZONE
TZID:Australia/Melbourne
BEGIN:STANDARD
TZOFFSETFROM:+1100
TZOFFSETTO:+1000
TZNAME:AEST
DTSTART:20190406T160000
END:STANDARD
BEGIN:DAYLIGHT
TZOFFSETFROM:+1000
TZOFFSETTO:+1100
TZNAME:AEDT
DTSTART:20191005T160000
END:DAYLIGHT
BEGIN:STANDARD
TZOFFSETFROM:+1100
TZOFFSETTO:+1000
TZNAME:AEST
DTSTART:20200404T160000
END:STANDARD
BEGIN:DAYLIGHT
TZOFFSETFROM:+1000
TZOFFSETTO:+1100
TZNAME:AEDT
DTSTART:20201003T160000
END:DAYLIGHT
BEGIN:STANDARD
TZOFFSETFROM:+1100
TZOFFSETTO:+1000
TZNAME:AEST
DTSTART:20210403T160000
END:STANDARD
BEGIN:DAYLIGHT
TZOFFSETFROM:+1000
TZOFFSETTO:+1100
TZNAME:AEDT
DTSTART:20211002T160000
END:DAYLIGHT
END:VTIMEZONE
BEGIN:VTIMEZONE
TZID:Australia/Perth
BEGIN:STANDARD
TZOFFSETFROM:+0800
TZOFFSETTO:+0800
TZNAME:AWST
DTSTART:20190101T000000
END:STANDARD
END:VTIMEZONE
BEGIN:VEVENT
DTSTART;TZID=UTC:20201202T190000
DTEND;TZID=UTC:20201202T210000
DTSTAMP:20260425T113432
CREATED:20201120T020405Z
LAST-MODIFIED:20201120T020405Z
UID:5632-1606935600-1606942800@celebrationdayforgirls.com
SUMMARY:Mother's Session\, Ghilgai School\, Kilsyth\, VIC
DESCRIPTION:This is a class event.
URL:https://celebrationdayforgirls.com/event/mothers-session-ghilgai-school-kilsyth-vic/
LOCATION:Ghilgai School\, Kilsyth\, Australia
ORGANIZER;CN="Janoel Liddy":MAILTO:contact.janoel@gmail.com
END:VEVENT
BEGIN:VEVENT
DTSTART;TZID=Australia/Melbourne:20201206T100000
DTEND;TZID=Australia/Melbourne:20201206T160000
DTSTAMP:20260425T113432
CREATED:20201120T020245Z
LAST-MODIFIED:20201120T020245Z
UID:5630-1607248800-1607270400@celebrationdayforgirls.com
SUMMARY:Celebration Day for Girls\, Ghilgai School\, Kilsyth\, VIC
DESCRIPTION:This is a class event. Please contact the facilitator for future upcoming events.
URL:https://celebrationdayforgirls.com/event/celebration-day-for-girls-ghilgai-school-kilsyth-vic/
LOCATION:Ghilgai School\, Kilsyth\, Australia
ORGANIZER;CN="Janoel Liddy":MAILTO:contact.janoel@gmail.com
END:VEVENT
BEGIN:VEVENT
DTSTART;TZID=Australia/Melbourne:20201206T100000
DTEND;TZID=Australia/Melbourne:20201206T160000
DTSTAMP:20260425T113432
CREATED:20210128T001815Z
LAST-MODIFIED:20210128T001815Z
UID:5748-1607248800-1607270400@celebrationdayforgirls.com
SUMMARY:Celebration Day for Girls\, Montrose\, VIC
DESCRIPTION:Places are available for this event.
URL:https://celebrationdayforgirls.com/event/celebration-day-for-girls-montrose-vic/
LOCATION:Montrose\, Montrose\, Victoria\, Australia
ORGANIZER;CN="Janoel Liddy":MAILTO:contact.janoel@gmail.com
END:VEVENT
BEGIN:VEVENT
DTSTART;TZID=Australia/Perth:20201217T190000
DTEND;TZID=Australia/Perth:20201217T210000
DTSTAMP:20260425T113432
CREATED:20201210T005622Z
LAST-MODIFIED:20201210T005622Z
UID:5651-1608231600-1608238800@celebrationdayforgirls.com
SUMMARY:Mother's session\, Margaret River\, WA
DESCRIPTION:Places are available for this event.
URL:https://celebrationdayforgirls.com/event/mothers-session-margaret-river-wa-3/
LOCATION:Margaret River\, Margaret River\, Western Australia\, 6280\, Australia
ORGANIZER;CN="Kindelle Pillonel":MAILTO:info@busseltonholistic.com.au
END:VEVENT
BEGIN:VEVENT
DTSTART;TZID=Australia/Perth:20201217T190000
DTEND;TZID=Australia/Perth:20201217T210000
DTSTAMP:20260425T113432
CREATED:20210224T035805Z
LAST-MODIFIED:20210224T035805Z
UID:5813-1608231600-1608238800@celebrationdayforgirls.com
SUMMARY:Mother's Session\, Margaret River\, WA
DESCRIPTION:Places are available for this event.
URL:https://celebrationdayforgirls.com/event/mothers-session-margaret-river-wa-4/
LOCATION:Margaret River\, Margaret River\, Western Australia\, 6280\, Australia
ORGANIZER;CN="Kindelle Pillonel":MAILTO:info@busseltonholistic.com.au
END:VEVENT
BEGIN:VEVENT
DTSTART;TZID=Australia/Perth:20201218T100000
DTEND;TZID=Australia/Perth:20201218T160000
DTSTAMP:20260425T113432
CREATED:20201210T005506Z
LAST-MODIFIED:20201210T005506Z
UID:5648-1608285600-1608307200@celebrationdayforgirls.com
SUMMARY:Celebration Day for Girls\, Margaret River\, WA
DESCRIPTION:Places are available for this event.
URL:https://celebrationdayforgirls.com/event/celebration-day-for-girls-margaret-river-wa-3/
LOCATION:Margaret River\, Margaret River\, Western Australia\, 6280\, Australia
ORGANIZER;CN="Kindelle Pillonel":MAILTO:info@busseltonholistic.com.au
END:VEVENT
BEGIN:VEVENT
DTSTART;TZID=Australia/Perth:20201218T100000
DTEND;TZID=Australia/Perth:20201218T160000
DTSTAMP:20260425T113432
CREATED:20210224T035658Z
LAST-MODIFIED:20210224T035658Z
UID:5811-1608285600-1608307200@celebrationdayforgirls.com
SUMMARY:Celebration Day for Girls\, Margaret River\, WA
DESCRIPTION:Places are available for this event.
URL:https://celebrationdayforgirls.com/event/celebration-day-for-girls-margaret-river-wa-4/
LOCATION:Margaret River\, Margaret River\, Western Australia\, 6280\, Australia
ORGANIZER;CN="Kindelle Pillonel":MAILTO:info@busseltonholistic.com.au
END:VEVENT
END:VCALENDAR