BEGIN:VCALENDAR
VERSION:2.0
PRODID:-//Celebration Day For Girls - ECPv6.15.20//NONSGML v1.0//EN
CALSCALE:GREGORIAN
METHOD:PUBLISH
X-WR-CALNAME:Celebration Day For Girls
X-ORIGINAL-URL:https://celebrationdayforgirls.com
X-WR-CALDESC:Events for Celebration Day For Girls
REFRESH-INTERVAL;VALUE=DURATION:PT1H
X-Robots-Tag:noindex
X-PUBLISHED-TTL:PT1H
BEGIN:VTIMEZONE
TZID:UTC
BEGIN:STANDARD
TZOFFSETFROM:+0000
TZOFFSETTO:+0000
TZNAME:UTC
DTSTART:20180101T000000
END:STANDARD
END:VTIMEZONE
BEGIN:VTIMEZONE
TZID:Europe/Paris
BEGIN:DAYLIGHT
TZOFFSETFROM:+0100
TZOFFSETTO:+0200
TZNAME:CEST
DTSTART:20180325T010000
END:DAYLIGHT
BEGIN:STANDARD
TZOFFSETFROM:+0200
TZOFFSETTO:+0100
TZNAME:CET
DTSTART:20181028T010000
END:STANDARD
BEGIN:DAYLIGHT
TZOFFSETFROM:+0100
TZOFFSETTO:+0200
TZNAME:CEST
DTSTART:20190331T010000
END:DAYLIGHT
BEGIN:STANDARD
TZOFFSETFROM:+0200
TZOFFSETTO:+0100
TZNAME:CET
DTSTART:20191027T010000
END:STANDARD
BEGIN:DAYLIGHT
TZOFFSETFROM:+0100
TZOFFSETTO:+0200
TZNAME:CEST
DTSTART:20200329T010000
END:DAYLIGHT
BEGIN:STANDARD
TZOFFSETFROM:+0200
TZOFFSETTO:+0100
TZNAME:CET
DTSTART:20201025T010000
END:STANDARD
END:VTIMEZONE
BEGIN:VTIMEZONE
TZID:Europe/Madrid
BEGIN:DAYLIGHT
TZOFFSETFROM:+0100
TZOFFSETTO:+0200
TZNAME:CEST
DTSTART:20180325T010000
END:DAYLIGHT
BEGIN:STANDARD
TZOFFSETFROM:+0200
TZOFFSETTO:+0100
TZNAME:CET
DTSTART:20181028T010000
END:STANDARD
BEGIN:DAYLIGHT
TZOFFSETFROM:+0100
TZOFFSETTO:+0200
TZNAME:CEST
DTSTART:20190331T010000
END:DAYLIGHT
BEGIN:STANDARD
TZOFFSETFROM:+0200
TZOFFSETTO:+0100
TZNAME:CET
DTSTART:20191027T010000
END:STANDARD
BEGIN:DAYLIGHT
TZOFFSETFROM:+0100
TZOFFSETTO:+0200
TZNAME:CEST
DTSTART:20200329T010000
END:DAYLIGHT
BEGIN:STANDARD
TZOFFSETFROM:+0200
TZOFFSETTO:+0100
TZNAME:CET
DTSTART:20201025T010000
END:STANDARD
END:VTIMEZONE
BEGIN:VTIMEZONE
TZID:Europe/Rome
BEGIN:DAYLIGHT
TZOFFSETFROM:+0100
TZOFFSETTO:+0200
TZNAME:CEST
DTSTART:20180325T010000
END:DAYLIGHT
BEGIN:STANDARD
TZOFFSETFROM:+0200
TZOFFSETTO:+0100
TZNAME:CET
DTSTART:20181028T010000
END:STANDARD
BEGIN:DAYLIGHT
TZOFFSETFROM:+0100
TZOFFSETTO:+0200
TZNAME:CEST
DTSTART:20190331T010000
END:DAYLIGHT
BEGIN:STANDARD
TZOFFSETFROM:+0200
TZOFFSETTO:+0100
TZNAME:CET
DTSTART:20191027T010000
END:STANDARD
BEGIN:DAYLIGHT
TZOFFSETFROM:+0100
TZOFFSETTO:+0200
TZNAME:CEST
DTSTART:20200329T010000
END:DAYLIGHT
BEGIN:STANDARD
TZOFFSETFROM:+0200
TZOFFSETTO:+0100
TZNAME:CET
DTSTART:20201025T010000
END:STANDARD
END:VTIMEZONE
BEGIN:VEVENT
DTSTART;TZID=UTC:20191206T190000
DTEND;TZID=UTC:20191206T210000
DTSTAMP:20260424T164023
CREATED:20190423T084312Z
LAST-MODIFIED:20190423T084312Z
UID:4642-1575658800-1575666000@celebrationdayforgirls.com
SUMMARY:Mothers Session\, Mother Daughter Retreat\, Marbella\, Spain
DESCRIPTION:This is part of the Mother Daughter retreat run by the organiser Mariana Zavery\, please contact her for more details.
URL:https://celebrationdayforgirls.com/event/mothers-session-mother-daughter-retreat-marbella-spain/
LOCATION:Marbella\, Spain
ORGANIZER;CN="Mariana Zavery":MAILTO:sprout@astralize.com
END:VEVENT
BEGIN:VEVENT
DTSTART;TZID=Europe/Paris:20191207T100000
DTEND;TZID=Europe/Paris:20191207T120000
DTSTAMP:20260424T164023
CREATED:20191005T094248Z
LAST-MODIFIED:20191005T094248Z
UID:4891-1575712800-1575720000@celebrationdayforgirls.com
SUMMARY:Fathers Celebrating Daughters\, Narbonne\, France
DESCRIPTION:Places are available for this event.
URL:https://celebrationdayforgirls.com/event/fathers-celebrating-daughters-narbonne-france/
LOCATION:Narbonne\, Narbonne\, France
ORGANIZER;CN="Brigitte Laurent":MAILTO:terresdefemmes@outlook.fr
END:VEVENT
BEGIN:VEVENT
DTSTART;TZID=UTC:20191207T100000
DTEND;TZID=UTC:20191207T160000
DTSTAMP:20260424T164023
CREATED:20190423T084416Z
LAST-MODIFIED:20190423T084416Z
UID:4644-1575712800-1575734400@celebrationdayforgirls.com
SUMMARY:Celebration Day for Girls\, Mother Daughter Retreat\, Marbella\, Spain
DESCRIPTION:Please contact the organiser for more information about this event.
URL:https://celebrationdayforgirls.com/event/celebration-day-for-girls-mother-daughter-retreat-marbella-spain/
LOCATION:Marbella\, Spain
ORGANIZER;CN="Mariana Zavery":MAILTO:sprout@astralize.com
END:VEVENT
BEGIN:VEVENT
DTSTART;TZID=Europe/Paris:20191207T140000
DTEND;TZID=Europe/Paris:20191207T160000
DTSTAMP:20260424T164023
CREATED:20191005T094129Z
LAST-MODIFIED:20191005T094129Z
UID:4889-1575727200-1575734400@celebrationdayforgirls.com
SUMMARY:Mother's Session\, Narbonne\, France
DESCRIPTION:Places are available for this event.
URL:https://celebrationdayforgirls.com/event/mothers-session-narbonne-france-4/
LOCATION:Narbonne\, Narbonne\, France
ORGANIZER;CN="Brigitte Laurent":MAILTO:terresdefemmes@outlook.fr
END:VEVENT
BEGIN:VEVENT
DTSTART;TZID=Europe/Madrid:20191208T100000
DTEND;TZID=Europe/Madrid:20191208T160000
DTSTAMP:20260424T164023
CREATED:20190919T101608Z
LAST-MODIFIED:20190919T101608Z
UID:4827-1575799200-1575820800@celebrationdayforgirls.com
SUMMARY:Celebration Day for Girls\, Benagalbon\, Spain
DESCRIPTION:Places are available for this event.
URL:https://celebrationdayforgirls.com/event/celebration-day-for-girls-benagalbon-spain/
LOCATION:Benagalbon\, Benagalbon\, Spain
ORGANIZER;CN="Mariana Zavery":MAILTO:sprout@astralize.com
END:VEVENT
BEGIN:VEVENT
DTSTART;TZID=Europe/Paris:20191208T100000
DTEND;TZID=Europe/Paris:20191208T160000
DTSTAMP:20260424T164023
CREATED:20191005T093951Z
LAST-MODIFIED:20191005T093951Z
UID:4887-1575799200-1575820800@celebrationdayforgirls.com
SUMMARY:Celebration Day for Girls\, Narbonne\, France
DESCRIPTION:Places are available for this event.
URL:https://celebrationdayforgirls.com/event/celebration-day-for-girls-narbonne-france-3/
LOCATION:Narbonne\, Narbonne\, France
ORGANIZER;CN="Brigitte Laurent":MAILTO:terresdefemmes@outlook.fr
END:VEVENT
BEGIN:VEVENT
DTSTART;TZID=Europe/Rome:20191222T100000
DTEND;TZID=Europe/Rome:20191222T160000
DTSTAMP:20260424T164023
CREATED:20191120T105220Z
LAST-MODIFIED:20191120T105220Z
UID:4947-1577008800-1577030400@celebrationdayforgirls.com
SUMMARY:Celebration Day for Girls\, Verona\, Italy
DESCRIPTION:Places are available for this event.
URL:https://celebrationdayforgirls.com/event/celebration-day-for-girls-verona-italy/
LOCATION:Verona\, Verona\, Italy
ORGANIZER;CN="Sara Spiazzi":MAILTO:sarettasdress@hotmail.it
END:VEVENT
END:VCALENDAR