BEGIN:VCALENDAR
VERSION:2.0
PRODID:-//Celebration Day For Girls - ECPv6.15.20//NONSGML v1.0//EN
CALSCALE:GREGORIAN
METHOD:PUBLISH
X-ORIGINAL-URL:https://celebrationdayforgirls.com
X-WR-CALDESC:Events for Celebration Day For Girls
REFRESH-INTERVAL;VALUE=DURATION:PT1H
X-Robots-Tag:noindex
X-PUBLISHED-TTL:PT1H
BEGIN:VTIMEZONE
TZID:UTC
BEGIN:STANDARD
TZOFFSETFROM:+0000
TZOFFSETTO:+0000
TZNAME:UTC
DTSTART:20160101T000000
END:STANDARD
END:VTIMEZONE
BEGIN:VTIMEZONE
TZID:Europe/Paris
BEGIN:DAYLIGHT
TZOFFSETFROM:+0100
TZOFFSETTO:+0200
TZNAME:CEST
DTSTART:20160327T010000
END:DAYLIGHT
BEGIN:STANDARD
TZOFFSETFROM:+0200
TZOFFSETTO:+0100
TZNAME:CET
DTSTART:20161030T010000
END:STANDARD
BEGIN:DAYLIGHT
TZOFFSETFROM:+0100
TZOFFSETTO:+0200
TZNAME:CEST
DTSTART:20170326T010000
END:DAYLIGHT
BEGIN:STANDARD
TZOFFSETFROM:+0200
TZOFFSETTO:+0100
TZNAME:CET
DTSTART:20171029T010000
END:STANDARD
BEGIN:DAYLIGHT
TZOFFSETFROM:+0100
TZOFFSETTO:+0200
TZNAME:CEST
DTSTART:20180325T010000
END:DAYLIGHT
BEGIN:STANDARD
TZOFFSETFROM:+0200
TZOFFSETTO:+0100
TZNAME:CET
DTSTART:20181028T010000
END:STANDARD
END:VTIMEZONE
BEGIN:VTIMEZONE
TZID:Australia/Melbourne
BEGIN:STANDARD
TZOFFSETFROM:+1100
TZOFFSETTO:+1000
TZNAME:AEST
DTSTART:20160402T160000
END:STANDARD
BEGIN:DAYLIGHT
TZOFFSETFROM:+1000
TZOFFSETTO:+1100
TZNAME:AEDT
DTSTART:20161001T160000
END:DAYLIGHT
BEGIN:STANDARD
TZOFFSETFROM:+1100
TZOFFSETTO:+1000
TZNAME:AEST
DTSTART:20170401T160000
END:STANDARD
BEGIN:DAYLIGHT
TZOFFSETFROM:+1000
TZOFFSETTO:+1100
TZNAME:AEDT
DTSTART:20170930T160000
END:DAYLIGHT
BEGIN:STANDARD
TZOFFSETFROM:+1100
TZOFFSETTO:+1000
TZNAME:AEST
DTSTART:20180331T160000
END:STANDARD
BEGIN:DAYLIGHT
TZOFFSETFROM:+1000
TZOFFSETTO:+1100
TZNAME:AEDT
DTSTART:20181006T160000
END:DAYLIGHT
END:VTIMEZONE
BEGIN:VTIMEZONE
TZID:Australia/Sydney
BEGIN:STANDARD
TZOFFSETFROM:+1100
TZOFFSETTO:+1000
TZNAME:AEST
DTSTART:20160402T160000
END:STANDARD
BEGIN:DAYLIGHT
TZOFFSETFROM:+1000
TZOFFSETTO:+1100
TZNAME:AEDT
DTSTART:20161001T160000
END:DAYLIGHT
BEGIN:STANDARD
TZOFFSETFROM:+1100
TZOFFSETTO:+1000
TZNAME:AEST
DTSTART:20170401T160000
END:STANDARD
BEGIN:DAYLIGHT
TZOFFSETFROM:+1000
TZOFFSETTO:+1100
TZNAME:AEDT
DTSTART:20170930T160000
END:DAYLIGHT
BEGIN:STANDARD
TZOFFSETFROM:+1100
TZOFFSETTO:+1000
TZNAME:AEST
DTSTART:20180331T160000
END:STANDARD
BEGIN:DAYLIGHT
TZOFFSETFROM:+1000
TZOFFSETTO:+1100
TZNAME:AEDT
DTSTART:20181006T160000
END:DAYLIGHT
END:VTIMEZONE
BEGIN:VEVENT
DTSTART;TZID=UTC:20170506T100000
DTEND;TZID=UTC:20170506T160000
DTSTAMP:20260425T113312
CREATED:20170322T201626Z
LAST-MODIFIED:20170322T201626Z
UID:3478-1494064800-1494086400@celebrationdayforgirls.com
SUMMARY:Celebration Day for Girls\, Bendigo\, VIC
DESCRIPTION:There are places available for this event
URL:https://celebrationdayforgirls.com/event/celebration-day-for-girls-bendigo-vic-2-2/
ORGANIZER;CN="Bek Honey":MAILTO:bek@openheartwisdom.com
END:VEVENT
BEGIN:VEVENT
DTSTART;TZID=UTC:20170506T100000
DTEND;TZID=UTC:20170506T160000
DTSTAMP:20260425T113312
CREATED:20170322T201626Z
LAST-MODIFIED:20170322T201626Z
UID:2247-1494064800-1494086400@celebrationdayforgirls.com
SUMMARY:Celebration Day for Girls\, Bendigo\, VIC
DESCRIPTION:There are places available for this event
URL:https://celebrationdayforgirls.com/event/celebration-day-for-girls-bendigo-vic-2/
ORGANIZER;CN="Bek Honey":MAILTO:bek@openheartwisdom.com
END:VEVENT
BEGIN:VEVENT
DTSTART;TZID=Europe/Paris:20170507T100000
DTEND;TZID=Europe/Paris:20170507T160000
DTSTAMP:20260425T113312
CREATED:20170805T201200Z
LAST-MODIFIED:20170805T201200Z
UID:2438-1494151200-1494172800@celebrationdayforgirls.com
SUMMARY:Feter la Puberte\, Narbonne\, France
DESCRIPTION:Places are available for this event.
URL:https://celebrationdayforgirls.com/event/feter-la-puberte-narbonne-france-2/
LOCATION:Narbonne\, Narbonne\, France
ORGANIZER;CN="Brigitte Laurent":MAILTO:terresdefemmes@outlook.fr
END:VEVENT
BEGIN:VEVENT
DTSTART;TZID=Europe/Paris:20170507T100000
DTEND;TZID=Europe/Paris:20170507T160000
DTSTAMP:20260425T113312
CREATED:20170805T201200Z
LAST-MODIFIED:20170805T201200Z
UID:3531-1494151200-1494172800@celebrationdayforgirls.com
SUMMARY:Feter la Puberte\, Narbonne\, France
DESCRIPTION:Places are available for this event.
URL:https://celebrationdayforgirls.com/event/feter-la-puberte-narbonne-france-2-2/
LOCATION:Narbonne\, Narbonne\, France
ORGANIZER;CN="Brigitte Laurent":MAILTO:terresdefemmes@outlook.fr
END:VEVENT
BEGIN:VEVENT
DTSTART;TZID=Australia/Melbourne:20170514T100000
DTEND;TZID=Australia/Melbourne:20170514T160000
DTSTAMP:20260425T113312
CREATED:20170511T204244Z
LAST-MODIFIED:20170511T204244Z
UID:3504-1494756000-1494777600@celebrationdayforgirls.com
SUMMARY:Celebration Day for Girls\, Castlemaine\, VIC
DESCRIPTION:Places are available for this event.
URL:https://celebrationdayforgirls.com/event/celebration-day-for-girls-castlemaine-vic-5-2/
LOCATION:Castlemaine
ORGANIZER;CN="Rachel Pilgrim":MAILTO:rachel.pilgrim@yahoo.com
END:VEVENT
BEGIN:VEVENT
DTSTART;TZID=Australia/Melbourne:20170514T100000
DTEND;TZID=Australia/Melbourne:20170514T160000
DTSTAMP:20260425T113312
CREATED:20170511T204244Z
LAST-MODIFIED:20170511T204244Z
UID:2315-1494756000-1494777600@celebrationdayforgirls.com
SUMMARY:Celebration Day for Girls\, Castlemaine\, VIC
DESCRIPTION:Places are available for this event.
URL:https://celebrationdayforgirls.com/event/celebration-day-for-girls-castlemaine-vic-5/
LOCATION:Castlemaine
ORGANIZER;CN="Rachel Pilgrim":MAILTO:rachel.pilgrim@yahoo.com
END:VEVENT
BEGIN:VEVENT
DTSTART;TZID=Australia/Sydney:20170516T183000
DTEND;TZID=Australia/Sydney:20170516T203000
DTSTAMP:20260425T113312
CREATED:20170409T124128Z
LAST-MODIFIED:20170409T124128Z
UID:3496-1494959400-1494966600@celebrationdayforgirls.com
SUMMARY:Mother's Session\, Albury/Wodonga\, NSW
DESCRIPTION:Places are available for this event.
URL:https://celebrationdayforgirls.com/event/mothers-session-alburywodonga-nsw-3/
LOCATION:albury/wodonga\, Albury/Wodonga\, New South Wales\, Australia
ORGANIZER;CN="Cathy Giltrap":MAILTO:cathy@celebrationday.me
END:VEVENT
BEGIN:VEVENT
DTSTART;TZID=Australia/Sydney:20170516T183000
DTEND;TZID=Australia/Sydney:20170516T203000
DTSTAMP:20260425T113312
CREATED:20170409T124128Z
LAST-MODIFIED:20170409T124128Z
UID:2290-1494959400-1494966600@celebrationdayforgirls.com
SUMMARY:Mother's Session\, Albury/Wodonga\, NSW
DESCRIPTION:Places are available for this event.
URL:https://celebrationdayforgirls.com/event/mothers-session-alburywodonga-nsw/
LOCATION:albury/wodonga\, Albury/Wodonga\, New South Wales\, Australia
ORGANIZER;CN="Cathy Giltrap":MAILTO:cathy@celebrationday.me
END:VEVENT
BEGIN:VEVENT
DTSTART;TZID=UTC:20170521T100000
DTEND;TZID=UTC:20170521T160000
DTSTAMP:20260425T113312
CREATED:20170321T184602Z
LAST-MODIFIED:20170321T184602Z
UID:3474-1495360800-1495382400@celebrationdayforgirls.com
SUMMARY:Celebration Day for Girls\, Ocean Grove\, VIC
DESCRIPTION:There are places available for this event
URL:https://celebrationdayforgirls.com/event/celebration-day-for-girls-ocean-grove-vic-2/
END:VEVENT
BEGIN:VEVENT
DTSTART;TZID=UTC:20170521T100000
DTEND;TZID=UTC:20170521T160000
DTSTAMP:20260425T113312
CREATED:20170321T184602Z
LAST-MODIFIED:20170321T184602Z
UID:2238-1495360800-1495382400@celebrationdayforgirls.com
SUMMARY:Celebration Day for Girls\, Ocean Grove\, VIC
DESCRIPTION:There are places available for this event
URL:https://celebrationdayforgirls.com/event/celebration-day-for-girls-ocean-grove-vic/
END:VEVENT
BEGIN:VEVENT
DTSTART;TZID=Australia/Sydney:20170521T100000
DTEND;TZID=Australia/Sydney:20170521T163000
DTSTAMP:20260425T113312
CREATED:20170409T123829Z
LAST-MODIFIED:20170409T123829Z
UID:3495-1495360800-1495384200@celebrationdayforgirls.com
SUMMARY:Celebration Day for Girls\, Albury/Wodonga\, NSW
DESCRIPTION:Places are available for this event.
URL:https://celebrationdayforgirls.com/event/celebration-day-for-girls-alburywodonga-nsw-4/
LOCATION:albury/wodonga\, Albury/Wodonga\, New South Wales\, Australia
ORGANIZER;CN="Cathy Giltrap":MAILTO:cathy@celebrationday.me
END:VEVENT
BEGIN:VEVENT
DTSTART;TZID=Australia/Sydney:20170521T100000
DTEND;TZID=Australia/Sydney:20170521T163000
DTSTAMP:20260425T113312
CREATED:20170409T123829Z
LAST-MODIFIED:20170409T123829Z
UID:2288-1495360800-1495384200@celebrationdayforgirls.com
SUMMARY:Celebration Day for Girls\, Albury/Wodonga\, NSW
DESCRIPTION:Places are available for this event.
URL:https://celebrationdayforgirls.com/event/celebration-day-for-girls-alburywodonga-nsw/
LOCATION:albury/wodonga\, Albury/Wodonga\, New South Wales\, Australia
ORGANIZER;CN="Cathy Giltrap":MAILTO:cathy@celebrationday.me
END:VEVENT
BEGIN:VEVENT
DTSTART;TZID=UTC:20170527T100000
DTEND;TZID=UTC:20170527T160000
DTSTAMP:20260425T113312
CREATED:20170322T201755Z
LAST-MODIFIED:20170322T201755Z
UID:3479-1495879200-1495900800@celebrationdayforgirls.com
SUMMARY:Cool on the Inside\, Bendigo\, VIC
DESCRIPTION:There are places available for this event
URL:https://celebrationdayforgirls.com/event/cool-on-the-inside-bendigo-vic-2-2/
ORGANIZER;CN="Bek Honey":MAILTO:bek@openheartwisdom.com
END:VEVENT
BEGIN:VEVENT
DTSTART;TZID=UTC:20170527T100000
DTEND;TZID=UTC:20170527T160000
DTSTAMP:20260425T113312
CREATED:20170322T201755Z
LAST-MODIFIED:20170322T201755Z
UID:2250-1495879200-1495900800@celebrationdayforgirls.com
SUMMARY:Cool on the Inside\, Bendigo\, VIC
DESCRIPTION:There are places available for this event
URL:https://celebrationdayforgirls.com/event/cool-on-the-inside-bendigo-vic-2/
ORGANIZER;CN="Bek Honey":MAILTO:bek@openheartwisdom.com
END:VEVENT
BEGIN:VEVENT
DTSTART;TZID=Australia/Sydney:20170528T100000
DTEND;TZID=Australia/Sydney:20170528T160000
DTSTAMP:20260425T113312
CREATED:20170508T094249Z
LAST-MODIFIED:20170508T094249Z
UID:2311-1495965600-1495987200@celebrationdayforgirls.com
SUMMARY:Celebration Day for Girls\, St Ives\, NSW
DESCRIPTION:Places are available for this event.
URL:https://celebrationdayforgirls.com/event/celebration-day-for-girls-st-ives-nsw/
LOCATION:St. Ives\, New South Wales\, St. Ives\, New South Wales\, Australia
ORGANIZER;CN="Monique Winderbaum":MAILTO:monique.winderbaum@gmail.com
END:VEVENT
BEGIN:VEVENT
DTSTART;TZID=Australia/Sydney:20170528T100000
DTEND;TZID=Australia/Sydney:20170528T160000
DTSTAMP:20260425T113312
CREATED:20170508T094249Z
LAST-MODIFIED:20170508T094249Z
UID:3503-1495965600-1495987200@celebrationdayforgirls.com
SUMMARY:Celebration Day for Girls\, St Ives\, NSW
DESCRIPTION:Places are available for this event.
URL:https://celebrationdayforgirls.com/event/celebration-day-for-girls-st-ives-nsw-2/
LOCATION:St. Ives\, New South Wales\, St. Ives\, New South Wales\, Australia
ORGANIZER;CN="Monique Winderbaum":MAILTO:monique.winderbaum@gmail.com
END:VEVENT
BEGIN:VEVENT
DTSTART;TZID=Australia/Melbourne:20170528T100000
DTEND;TZID=Australia/Melbourne:20170528T160000
DTSTAMP:20260425T113312
CREATED:20170530T103131Z
LAST-MODIFIED:20170530T103131Z
UID:3505-1495965600-1495987200@celebrationdayforgirls.com
SUMMARY:Celebration Day for Girls\, Melbourne\, VIC
DESCRIPTION:This is a class event.
URL:https://celebrationdayforgirls.com/event/celebration-day-for-girls-melbourne-vic-2/
LOCATION:Ghilgai School\, Kilsyth\, Australia
ORGANIZER;CN="Lori Conn":MAILTO:laconn74@gmail.com
END:VEVENT
BEGIN:VEVENT
DTSTART;TZID=Australia/Melbourne:20170528T100000
DTEND;TZID=Australia/Melbourne:20170528T160000
DTSTAMP:20260425T113312
CREATED:20170530T103131Z
LAST-MODIFIED:20170530T103131Z
UID:2321-1495965600-1495987200@celebrationdayforgirls.com
SUMMARY:Celebration Day for Girls\, Melbourne\, VIC
DESCRIPTION:This is a class event.
URL:https://celebrationdayforgirls.com/event/celebration-day-for-girls-melbourne-vic/
LOCATION:Ghilgai School\, Kilsyth\, Australia
ORGANIZER;CN="Lori Conn":MAILTO:laconn74@gmail.com
END:VEVENT
END:VCALENDAR