BEGIN:VCALENDAR
VERSION:2.0
PRODID:-//Celebration Day For Girls - ECPv6.15.20//NONSGML v1.0//EN
CALSCALE:GREGORIAN
METHOD:PUBLISH
X-WR-CALNAME:Celebration Day For Girls
X-ORIGINAL-URL:https://celebrationdayforgirls.com
X-WR-CALDESC:Events for Celebration Day For Girls
REFRESH-INTERVAL;VALUE=DURATION:PT1H
X-Robots-Tag:noindex
X-PUBLISHED-TTL:PT1H
BEGIN:VTIMEZONE
TZID:UTC
BEGIN:STANDARD
TZOFFSETFROM:+0000
TZOFFSETTO:+0000
TZNAME:UTC
DTSTART:20150101T000000
END:STANDARD
END:VTIMEZONE
BEGIN:VTIMEZONE
TZID:Australia/Melbourne
BEGIN:STANDARD
TZOFFSETFROM:+1100
TZOFFSETTO:+1000
TZNAME:AEST
DTSTART:20150404T160000
END:STANDARD
BEGIN:DAYLIGHT
TZOFFSETFROM:+1000
TZOFFSETTO:+1100
TZNAME:AEDT
DTSTART:20151003T160000
END:DAYLIGHT
BEGIN:STANDARD
TZOFFSETFROM:+1100
TZOFFSETTO:+1000
TZNAME:AEST
DTSTART:20160402T160000
END:STANDARD
BEGIN:DAYLIGHT
TZOFFSETFROM:+1000
TZOFFSETTO:+1100
TZNAME:AEDT
DTSTART:20161001T160000
END:DAYLIGHT
BEGIN:STANDARD
TZOFFSETFROM:+1100
TZOFFSETTO:+1000
TZNAME:AEST
DTSTART:20170401T160000
END:STANDARD
BEGIN:DAYLIGHT
TZOFFSETFROM:+1000
TZOFFSETTO:+1100
TZNAME:AEDT
DTSTART:20170930T160000
END:DAYLIGHT
END:VTIMEZONE
BEGIN:VEVENT
DTSTART;TZID=UTC:20161203T140000
DTEND;TZID=UTC:20161203T160000
DTSTAMP:20260425T200341
CREATED:20161104T235712Z
LAST-MODIFIED:20161104T235712Z
UID:3450-1480773600-1480780800@celebrationdayforgirls.com
SUMMARY:Mother's Session\, Narbonne\, Languedoc-Roussillon\, France
DESCRIPTION:Places are available for this event.
URL:https://celebrationdayforgirls.com/event/mothers-session-narbonne-languedoc-roussillon-france-2/
LOCATION:Narbonne\, Languedoc-Roussillon\, France
ORGANIZER;CN="Brigette Laurent":MAILTO:terresdefemmes@outlook.fr
END:VEVENT
BEGIN:VEVENT
DTSTART;TZID=UTC:20161203T140000
DTEND;TZID=UTC:20161203T160000
DTSTAMP:20260425T200341
CREATED:20161104T235712Z
LAST-MODIFIED:20161104T235712Z
UID:2150-1480773600-1480780800@celebrationdayforgirls.com
SUMMARY:Mother's Session\, Narbonne\, Languedoc-Roussillon\, France
DESCRIPTION:Places are available for this event.
URL:https://celebrationdayforgirls.com/event/mothers-session-narbonne-languedoc-roussillon-france/
LOCATION:Narbonne\, Languedoc-Roussillon\, France
ORGANIZER;CN="Brigette Laurent":MAILTO:terresdefemmes@outlook.fr
END:VEVENT
BEGIN:VEVENT
DTSTART;TZID=UTC:20161204T100000
DTEND;TZID=UTC:20161204T160000
DTSTAMP:20260425T200341
CREATED:20161104T235427Z
LAST-MODIFIED:20161104T235427Z
UID:3449-1480845600-1480867200@celebrationdayforgirls.com
SUMMARY:Feter la Puberte\, Narbonne\, Languedoc-Roussillon\, France
DESCRIPTION:Places are available for this event.
URL:https://celebrationdayforgirls.com/event/feter-la-puberte-narbonne-languedoc-roussillon-france-2/
LOCATION:Narbonne\, Languedoc-Roussillon\, France
ORGANIZER;CN="Brigette Laurent":MAILTO:terresdefemmes@outlook.fr
END:VEVENT
BEGIN:VEVENT
DTSTART;TZID=UTC:20161204T100000
DTEND;TZID=UTC:20161204T160000
DTSTAMP:20260425T200341
CREATED:20161104T235427Z
LAST-MODIFIED:20161104T235427Z
UID:2147-1480845600-1480867200@celebrationdayforgirls.com
SUMMARY:Feter la Puberte\, Narbonne\, Languedoc-Roussillon\, France
DESCRIPTION:Places are available for this event.
URL:https://celebrationdayforgirls.com/event/feter-la-puberte-narbonne-languedoc-roussillon-france/
LOCATION:Narbonne\, Languedoc-Roussillon\, France
ORGANIZER;CN="Brigette Laurent":MAILTO:terresdefemmes@outlook.fr
END:VEVENT
BEGIN:VEVENT
DTSTART;TZID=Australia/Melbourne:20161211T100000
DTEND;TZID=Australia/Melbourne:20161211T160000
DTSTAMP:20260425T200341
CREATED:20161116T100155Z
LAST-MODIFIED:20161116T100155Z
UID:3456-1481450400-1481472000@celebrationdayforgirls.com
SUMMARY:Celebration Day for Girls\, Castlemaine\, VIC
DESCRIPTION:Places are available for this event.
URL:https://celebrationdayforgirls.com/event/celebration-day-for-girls-castlemaine-vic-3-2/
LOCATION:Castlemaine\, Victoria\, Australia
ORGANIZER;CN="Rachel Pilgrim":MAILTO:rachel.pilgrim@yahoo.com
END:VEVENT
BEGIN:VEVENT
DTSTART;TZID=Australia/Melbourne:20161211T100000
DTEND;TZID=Australia/Melbourne:20161211T160000
DTSTAMP:20260425T200341
CREATED:20161116T100155Z
LAST-MODIFIED:20161116T100155Z
UID:2177-1481450400-1481472000@celebrationdayforgirls.com
SUMMARY:Celebration Day for Girls\, Castlemaine\, VIC
DESCRIPTION:Places are available for this event.
URL:https://celebrationdayforgirls.com/event/celebration-day-for-girls-castlemaine-vic-3/
LOCATION:Castlemaine\, Victoria\, Australia
ORGANIZER;CN="Rachel Pilgrim":MAILTO:rachel.pilgrim@yahoo.com
END:VEVENT
END:VCALENDAR