BEGIN:VCALENDAR
VERSION:2.0
PRODID:-//Celebration Day For Girls - ECPv6.15.20//NONSGML v1.0//EN
CALSCALE:GREGORIAN
METHOD:PUBLISH
X-ORIGINAL-URL:https://celebrationdayforgirls.com
X-WR-CALDESC:Events for Celebration Day For Girls
REFRESH-INTERVAL;VALUE=DURATION:PT1H
X-Robots-Tag:noindex
X-PUBLISHED-TTL:PT1H
BEGIN:VTIMEZONE
TZID:UTC
BEGIN:STANDARD
TZOFFSETFROM:+0000
TZOFFSETTO:+0000
TZNAME:UTC
DTSTART:20150101T000000
END:STANDARD
END:VTIMEZONE
BEGIN:VTIMEZONE
TZID:Australia/Sydney
BEGIN:STANDARD
TZOFFSETFROM:+1100
TZOFFSETTO:+1000
TZNAME:AEST
DTSTART:20150404T160000
END:STANDARD
BEGIN:DAYLIGHT
TZOFFSETFROM:+1000
TZOFFSETTO:+1100
TZNAME:AEDT
DTSTART:20151003T160000
END:DAYLIGHT
BEGIN:STANDARD
TZOFFSETFROM:+1100
TZOFFSETTO:+1000
TZNAME:AEST
DTSTART:20160402T160000
END:STANDARD
BEGIN:DAYLIGHT
TZOFFSETFROM:+1000
TZOFFSETTO:+1100
TZNAME:AEDT
DTSTART:20161001T160000
END:DAYLIGHT
BEGIN:STANDARD
TZOFFSETFROM:+1100
TZOFFSETTO:+1000
TZNAME:AEST
DTSTART:20170401T160000
END:STANDARD
BEGIN:DAYLIGHT
TZOFFSETFROM:+1000
TZOFFSETTO:+1100
TZNAME:AEDT
DTSTART:20170930T160000
END:DAYLIGHT
END:VTIMEZONE
BEGIN:VTIMEZONE
TZID:Australia/Melbourne
BEGIN:STANDARD
TZOFFSETFROM:+1100
TZOFFSETTO:+1000
TZNAME:AEST
DTSTART:20150404T160000
END:STANDARD
BEGIN:DAYLIGHT
TZOFFSETFROM:+1000
TZOFFSETTO:+1100
TZNAME:AEDT
DTSTART:20151003T160000
END:DAYLIGHT
BEGIN:STANDARD
TZOFFSETFROM:+1100
TZOFFSETTO:+1000
TZNAME:AEST
DTSTART:20160402T160000
END:STANDARD
BEGIN:DAYLIGHT
TZOFFSETFROM:+1000
TZOFFSETTO:+1100
TZNAME:AEDT
DTSTART:20161001T160000
END:DAYLIGHT
BEGIN:STANDARD
TZOFFSETFROM:+1100
TZOFFSETTO:+1000
TZNAME:AEST
DTSTART:20170401T160000
END:STANDARD
BEGIN:DAYLIGHT
TZOFFSETFROM:+1000
TZOFFSETTO:+1100
TZNAME:AEDT
DTSTART:20170930T160000
END:DAYLIGHT
END:VTIMEZONE
BEGIN:VEVENT
DTSTART;TZID=UTC:20160803T190000
DTEND;TZID=UTC:20160803T210000
DTSTAMP:20260426T022148
CREATED:20160602T002603Z
LAST-MODIFIED:20160602T002603Z
UID:3393-1470250800-1470258000@celebrationdayforgirls.com
SUMMARY:Mother's Preparation Session\, Adelaide\, SA
DESCRIPTION:There are places available for this workshop
URL:https://celebrationdayforgirls.com/event/mothers-preparation-session-adelaide-sa-2/
LOCATION:Unnamed Venue\, Adelaide\, South Australia\, Australia
ORGANIZER;CN="Fiona House":MAILTO:fionachouse@gmail.com
END:VEVENT
BEGIN:VEVENT
DTSTART;TZID=UTC:20160803T190000
DTEND;TZID=UTC:20160803T210000
DTSTAMP:20260426T022148
CREATED:20160602T002603Z
LAST-MODIFIED:20160602T002603Z
UID:1870-1470250800-1470258000@celebrationdayforgirls.com
SUMMARY:Mother's Preparation Session\, Adelaide\, SA
DESCRIPTION:There are places available for this workshop
URL:https://celebrationdayforgirls.com/event/mothers-preparation-session-adelaide-sa/
LOCATION:Unnamed Venue\, Adelaide\, South Australia\, Australia
ORGANIZER;CN="Fiona House":MAILTO:fionachouse@gmail.com
END:VEVENT
BEGIN:VEVENT
DTSTART;TZID=UTC:20160806T100000
DTEND;TZID=UTC:20160806T160000
DTSTAMP:20260426T022148
CREATED:20160310T065054Z
LAST-MODIFIED:20160310T065054Z
UID:1728-1470477600-1470499200@celebrationdayforgirls.com
SUMMARY:Celebration Day for Girls\, Adelaide\, SA
DESCRIPTION:There are places available for this event.
URL:https://celebrationdayforgirls.com/event/celebration-day-for-girls-adelaide-sa/
LOCATION:Adelaide\, South Australia\, Australia
ORGANIZER;CN="Fiona House":MAILTO:fionachouse@gmail.com
END:VEVENT
BEGIN:VEVENT
DTSTART;TZID=UTC:20160806T100000
DTEND;TZID=UTC:20160806T160000
DTSTAMP:20260426T022148
CREATED:20160310T065054Z
LAST-MODIFIED:20160310T065054Z
UID:3355-1470477600-1470499200@celebrationdayforgirls.com
SUMMARY:Celebration Day for Girls\, Adelaide\, SA
DESCRIPTION:There are places available for this event.
URL:https://celebrationdayforgirls.com/event/celebration-day-for-girls-adelaide-sa-6/
LOCATION:Adelaide\, South Australia\, Australia
ORGANIZER;CN="Fiona House":MAILTO:fionachouse@gmail.com
END:VEVENT
BEGIN:VEVENT
DTSTART;TZID=Australia/Sydney:20160806T160000
DTEND;TZID=Australia/Sydney:20160806T180000
DTSTAMP:20260426T022148
CREATED:20160726T101501Z
LAST-MODIFIED:20160726T101501Z
UID:3420-1470499200-1470506400@celebrationdayforgirls.com
SUMMARY:Mother's Session\, Mulwala\, NSW
DESCRIPTION:Places are available for this event.
URL:https://celebrationdayforgirls.com/event/mothers-session-mulwala-nsw-2/
LOCATION:Mulwala\, New South Wales\, Australia
ORGANIZER;CN="Cathy Giltrap":MAILTO:cathy@celebrationday.me
END:VEVENT
BEGIN:VEVENT
DTSTART;TZID=Australia/Sydney:20160806T160000
DTEND;TZID=Australia/Sydney:20160806T180000
DTSTAMP:20260426T022148
CREATED:20160726T101501Z
LAST-MODIFIED:20160726T101501Z
UID:1999-1470499200-1470506400@celebrationdayforgirls.com
SUMMARY:Mother's Session\, Mulwala\, NSW
DESCRIPTION:Places are available for this event.
URL:https://celebrationdayforgirls.com/event/mothers-session-mulwala-nsw/
LOCATION:Mulwala\, New South Wales\, Australia
ORGANIZER;CN="Cathy Giltrap":MAILTO:cathy@celebrationday.me
END:VEVENT
BEGIN:VEVENT
DTSTART;TZID=Australia/Sydney:20160807T100000
DTEND;TZID=Australia/Sydney:20160807T160000
DTSTAMP:20260426T022148
CREATED:20160726T101156Z
LAST-MODIFIED:20160726T101156Z
UID:1996-1470564000-1470585600@celebrationdayforgirls.com
SUMMARY:Celebration Day for Girls\, Mulwala\, NSW
DESCRIPTION:Places are available for this event.
URL:https://celebrationdayforgirls.com/event/celebration-day-for-girls-mulwala-nsw-2/
LOCATION:Mulwala\, New South Wales\, Australia
ORGANIZER;CN="Cathy Giltrap":MAILTO:cathy@celebrationday.me
END:VEVENT
BEGIN:VEVENT
DTSTART;TZID=Australia/Sydney:20160807T100000
DTEND;TZID=Australia/Sydney:20160807T160000
DTSTAMP:20260426T022148
CREATED:20160726T101156Z
LAST-MODIFIED:20160726T101156Z
UID:3419-1470564000-1470585600@celebrationdayforgirls.com
SUMMARY:Celebration Day for Girls\, Mulwala\, NSW
DESCRIPTION:Places are available for this event.
URL:https://celebrationdayforgirls.com/event/celebration-day-for-girls-mulwala-nsw-2-2/
LOCATION:Mulwala\, New South Wales\, Australia
ORGANIZER;CN="Cathy Giltrap":MAILTO:cathy@celebrationday.me
END:VEVENT
BEGIN:VEVENT
DTSTART;TZID=UTC:20160808T190000
DTEND;TZID=UTC:20160808T210000
DTSTAMP:20260426T022148
CREATED:20160531T055801Z
LAST-MODIFIED:20160531T055801Z
UID:1852-1470682800-1470690000@celebrationdayforgirls.com
SUMMARY:Mother's Preparation Session\, Kew\, VIC
DESCRIPTION:There are places available for this event
URL:https://celebrationdayforgirls.com/event/mothers-preparation-session-kew-vic/
LOCATION:Unnamed Venue\, Kew\, Victoria\, Australia
ORGANIZER;CN="Charlotte Young":MAILTO:charlotteyoung007@gmail.com
END:VEVENT
BEGIN:VEVENT
DTSTART;TZID=UTC:20160808T190000
DTEND;TZID=UTC:20160808T210000
DTSTAMP:20260426T022148
CREATED:20160531T055801Z
LAST-MODIFIED:20160531T055801Z
UID:3387-1470682800-1470690000@celebrationdayforgirls.com
SUMMARY:Mother's Preparation Session\, Kew\, VIC
DESCRIPTION:There are places available for this event
URL:https://celebrationdayforgirls.com/event/mothers-preparation-session-kew-vic-2/
LOCATION:Unnamed Venue\, Kew\, Victoria\, Australia
ORGANIZER;CN="Charlotte Young":MAILTO:charlotteyoung007@gmail.com
END:VEVENT
BEGIN:VEVENT
DTSTART;TZID=Australia/Melbourne:20160812T190000
DTEND;TZID=Australia/Melbourne:20160812T210000
DTSTAMP:20260426T022148
CREATED:20160806T095900Z
LAST-MODIFIED:20160806T095900Z
UID:2011-1471028400-1471035600@celebrationdayforgirls.com
SUMMARY:Mother's Session\, Oakleigh\, VIC
DESCRIPTION:Places are available for this event.
URL:https://celebrationdayforgirls.com/event/mothers-session-oakleigh-vic/
LOCATION:Oakleigh\, Victoria\, Australia
ORGANIZER;CN="Tanja Novakovic":MAILTO:tanjanovakovic1@gmail.com
END:VEVENT
BEGIN:VEVENT
DTSTART;TZID=Australia/Melbourne:20160812T190000
DTEND;TZID=Australia/Melbourne:20160812T210000
DTSTAMP:20260426T022148
CREATED:20160806T095900Z
LAST-MODIFIED:20160806T095900Z
UID:3424-1471028400-1471035600@celebrationdayforgirls.com
SUMMARY:Mother's Session\, Oakleigh\, VIC
DESCRIPTION:Places are available for this event.
URL:https://celebrationdayforgirls.com/event/mothers-session-oakleigh-vic-2/
LOCATION:Oakleigh\, Victoria\, Australia
ORGANIZER;CN="Tanja Novakovic":MAILTO:tanjanovakovic1@gmail.com
END:VEVENT
BEGIN:VEVENT
DTSTART;TZID=UTC:20160815T190000
DTEND;TZID=UTC:20160815T210000
DTSTAMP:20260426T022148
CREATED:20160531T060422Z
LAST-MODIFIED:20160531T060422Z
UID:3391-1471287600-1471294800@celebrationdayforgirls.com
SUMMARY:Mother's Preparation Session\, Yarra Junction\, VIC
DESCRIPTION:This event has been scheduled for a class group
URL:https://celebrationdayforgirls.com/event/mothers-preparation-session-yarra-junction-vic-2/
LOCATION:Unnamed Venue\, Yarra Junction\, Victoria\, Australia
ORGANIZER;CN="Melinda Whyman":MAILTO:mummamel@gmail.com
END:VEVENT
BEGIN:VEVENT
DTSTART;TZID=UTC:20160815T190000
DTEND;TZID=UTC:20160815T210000
DTSTAMP:20260426T022148
CREATED:20160531T060422Z
LAST-MODIFIED:20160531T060422Z
UID:1864-1471287600-1471294800@celebrationdayforgirls.com
SUMMARY:Mother's Preparation Session\, Yarra Junction\, VIC
DESCRIPTION:This event has been scheduled for a class group
URL:https://celebrationdayforgirls.com/event/mothers-preparation-session-yarra-junction-vic/
LOCATION:Unnamed Venue\, Yarra Junction\, Victoria\, Australia
ORGANIZER;CN="Melinda Whyman":MAILTO:mummamel@gmail.com
END:VEVENT
BEGIN:VEVENT
DTSTART;TZID=Australia/Melbourne:20160818T190000
DTEND;TZID=Australia/Melbourne:20160818T210000
DTSTAMP:20260426T022148
CREATED:20160720T092426Z
LAST-MODIFIED:20160720T092426Z
UID:1987-1471546800-1471554000@celebrationdayforgirls.com
SUMMARY:Mother's Session\, Armadale\, VIC
DESCRIPTION:Places are available for this event.
URL:https://celebrationdayforgirls.com/event/mothers-session-armadale-vic/
LOCATION:Armadale\, Melbourne\, Victoria\, Australia
ORGANIZER;CN="Kath Callinan-Moore":MAILTO:sjkm@bigpond.net.au
END:VEVENT
BEGIN:VEVENT
DTSTART;TZID=Australia/Melbourne:20160818T190000
DTEND;TZID=Australia/Melbourne:20160818T210000
DTSTAMP:20260426T022148
CREATED:20160720T092426Z
LAST-MODIFIED:20160720T092426Z
UID:3416-1471546800-1471554000@celebrationdayforgirls.com
SUMMARY:Mother's Session\, Armadale\, VIC
DESCRIPTION:Places are available for this event.
URL:https://celebrationdayforgirls.com/event/mothers-session-armadale-vic-2/
LOCATION:Armadale\, Melbourne\, Victoria\, Australia
ORGANIZER;CN="Kath Callinan-Moore":MAILTO:sjkm@bigpond.net.au
END:VEVENT
BEGIN:VEVENT
DTSTART;TZID=Australia/Melbourne:20160820T100000
DTEND;TZID=Australia/Melbourne:20160820T160000
DTSTAMP:20260426T022148
CREATED:20160806T095651Z
LAST-MODIFIED:20160806T095651Z
UID:2008-1471687200-1471708800@celebrationdayforgirls.com
SUMMARY:Celebration Day for Girls\, Oakleigh\, VIC
DESCRIPTION:Places are available for this event.
URL:https://celebrationdayforgirls.com/event/celebration-day-for-girls-oakleigh-vic/
LOCATION:Oakleigh\, Victoria\, Australia
ORGANIZER;CN="Tanja Novakovic":MAILTO:tanjanovakovic1@gmail.com
END:VEVENT
BEGIN:VEVENT
DTSTART;TZID=Australia/Melbourne:20160820T100000
DTEND;TZID=Australia/Melbourne:20160820T160000
DTSTAMP:20260426T022148
CREATED:20160806T095651Z
LAST-MODIFIED:20160806T095651Z
UID:3423-1471687200-1471708800@celebrationdayforgirls.com
SUMMARY:Celebration Day for Girls\, Oakleigh\, VIC
DESCRIPTION:Places are available for this event.
URL:https://celebrationdayforgirls.com/event/celebration-day-for-girls-oakleigh-vic-2/
LOCATION:Oakleigh\, Victoria\, Australia
ORGANIZER;CN="Tanja Novakovic":MAILTO:tanjanovakovic1@gmail.com
END:VEVENT
BEGIN:VEVENT
DTSTART;TZID=UTC:20160821T100000
DTEND;TZID=UTC:20160821T160000
DTSTAMP:20260426T022148
CREATED:20160531T055906Z
LAST-MODIFIED:20160531T055906Z
UID:3388-1471773600-1471795200@celebrationdayforgirls.com
SUMMARY:Celebration Day for Girls\, Kew\, VIC
DESCRIPTION:There are places available for this event
URL:https://celebrationdayforgirls.com/event/celebration-day-for-girls-kew-vic-2/
LOCATION:Unnamed Venue\, Kew\, Victoria\, Australia
ORGANIZER;CN="Charlotte Young":MAILTO:charlotteyoung007@gmail.com
END:VEVENT
BEGIN:VEVENT
DTSTART;TZID=UTC:20160821T100000
DTEND;TZID=UTC:20160821T160000
DTSTAMP:20260426T022148
CREATED:20160531T055906Z
LAST-MODIFIED:20160531T055906Z
UID:1855-1471773600-1471795200@celebrationdayforgirls.com
SUMMARY:Celebration Day for Girls\, Kew\, VIC
DESCRIPTION:There are places available for this event
URL:https://celebrationdayforgirls.com/event/celebration-day-for-girls-kew-vic/
LOCATION:Unnamed Venue\, Kew\, Victoria\, Australia
ORGANIZER;CN="Charlotte Young":MAILTO:charlotteyoung007@gmail.com
END:VEVENT
BEGIN:VEVENT
DTSTART;TZID=Australia/Melbourne:20160821T100000
DTEND;TZID=Australia/Melbourne:20160821T160000
DTSTAMP:20260426T022148
CREATED:20160714T055950Z
LAST-MODIFIED:20160714T055950Z
UID:1965-1471773600-1471795200@celebrationdayforgirls.com
SUMMARY:Celebration Day for Girls\, Armadale\, VIC
DESCRIPTION:Places are available for this event.
URL:https://celebrationdayforgirls.com/event/celebration-day-for-girls-armadale-vic/
LOCATION:Armadale\, Melbourne\, Victoria\, Australia
ORGANIZER;CN="Kath Callinan-Moore":MAILTO:sjkm@bigpond.net.au 
END:VEVENT
BEGIN:VEVENT
DTSTART;TZID=Australia/Melbourne:20160821T100000
DTEND;TZID=Australia/Melbourne:20160821T160000
DTSTAMP:20260426T022148
CREATED:20160714T055950Z
LAST-MODIFIED:20160714T055950Z
UID:3409-1471773600-1471795200@celebrationdayforgirls.com
SUMMARY:Celebration Day for Girls\, Armadale\, VIC
DESCRIPTION:Places are available for this event.
URL:https://celebrationdayforgirls.com/event/celebration-day-for-girls-armadale-vic-2/
LOCATION:Armadale\, Melbourne\, Victoria\, Australia
ORGANIZER;CN="Kath Callinan-Moore":MAILTO:sjkm@bigpond.net.au 
END:VEVENT
BEGIN:VEVENT
DTSTART;TZID=Australia/Melbourne:20160825T193000
DTEND;TZID=Australia/Melbourne:20160825T210000
DTSTAMP:20260426T022148
CREATED:20160714T061035Z
LAST-MODIFIED:20160714T061035Z
UID:3412-1472153400-1472158800@celebrationdayforgirls.com
SUMMARY:Mother's Session\, Castlemaine\, VIC
DESCRIPTION:Places are available for this event.
URL:https://celebrationdayforgirls.com/event/mothers-session-castlemaine-vic-4/
LOCATION:Castlemaine\, Victoria\, Australia
ORGANIZER;CN="Rachel Pilgrim%2C Beck Meyers":MAILTO:rachel.pilgrim@yahoo.com
END:VEVENT
BEGIN:VEVENT
DTSTART;TZID=Australia/Melbourne:20160825T193000
DTEND;TZID=Australia/Melbourne:20160825T210000
DTSTAMP:20260426T022148
CREATED:20160714T061035Z
LAST-MODIFIED:20160714T061035Z
UID:1974-1472153400-1472158800@celebrationdayforgirls.com
SUMMARY:Mother's Session\, Castlemaine\, VIC
DESCRIPTION:Places are available for this event.
URL:https://celebrationdayforgirls.com/event/mothers-session-castlemaine-vic/
LOCATION:Castlemaine\, Victoria\, Australia
ORGANIZER;CN="Rachel Pilgrim%2C Beck Meyers":MAILTO:rachel.pilgrim@yahoo.com
END:VEVENT
BEGIN:VEVENT
DTSTART;TZID=Australia/Melbourne:20160827T100000
DTEND;TZID=Australia/Melbourne:20160827T160000
DTSTAMP:20260426T022148
CREATED:20160806T095030Z
LAST-MODIFIED:20160806T095030Z
UID:3421-1472292000-1472313600@celebrationdayforgirls.com
SUMMARY:Celebration Day for Girls\, Ascot Vale\, VIC
DESCRIPTION:This is a class event.
URL:https://celebrationdayforgirls.com/event/celebration-day-for-girls-ascot-vale-vic-4/
LOCATION:Ascot Vale\, Victoria\, Australia
ORGANIZER;CN="Janoel Liddy":MAILTO:contact.janoel@gmail.com
END:VEVENT
BEGIN:VEVENT
DTSTART;TZID=Australia/Melbourne:20160827T100000
DTEND;TZID=Australia/Melbourne:20160827T160000
DTSTAMP:20260426T022148
CREATED:20160806T095030Z
LAST-MODIFIED:20160806T095030Z
UID:2002-1472292000-1472313600@celebrationdayforgirls.com
SUMMARY:Celebration Day for Girls\, Ascot Vale\, VIC
DESCRIPTION:This is a class event.
URL:https://celebrationdayforgirls.com/event/celebration-day-for-girls-ascot-vale-vic/
LOCATION:Ascot Vale\, Victoria\, Australia
ORGANIZER;CN="Janoel Liddy":MAILTO:contact.janoel@gmail.com
END:VEVENT
BEGIN:VEVENT
DTSTART;TZID=UTC:20160828T100000
DTEND;TZID=UTC:20160828T160000
DTSTAMP:20260426T022148
CREATED:20160531T060528Z
LAST-MODIFIED:20160531T060528Z
UID:3392-1472378400-1472400000@celebrationdayforgirls.com
SUMMARY:Celebration Day for Girls\, Yarra Junction\, VIC
DESCRIPTION:This event has been scheduled for a class event
URL:https://celebrationdayforgirls.com/event/celebration-day-for-girls-yarra-junction-vic-3-2/
LOCATION:Unnamed Venue\, Yarra Junction\, Victoria\, Australia
ORGANIZER;CN="Melinda Whyman":MAILTO:mummamel@gmail.com
END:VEVENT
BEGIN:VEVENT
DTSTART;TZID=UTC:20160828T100000
DTEND;TZID=UTC:20160828T160000
DTSTAMP:20260426T022148
CREATED:20160531T060528Z
LAST-MODIFIED:20160531T060528Z
UID:1867-1472378400-1472400000@celebrationdayforgirls.com
SUMMARY:Celebration Day for Girls\, Yarra Junction\, VIC
DESCRIPTION:This event has been scheduled for a class event
URL:https://celebrationdayforgirls.com/event/celebration-day-for-girls-yarra-junction-vic-3/
LOCATION:Unnamed Venue\, Yarra Junction\, Victoria\, Australia
ORGANIZER;CN="Melinda Whyman":MAILTO:mummamel@gmail.com
END:VEVENT
BEGIN:VEVENT
DTSTART;TZID=Australia/Melbourne:20160828T100000
DTEND;TZID=Australia/Melbourne:20160828T160000
DTSTAMP:20260426T022148
CREATED:20160714T061310Z
LAST-MODIFIED:20160714T061310Z
UID:1977-1472378400-1472400000@celebrationdayforgirls.com
SUMMARY:Celebration Day for Girls\, Castlemaine\, VIC
DESCRIPTION:Places are available for this event.
URL:https://celebrationdayforgirls.com/event/celebration-day-for-girls-castlemaine-vic-2/
LOCATION:Castlemaine\, Victoria\, Australia
ORGANIZER;CN="Rachel Pilgrim%2C Beck Meyers":MAILTO:rachel.pilgrim@yahoo.com
END:VEVENT
BEGIN:VEVENT
DTSTART;TZID=Australia/Melbourne:20160828T100000
DTEND;TZID=Australia/Melbourne:20160828T160000
DTSTAMP:20260426T022148
CREATED:20160714T061310Z
LAST-MODIFIED:20160714T061310Z
UID:3413-1472378400-1472400000@celebrationdayforgirls.com
SUMMARY:Celebration Day for Girls\, Castlemaine\, VIC
DESCRIPTION:Places are available for this event.
URL:https://celebrationdayforgirls.com/event/celebration-day-for-girls-castlemaine-vic-2-2/
LOCATION:Castlemaine\, Victoria\, Australia
ORGANIZER;CN="Rachel Pilgrim%2C Beck Meyers":MAILTO:rachel.pilgrim@yahoo.com
END:VEVENT
END:VCALENDAR