BEGIN:VCALENDAR
VERSION:2.0
PRODID:-//Celebration Day For Girls - ECPv6.15.20//NONSGML v1.0//EN
CALSCALE:GREGORIAN
METHOD:PUBLISH
X-ORIGINAL-URL:https://celebrationdayforgirls.com
X-WR-CALDESC:Events for Celebration Day For Girls
REFRESH-INTERVAL;VALUE=DURATION:PT1H
X-Robots-Tag:noindex
X-PUBLISHED-TTL:PT1H
BEGIN:VTIMEZONE
TZID:UTC
BEGIN:STANDARD
TZOFFSETFROM:+0000
TZOFFSETTO:+0000
TZNAME:UTC
DTSTART:20150101T000000
END:STANDARD
END:VTIMEZONE
BEGIN:VTIMEZONE
TZID:Australia/Brisbane
BEGIN:STANDARD
TZOFFSETFROM:+1000
TZOFFSETTO:+1000
TZNAME:AEST
DTSTART:20150101T000000
END:STANDARD
END:VTIMEZONE
BEGIN:VTIMEZONE
TZID:Australia/Melbourne
BEGIN:STANDARD
TZOFFSETFROM:+1100
TZOFFSETTO:+1000
TZNAME:AEST
DTSTART:20150404T160000
END:STANDARD
BEGIN:DAYLIGHT
TZOFFSETFROM:+1000
TZOFFSETTO:+1100
TZNAME:AEDT
DTSTART:20151003T160000
END:DAYLIGHT
BEGIN:STANDARD
TZOFFSETFROM:+1100
TZOFFSETTO:+1000
TZNAME:AEST
DTSTART:20160402T160000
END:STANDARD
BEGIN:DAYLIGHT
TZOFFSETFROM:+1000
TZOFFSETTO:+1100
TZNAME:AEDT
DTSTART:20161001T160000
END:DAYLIGHT
BEGIN:STANDARD
TZOFFSETFROM:+1100
TZOFFSETTO:+1000
TZNAME:AEST
DTSTART:20170401T160000
END:STANDARD
BEGIN:DAYLIGHT
TZOFFSETFROM:+1000
TZOFFSETTO:+1100
TZNAME:AEDT
DTSTART:20170930T160000
END:DAYLIGHT
END:VTIMEZONE
BEGIN:VTIMEZONE
TZID:UTC
BEGIN:STANDARD
TZOFFSETFROM:+0000
TZOFFSETTO:+0000
TZNAME:UTC
DTSTART:20150101T000000
END:STANDARD
END:VTIMEZONE
BEGIN:VEVENT
DTSTART;TZID=UTC:20160701T190000
DTEND;TZID=UTC:20160701T210000
DTSTAMP:20260426T040804
CREATED:20160613T055112Z
LAST-MODIFIED:20160613T055112Z
UID:3394-1467399600-1467406800@celebrationdayforgirls.com
SUMMARY:Cool on the Inside Mums Session\, Bendigo\, VIC
DESCRIPTION:There are places available for this event.
URL:https://celebrationdayforgirls.com/event/cool-on-the-inside-mums-session-bendigo-vic-2/
LOCATION:Unnamed Venue\, Bendigo\, Victoria\, Australia
ORGANIZER;CN="Rebekah Honey":MAILTO:bek@openheartwisdom.com
END:VEVENT
BEGIN:VEVENT
DTSTART;TZID=UTC:20160701T190000
DTEND;TZID=UTC:20160701T210000
DTSTAMP:20260426T040804
CREATED:20160613T055112Z
LAST-MODIFIED:20160613T055112Z
UID:1873-1467399600-1467406800@celebrationdayforgirls.com
SUMMARY:Cool on the Inside Mums Session\, Bendigo\, VIC
DESCRIPTION:There are places available for this event.
URL:https://celebrationdayforgirls.com/event/cool-on-the-inside-mums-session-bendigo-vic/
LOCATION:Unnamed Venue\, Bendigo\, Victoria\, Australia
ORGANIZER;CN="Rebekah Honey":MAILTO:bek@openheartwisdom.com
END:VEVENT
BEGIN:VEVENT
DTSTART;TZID=UTC:20160703T100000
DTEND;TZID=UTC:20160703T160000
DTSTAMP:20260426T040804
CREATED:20160613T055238Z
LAST-MODIFIED:20160613T055238Z
UID:1876-1467540000-1467561600@celebrationdayforgirls.com
SUMMARY:Cool on the Inside\, Bendigo\, VIC
DESCRIPTION:There are places available for this workshop.
URL:https://celebrationdayforgirls.com/event/cool-on-the-inside-bendigo-vic/
LOCATION:Bendigo\, Australia
ORGANIZER;CN="Rebekah Honey":MAILTO:bek@openheartwisdom.com
END:VEVENT
BEGIN:VEVENT
DTSTART;TZID=UTC:20160703T100000
DTEND;TZID=UTC:20160703T160000
DTSTAMP:20260426T040804
CREATED:20160613T055238Z
LAST-MODIFIED:20160613T055238Z
UID:3395-1467540000-1467561600@celebrationdayforgirls.com
SUMMARY:Cool on the Inside\, Bendigo\, VIC
DESCRIPTION:There are places available for this workshop.
URL:https://celebrationdayforgirls.com/event/cool-on-the-inside-bendigo-vic-3/
LOCATION:Bendigo\, Australia
ORGANIZER;CN="Rebekah Honey":MAILTO:bek@openheartwisdom.com
END:VEVENT
BEGIN:VEVENT
DTSTART;TZID=Australia/Brisbane:20160705T100000
DTEND;TZID=Australia/Brisbane:20160705T160000
DTSTAMP:20260426T040804
CREATED:20160628T101921Z
LAST-MODIFIED:20160628T101921Z
UID:1959-1467712800-1467734400@celebrationdayforgirls.com
SUMMARY:Celebration Day for Girls\, Brisbane\, QLD
DESCRIPTION:Places are available for this event.
URL:https://celebrationdayforgirls.com/event/celebration-day-for-girls-brisbane-qld/
LOCATION:Brisbane\, Queensland\, Australia
ORGANIZER;CN="Kate Waud":MAILTO:kateawaud@gmail.com
END:VEVENT
BEGIN:VEVENT
DTSTART;TZID=Australia/Brisbane:20160705T100000
DTEND;TZID=Australia/Brisbane:20160705T160000
DTSTAMP:20260426T040804
CREATED:20160628T101921Z
LAST-MODIFIED:20160628T101921Z
UID:3407-1467712800-1467734400@celebrationdayforgirls.com
SUMMARY:Celebration Day for Girls\, Brisbane\, QLD
DESCRIPTION:Places are available for this event.
URL:https://celebrationdayforgirls.com/event/celebration-day-for-girls-brisbane-qld-2/
LOCATION:Brisbane\, Queensland\, Australia
ORGANIZER;CN="Kate Waud":MAILTO:kateawaud@gmail.com
END:VEVENT
BEGIN:VEVENT
DTSTART;TZID=UTC:20160718T193000
DTEND;TZID=UTC:20160718T213000
DTSTAMP:20260426T040804
CREATED:20160531T055529Z
LAST-MODIFIED:20160531T055529Z
UID:3385-1468870200-1468877400@celebrationdayforgirls.com
SUMMARY:Mother's Preparation Session\, Abbotsford\, VIC
DESCRIPTION:This event is scheduled for a class group
URL:https://celebrationdayforgirls.com/event/mothers-preparation-session-abbotsford-vic-2/
LOCATION:Unnamed Venue\, Abbotsford\, Victoria\, Australia
ORGANIZER;CN="Charlotte Young":MAILTO:charlotteyoung007@gmail.com
END:VEVENT
BEGIN:VEVENT
DTSTART;TZID=UTC:20160718T193000
DTEND;TZID=UTC:20160718T213000
DTSTAMP:20260426T040804
CREATED:20160531T055529Z
LAST-MODIFIED:20160531T055529Z
UID:1846-1468870200-1468877400@celebrationdayforgirls.com
SUMMARY:Mother's Preparation Session\, Abbotsford\, VIC
DESCRIPTION:This event is scheduled for a class group
URL:https://celebrationdayforgirls.com/event/mothers-preparation-session-abbotsford-vic/
LOCATION:Unnamed Venue\, Abbotsford\, Victoria\, Australia
ORGANIZER;CN="Charlotte Young":MAILTO:charlotteyoung007@gmail.com
END:VEVENT
BEGIN:VEVENT
DTSTART;TZID=UTC:20160720T190000
DTEND;TZID=UTC:20160720T210000
DTSTAMP:20260426T040804
CREATED:20160531T054247Z
LAST-MODIFIED:20160531T054247Z
UID:1836-1469041200-1469048400@celebrationdayforgirls.com
SUMMARY:Mother's Preparation Session\, Wodonga
DESCRIPTION:There are places available for this event
URL:https://celebrationdayforgirls.com/event/mothers-preparation-session-wodonga/
LOCATION:Unnamed Venue\, Wodonga\, Australia
ORGANIZER;CN="Cathy Giltrap":MAILTO:cathygiltrap@gamil.com
END:VEVENT
BEGIN:VEVENT
DTSTART;TZID=UTC:20160720T190000
DTEND;TZID=UTC:20160720T210000
DTSTAMP:20260426T040804
CREATED:20160531T054247Z
LAST-MODIFIED:20160531T054247Z
UID:3382-1469041200-1469048400@celebrationdayforgirls.com
SUMMARY:Mother's Preparation Session\, Wodonga
DESCRIPTION:There are places available for this event
URL:https://celebrationdayforgirls.com/event/mothers-preparation-session-wodonga-2/
LOCATION:Unnamed Venue\, Wodonga\, Australia
ORGANIZER;CN="Cathy Giltrap":MAILTO:cathygiltrap@gamil.com
END:VEVENT
BEGIN:VEVENT
DTSTART;TZID=UTC:20160721T190000
DTEND;TZID=UTC:20160721T210000
DTSTAMP:20260426T040804
CREATED:20160430T104830Z
LAST-MODIFIED:20160430T104830Z
UID:1812-1469127600-1469134800@celebrationdayforgirls.com
SUMMARY:Mother's Preparation Session\, Altona North\, VIC
DESCRIPTION:This Celebration Day is for a class group
URL:https://celebrationdayforgirls.com/event/mothers-preparation-session-altona-north-vic/
LOCATION:Unnamed Venue\, Altona North\, Australia
ORGANIZER;CN="Janoel Liddy":MAILTO:contact.janoel@gmail.com
END:VEVENT
BEGIN:VEVENT
DTSTART;TZID=UTC:20160721T190000
DTEND;TZID=UTC:20160721T210000
DTSTAMP:20260426T040804
CREATED:20160430T104830Z
LAST-MODIFIED:20160430T104830Z
UID:3375-1469127600-1469134800@celebrationdayforgirls.com
SUMMARY:Mother's Preparation Session\, Altona North\, VIC
DESCRIPTION:This Celebration Day is for a class group
URL:https://celebrationdayforgirls.com/event/mothers-preparation-session-altona-north-vic-2/
LOCATION:Unnamed Venue\, Altona North\, Australia
ORGANIZER;CN="Janoel Liddy":MAILTO:contact.janoel@gmail.com
END:VEVENT
BEGIN:VEVENT
DTSTART;TZID=Australia/Melbourne:20160721T190000
DTEND;TZID=Australia/Melbourne:20160721T210000
DTSTAMP:20260426T040804
CREATED:20160720T092005Z
LAST-MODIFIED:20160720T092005Z
UID:3415-1469127600-1469134800@celebrationdayforgirls.com
SUMMARY:Mother's Session\, Hampton\, VIC
DESCRIPTION:This is a class event.
URL:https://celebrationdayforgirls.com/event/mothers-session-hampton-vic-6/
LOCATION:Hampton\, Melbourne\, Australia
ORGANIZER;CN="Melissa Jeffcott":MAILTO:melissa@melissajeffcott.com
END:VEVENT
BEGIN:VEVENT
DTSTART;TZID=Australia/Melbourne:20160721T190000
DTEND;TZID=Australia/Melbourne:20160721T210000
DTSTAMP:20260426T040804
CREATED:20160720T092005Z
LAST-MODIFIED:20160720T092005Z
UID:1984-1469127600-1469134800@celebrationdayforgirls.com
SUMMARY:Mother's Session\, Hampton\, VIC
DESCRIPTION:This is a class event.
URL:https://celebrationdayforgirls.com/event/mothers-session-hampton-vic/
LOCATION:Hampton\, Melbourne\, Australia
ORGANIZER;CN="Melissa Jeffcott":MAILTO:melissa@melissajeffcott.com
END:VEVENT
BEGIN:VEVENT
DTSTART;TZID=UTC:20160722T190000
DTEND;TZID=UTC:20160722T210000
DTSTAMP:20260426T040804
CREATED:20160627T013653Z
LAST-MODIFIED:20160627T013653Z
UID:3402-1469214000-1469221200@celebrationdayforgirls.com
SUMMARY:Mother's Session\, Geelong\, VIC
DESCRIPTION:Places are available for this event.
URL:https://celebrationdayforgirls.com/event/mothers-session-geelong-vic-5/
LOCATION:Geelong\, Victoria\, Australia
ORGANIZER;CN="Ingrid Petterson":MAILTO:artmedicine@ymail.com
END:VEVENT
BEGIN:VEVENT
DTSTART;TZID=UTC:20160722T190000
DTEND;TZID=UTC:20160722T210000
DTSTAMP:20260426T040804
CREATED:20160627T013653Z
LAST-MODIFIED:20160627T013653Z
UID:1932-1469214000-1469221200@celebrationdayforgirls.com
SUMMARY:Mother's Session\, Geelong\, VIC
DESCRIPTION:Places are available for this event.
URL:https://celebrationdayforgirls.com/event/mothers-session-geelong-vic/
LOCATION:Geelong\, Victoria\, Australia
ORGANIZER;CN="Ingrid Petterson":MAILTO:artmedicine@ymail.com
END:VEVENT
BEGIN:VEVENT
DTSTART;TZID=Australia/Melbourne:20160723T100000
DTEND;TZID=Australia/Melbourne:20160723T160000
DTSTAMP:20260426T040804
CREATED:20160627T014205Z
LAST-MODIFIED:20160627T014205Z
UID:1935-1469268000-1469289600@celebrationdayforgirls.com
SUMMARY:Celebration Day for Girls\, Geelong\, VIC
DESCRIPTION:Places are available for this event.
URL:https://celebrationdayforgirls.com/event/celebration-day-for-girls-geelong-vic/
LOCATION:Geelong\, Victoria\, Australia
ORGANIZER;CN="Ingrid Petterson":MAILTO:artmedicine@ymail.com
END:VEVENT
BEGIN:VEVENT
DTSTART;TZID=Australia/Melbourne:20160723T100000
DTEND;TZID=Australia/Melbourne:20160723T160000
DTSTAMP:20260426T040804
CREATED:20160627T014205Z
LAST-MODIFIED:20160627T014205Z
UID:3403-1469268000-1469289600@celebrationdayforgirls.com
SUMMARY:Celebration Day for Girls\, Geelong\, VIC
DESCRIPTION:Places are available for this event.
URL:https://celebrationdayforgirls.com/event/celebration-day-for-girls-geelong-vic-5/
LOCATION:Geelong\, Victoria\, Australia
ORGANIZER;CN="Ingrid Petterson":MAILTO:artmedicine@ymail.com
END:VEVENT
BEGIN:VEVENT
DTSTART;TZID=UTC:20160724T100000
DTEND;TZID=UTC:20160724T160000
DTSTAMP:20260426T040804
CREATED:20160430T104948Z
LAST-MODIFIED:20160430T104948Z
UID:3376-1469354400-1469376000@celebrationdayforgirls.com
SUMMARY:Celebration Day for Girls\, Altona North\, VIC
DESCRIPTION:This is a class event.
URL:https://celebrationdayforgirls.com/event/celebration-day-for-girls-altona-north-vic-2/
LOCATION:Altona North\, Australia
ORGANIZER;CN="Janoel Liddy":MAILTO:contact.janoel@gmail.com
END:VEVENT
BEGIN:VEVENT
DTSTART;TZID=UTC:20160724T100000
DTEND;TZID=UTC:20160724T160000
DTSTAMP:20260426T040804
CREATED:20160430T104948Z
LAST-MODIFIED:20160430T104948Z
UID:1815-1469354400-1469376000@celebrationdayforgirls.com
SUMMARY:Celebration Day for Girls\, Altona North\, VIC
DESCRIPTION:This is a class event.
URL:https://celebrationdayforgirls.com/event/celebration-day-for-girls-altona-north-vic/
LOCATION:Altona North\, Australia
ORGANIZER;CN="Janoel Liddy":MAILTO:contact.janoel@gmail.com
END:VEVENT
BEGIN:VEVENT
DTSTART;TZID=UTC:20160724T100000
DTEND;TZID=UTC:20160724T160000
DTSTAMP:20260426T040804
CREATED:20160531T054602Z
LAST-MODIFIED:20160531T054602Z
UID:3384-1469354400-1469376000@celebrationdayforgirls.com
SUMMARY:Celebration Day for Girls\, Wodonga\, VIC
DESCRIPTION:There are places available for this event
URL:https://celebrationdayforgirls.com/event/celebration-day-for-girls-wodonga-vic-2/
LOCATION:Wodonga\, Victoria\, Australia
ORGANIZER;CN="Cathy Giltrap":MAILTO:cathygiltrap@gamil.com
END:VEVENT
BEGIN:VEVENT
DTSTART;TZID=UTC:20160724T100000
DTEND;TZID=UTC:20160724T160000
DTSTAMP:20260426T040804
CREATED:20160531T054602Z
LAST-MODIFIED:20160531T054602Z
UID:1843-1469354400-1469376000@celebrationdayforgirls.com
SUMMARY:Celebration Day for Girls\, Wodonga\, VIC
DESCRIPTION:There are places available for this event
URL:https://celebrationdayforgirls.com/event/celebration-day-for-girls-wodonga-vic/
LOCATION:Wodonga\, Victoria\, Australia
ORGANIZER;CN="Cathy Giltrap":MAILTO:cathygiltrap@gamil.com
END:VEVENT
BEGIN:VEVENT
DTSTART;TZID=Australia/Melbourne:20160724T100000
DTEND;TZID=Australia/Melbourne:20160724T160000
DTSTAMP:20260426T040804
CREATED:20160720T091754Z
LAST-MODIFIED:20160720T091754Z
UID:3414-1469354400-1469376000@celebrationdayforgirls.com
SUMMARY:Celebration Day for Girls\, Hampton\, VIC
DESCRIPTION:This is a class event.
URL:https://celebrationdayforgirls.com/event/celebration-day-for-girls-hampton-vic-5/
LOCATION:Hampton\, Melbourne\, Victoria\, Australia
ORGANIZER;CN="Melissa Jeffcott":MAILTO:melissa@melissajeffcott.com
END:VEVENT
BEGIN:VEVENT
DTSTART;TZID=Australia/Melbourne:20160724T100000
DTEND;TZID=Australia/Melbourne:20160724T160000
DTSTAMP:20260426T040804
CREATED:20160720T091754Z
LAST-MODIFIED:20160720T091754Z
UID:1981-1469354400-1469376000@celebrationdayforgirls.com
SUMMARY:Celebration Day for Girls\, Hampton\, VIC
DESCRIPTION:This is a class event.
URL:https://celebrationdayforgirls.com/event/celebration-day-for-girls-hampton-vic/
LOCATION:Hampton\, Melbourne\, Victoria\, Australia
ORGANIZER;CN="Melissa Jeffcott":MAILTO:melissa@melissajeffcott.com
END:VEVENT
BEGIN:VEVENT
DTSTART;TZID=UTC:20160724T220000
DTEND;TZID=UTC:20160724T220000
DTSTAMP:20260426T040804
CREATED:20160531T055648Z
LAST-MODIFIED:20160531T055648Z
UID:3386-1469397600-1469397600@celebrationdayforgirls.com
SUMMARY:Celebration Day for Girls\, Abbotsford\, VIC
DESCRIPTION:This event is scheduled for a class group
URL:https://celebrationdayforgirls.com/event/celebration-day-for-girls-abbotsford-vic-2-2/
LOCATION:Unnamed Venue\, Abbotsford\, Victoria\, Australia
ORGANIZER;CN="Charlotte Young":MAILTO:charlotteyoung007@gmail.com
END:VEVENT
BEGIN:VEVENT
DTSTART;TZID=UTC:20160724T220000
DTEND;TZID=UTC:20160724T220000
DTSTAMP:20260426T040804
CREATED:20160531T055648Z
LAST-MODIFIED:20160531T055648Z
UID:1849-1469397600-1469397600@celebrationdayforgirls.com
SUMMARY:Celebration Day for Girls\, Abbotsford\, VIC
DESCRIPTION:This event is scheduled for a class group
URL:https://celebrationdayforgirls.com/event/celebration-day-for-girls-abbotsford-vic-2/
LOCATION:Unnamed Venue\, Abbotsford\, Victoria\, Australia
ORGANIZER;CN="Charlotte Young":MAILTO:charlotteyoung007@gmail.com
END:VEVENT
BEGIN:VEVENT
DTSTART;TZID=UTC:20160725T190000
DTEND;TZID=UTC:20160725T210000
DTSTAMP:20260426T040804
CREATED:20160531T060140Z
LAST-MODIFIED:20160531T060140Z
UID:1858-1469473200-1469480400@celebrationdayforgirls.com
SUMMARY:Mother's Preparation Session\, Kalista\, VIC
DESCRIPTION:There are places available for this event
URL:https://celebrationdayforgirls.com/event/mothers-preparation-session-kalista-vic/
LOCATION:Unnamed Venue\, Kalista\, Victoria\, Australia
ORGANIZER;CN="Melinda Whyman":MAILTO:mummamel@gmail.com
END:VEVENT
BEGIN:VEVENT
DTSTART;TZID=UTC:20160725T190000
DTEND;TZID=UTC:20160725T210000
DTSTAMP:20260426T040804
CREATED:20160531T060140Z
LAST-MODIFIED:20160531T060140Z
UID:3389-1469473200-1469480400@celebrationdayforgirls.com
SUMMARY:Mother's Preparation Session\, Kalista\, VIC
DESCRIPTION:There are places available for this event
URL:https://celebrationdayforgirls.com/event/mothers-preparation-session-kalista-vic-2/
LOCATION:Unnamed Venue\, Kalista\, Victoria\, Australia
ORGANIZER;CN="Melinda Whyman":MAILTO:mummamel@gmail.com
END:VEVENT
BEGIN:VEVENT
DTSTART;TZID=UTC:20160729T190000
DTEND;TZID=UTC:20160729T210000
DTSTAMP:20260426T040804
CREATED:20160613T055605Z
LAST-MODIFIED:20160613T055605Z
UID:1879-1469818800-1469826000@celebrationdayforgirls.com
SUMMARY:Mother's Preparation Session\, Bendigo\, VIC
DESCRIPTION:There are places available for this event.
URL:https://celebrationdayforgirls.com/event/mothers-preparation-session-bendigo-vic/
LOCATION:Unnamed Venue\, Bendigo\, Victoria\, Australia
ORGANIZER;CN="Rebekah Honey":MAILTO:bek@openheartwisdom.com
END:VEVENT
BEGIN:VEVENT
DTSTART;TZID=UTC:20160729T190000
DTEND;TZID=UTC:20160729T210000
DTSTAMP:20260426T040804
CREATED:20160613T055605Z
LAST-MODIFIED:20160613T055605Z
UID:3396-1469818800-1469826000@celebrationdayforgirls.com
SUMMARY:Mother's Preparation Session\, Bendigo\, VIC
DESCRIPTION:There are places available for this event.
URL:https://celebrationdayforgirls.com/event/mothers-preparation-session-bendigo-vic-2/
LOCATION:Unnamed Venue\, Bendigo\, Victoria\, Australia
ORGANIZER;CN="Rebekah Honey":MAILTO:bek@openheartwisdom.com
END:VEVENT
END:VCALENDAR