BEGIN:VCALENDAR
VERSION:2.0
PRODID:-//Celebration Day For Girls - ECPv6.15.20//NONSGML v1.0//EN
CALSCALE:GREGORIAN
METHOD:PUBLISH
X-ORIGINAL-URL:https://celebrationdayforgirls.com
X-WR-CALDESC:Events for Celebration Day For Girls
REFRESH-INTERVAL;VALUE=DURATION:PT1H
X-Robots-Tag:noindex
X-PUBLISHED-TTL:PT1H
BEGIN:VTIMEZONE
TZID:UTC
BEGIN:STANDARD
TZOFFSETFROM:+0000
TZOFFSETTO:+0000
TZNAME:UTC
DTSTART:20240101T000000
END:STANDARD
END:VTIMEZONE
BEGIN:VTIMEZONE
TZID:Africa/Johannesburg
BEGIN:STANDARD
TZOFFSETFROM:+0200
TZOFFSETTO:+0200
TZNAME:SAST
DTSTART:20240101T000000
END:STANDARD
END:VTIMEZONE
BEGIN:VTIMEZONE
TZID:Australia/Melbourne
BEGIN:STANDARD
TZOFFSETFROM:+1100
TZOFFSETTO:+1000
TZNAME:AEST
DTSTART:20240406T160000
END:STANDARD
BEGIN:DAYLIGHT
TZOFFSETFROM:+1000
TZOFFSETTO:+1100
TZNAME:AEDT
DTSTART:20241005T160000
END:DAYLIGHT
BEGIN:STANDARD
TZOFFSETFROM:+1100
TZOFFSETTO:+1000
TZNAME:AEST
DTSTART:20250405T160000
END:STANDARD
BEGIN:DAYLIGHT
TZOFFSETFROM:+1000
TZOFFSETTO:+1100
TZNAME:AEDT
DTSTART:20251004T160000
END:DAYLIGHT
BEGIN:STANDARD
TZOFFSETFROM:+1100
TZOFFSETTO:+1000
TZNAME:AEST
DTSTART:20260404T160000
END:STANDARD
BEGIN:DAYLIGHT
TZOFFSETFROM:+1000
TZOFFSETTO:+1100
TZNAME:AEDT
DTSTART:20261003T160000
END:DAYLIGHT
END:VTIMEZONE
BEGIN:VTIMEZONE
TZID:America/Bogota
BEGIN:STANDARD
TZOFFSETFROM:-0500
TZOFFSETTO:-0500
TZNAME:-05
DTSTART:20240101T000000
END:STANDARD
END:VTIMEZONE
BEGIN:VTIMEZONE
TZID:Pacific/Auckland
BEGIN:STANDARD
TZOFFSETFROM:+1300
TZOFFSETTO:+1200
TZNAME:NZST
DTSTART:20240406T140000
END:STANDARD
BEGIN:DAYLIGHT
TZOFFSETFROM:+1200
TZOFFSETTO:+1300
TZNAME:NZDT
DTSTART:20240928T140000
END:DAYLIGHT
BEGIN:STANDARD
TZOFFSETFROM:+1300
TZOFFSETTO:+1200
TZNAME:NZST
DTSTART:20250405T140000
END:STANDARD
BEGIN:DAYLIGHT
TZOFFSETFROM:+1200
TZOFFSETTO:+1300
TZNAME:NZDT
DTSTART:20250927T140000
END:DAYLIGHT
BEGIN:STANDARD
TZOFFSETFROM:+1300
TZOFFSETTO:+1200
TZNAME:NZST
DTSTART:20260404T140000
END:STANDARD
BEGIN:DAYLIGHT
TZOFFSETFROM:+1200
TZOFFSETTO:+1300
TZNAME:NZDT
DTSTART:20260926T140000
END:DAYLIGHT
END:VTIMEZONE
BEGIN:VTIMEZONE
TZID:America/Lima
BEGIN:STANDARD
TZOFFSETFROM:-0500
TZOFFSETTO:-0500
TZNAME:-05
DTSTART:20240101T000000
END:STANDARD
END:VTIMEZONE
BEGIN:VEVENT
DTSTART;TZID=UTC:20250506T080000
DTEND;TZID=UTC:20250506T100000
DTSTAMP:20260425T033516
CREATED:20241211T165227Z
LAST-MODIFIED:20241211T165227Z
UID:8947-1746518400-1746525600@celebrationdayforgirls.com
SUMMARY:Fathers Celebrating Daughters Facilitator Training Online Week 5
DESCRIPTION:This training started 8/4/25. \nTo apply to join our next training please go here. \nCompletion of Foundations of Menstrual Education or prior CDG training essential.
URL:https://celebrationdayforgirls.com/event/fathers-celebrating-daughters-facilitator-training-online-week-5/
LOCATION:Online\, Your city\, United Kingdom
END:VEVENT
BEGIN:VEVENT
DTSTART;TZID=Africa/Johannesburg:20250509T190000
DTEND;TZID=Africa/Johannesburg:20250509T210000
DTSTAMP:20260425T033516
CREATED:20250407T052033Z
LAST-MODIFIED:20250407T052033Z
UID:9033-1746817200-1746824400@celebrationdayforgirls.com
SUMMARY:Mother's Session\, Hermanus\, South Africa
DESCRIPTION:Places are available for this event.
URL:https://celebrationdayforgirls.com/event/mothers-session-hermanus-south-africa-2/
LOCATION:Hermanus\, South Africa\, Hermanus\, South Africa
ORGANIZER;CN="Maaike Heger":MAILTO:Maaikeheger@gmail.com
END:VEVENT
BEGIN:VEVENT
DTSTART;TZID=Africa/Johannesburg:20250510T100000
DTEND;TZID=Africa/Johannesburg:20250510T160000
DTSTAMP:20260425T033516
CREATED:20250407T051851Z
LAST-MODIFIED:20250407T051851Z
UID:9031-1746871200-1746892800@celebrationdayforgirls.com
SUMMARY:Celebration Day for Girls\, Hermanus\, South Africa
DESCRIPTION:Places are available for this event.
URL:https://celebrationdayforgirls.com/event/celebration-day-for-girls-hermanus-south-africa-3/
LOCATION:Hermanus\, South Africa\, Hermanus\, South Africa
ORGANIZER;CN="Maaike Heger":MAILTO:Maaikeheger@gmail.com
END:VEVENT
BEGIN:VEVENT
DTSTART;TZID=UTC:20250513T080000
DTEND;TZID=UTC:20250513T100000
DTSTAMP:20260425T033516
CREATED:20241211T165317Z
LAST-MODIFIED:20241211T165317Z
UID:8949-1747123200-1747130400@celebrationdayforgirls.com
SUMMARY:Fathers Celebrating Daughters Facilitator Training Online Week 6
DESCRIPTION:This training started 8/4/25. \nTo apply to join our next training please go here. \nCompletion of Foundations of Menstrual Education or prior CDG training essential.
URL:https://celebrationdayforgirls.com/event/fathers-celebrating-daughters-facilitator-training-online-week-6/
LOCATION:Online\, Your city\, United Kingdom
END:VEVENT
BEGIN:VEVENT
DTSTART;TZID=Australia/Melbourne:20250515T183000
DTEND;TZID=Australia/Melbourne:20250515T210000
DTSTAMP:20260425T033516
CREATED:20250503T002540Z
LAST-MODIFIED:20250503T002540Z
UID:9052-1747333800-1747342800@celebrationdayforgirls.com
SUMMARY:Fathers Celebrating Daughters\, Castlemaine\, VIC
DESCRIPTION:Please use the following link to book your place. \nhttps://www.eventbrite.com.au/e/1314220491869?aff=oddtdtcreator
URL:https://celebrationdayforgirls.com/event/fathers-celebrating-daughters-castlemaine-vic-8/
LOCATION:Campbell’s Creek\, Campbell's Creek Community Centre\, Campbell's Creek\, Victoria\, Australia
ORGANIZER;CN="Rachel Pilgrim":MAILTO:rachel.pilgrim@yahoo.com
END:VEVENT
BEGIN:VEVENT
DTSTART;TZID=UTC:20250520T080000
DTEND;TZID=UTC:20250520T100000
DTSTAMP:20260425T033516
CREATED:20241211T165400Z
LAST-MODIFIED:20241211T165400Z
UID:8951-1747728000-1747735200@celebrationdayforgirls.com
SUMMARY:Fathers Celebrating Daughters Facilitator Training Online Week 7
DESCRIPTION:This training started 8/4/25. \nTo apply to join our next training please go here. \nCompletion of Foundations of Menstrual Education or prior CDG training essential.
URL:https://celebrationdayforgirls.com/event/fathers-celebrating-daughters-facilitator-training-online-week-7/
LOCATION:Online\, Your city\, United Kingdom
END:VEVENT
BEGIN:VEVENT
DTSTART;TZID=America/Bogota:20250525T100000
DTEND;TZID=America/Bogota:20250525T160000
DTSTAMP:20260425T033516
CREATED:20250519T003713Z
LAST-MODIFIED:20250519T003713Z
UID:9059-1748167200-1748188800@celebrationdayforgirls.com
SUMMARY:Día de Celebración para Niñas\, Bogota\, Colombia
DESCRIPTION:Places are available for this event.
URL:https://celebrationdayforgirls.com/event/dia-de-celebracion-para-ninas-bogota-colombia-3/
LOCATION:Bogota\, Colombia\, Bogota\, Colombia
ORGANIZER;CN="Laura Martinez":MAILTO:lauramartinezr.lm@gmail.com
END:VEVENT
BEGIN:VEVENT
DTSTART;TZID=America/Bogota:20250529T080000
DTEND;TZID=America/Bogota:20250601T170000
DTSTAMP:20260425T033516
CREATED:20240914T000832Z
LAST-MODIFIED:20241211T112745Z
UID:8813-1748505600-1748797200@celebrationdayforgirls.com
SUMMARY:CDG Facilitator Training: Antioquia\, Colombia
DESCRIPTION:Training in Spanish. Places are available for this event. \n 
URL:https://celebrationdayforgirls.com/event/cdg-facilitator-training-antioquia-colombia/
LOCATION:Bello\, Antioquia\, Colombia\, Bello\, Colombia
ORGANIZER;CN="Facilitator Colombia":MAILTO:anandarashmika@gmail.com
END:VEVENT
BEGIN:VEVENT
DTSTART;TZID=Australia/Melbourne:20250530T174500
DTEND;TZID=Australia/Melbourne:20250601T170000
DTSTAMP:20260425T033516
CREATED:20241211T113121Z
LAST-MODIFIED:20241211T113121Z
UID:8919-1748627100-1748797200@celebrationdayforgirls.com
SUMMARY:CDG Facilitator Training: Victoria\, Australia
DESCRIPTION:Places are available on this training. \nCompletion of Foundations of Menstrual Education or prior CDG training essential to attend. \nPlease apply here.
URL:https://celebrationdayforgirls.com/event/cdg-facilitator-training-victoria-australia/
LOCATION:Tara Springs\, Taradale\, Central Victoria\, Australia\, Tara Springs\, Taradale\, Central Victoria\, Australia
END:VEVENT
BEGIN:VEVENT
DTSTART;TZID=Africa/Johannesburg:20250530T190000
DTEND;TZID=Africa/Johannesburg:20250530T210000
DTSTAMP:20260425T033516
CREATED:20250407T052352Z
LAST-MODIFIED:20250407T052352Z
UID:9037-1748631600-1748638800@celebrationdayforgirls.com
SUMMARY:Mother's Session\, Hermanus\, South Africa
DESCRIPTION:Places are available for this event.
URL:https://celebrationdayforgirls.com/event/mothers-session-hermanus-south-africa-3/
LOCATION:Hermanus\, South Africa\, Hermanus\, South Africa
ORGANIZER;CN="Maaike Heger":MAILTO:Maaikeheger@gmail.com
END:VEVENT
BEGIN:VEVENT
DTSTART;TZID=Africa/Johannesburg:20250531T100000
DTEND;TZID=Africa/Johannesburg:20250531T160000
DTSTAMP:20260425T033516
CREATED:20250407T052220Z
LAST-MODIFIED:20250407T052220Z
UID:9035-1748685600-1748707200@celebrationdayforgirls.com
SUMMARY:Celebration Day for Girls\, Hermanus\, South Africa
DESCRIPTION:Places are available for this event.
URL:https://celebrationdayforgirls.com/event/celebration-day-for-girls-hermanus-south-africa-4/
LOCATION:Hermanus\, South Africa\, Hermanus\, South Africa
ORGANIZER;CN="Maaike Heger":MAILTO:Maaikeheger@gmail.com
END:VEVENT
BEGIN:VEVENT
DTSTART;TZID=Pacific/Auckland:20250608T100000
DTEND;TZID=Pacific/Auckland:20250608T160000
DTSTAMP:20260425T033516
CREATED:20250421T054048Z
LAST-MODIFIED:20250421T054048Z
UID:9041-1749376800-1749398400@celebrationdayforgirls.com
SUMMARY:Celebration Day for Girls\, New Brighton\, Christchurch\, Aotearoa\, New Zealand
DESCRIPTION:Places are available for this event.
URL:https://celebrationdayforgirls.com/event/celebration-day-for-girls-new-brighton-christchurch-aotearoa-new-zealand/
LOCATION:New Brighton\, New Brighton\, Christchurch\, New Zealand
ORGANIZER;CN="Alice Tabak":MAILTO:cdg.alicetabak@gmail.com
END:VEVENT
BEGIN:VEVENT
DTSTART;TZID=America/Bogota:20250627T100000
DTEND;TZID=America/Bogota:20250627T160000
DTSTAMP:20260425T033516
CREATED:20250619T200937Z
LAST-MODIFIED:20250619T200937Z
UID:9071-1751018400-1751040000@celebrationdayforgirls.com
SUMMARY:Día de Celebración para Niñas\, Bogotá\, Colombia
DESCRIPTION:Places are available for this event.
URL:https://celebrationdayforgirls.com/event/dia-de-celebracion-para-ninas-bogota-colombia-4/
LOCATION:Bogota\, Colombia\, Bogota\, Colombia
ORGANIZER;CN="Nathali Gil":MAILTO:natarock.173@gmail.com
END:VEVENT
BEGIN:VEVENT
DTSTART;TZID=UTC:20250710T100000
DTEND;TZID=UTC:20250710T160000
DTSTAMP:20260425T033516
CREATED:20250619T201352Z
LAST-MODIFIED:20250619T201352Z
UID:9073-1752141600-1752163200@celebrationdayforgirls.com
SUMMARY:Día de Celebración para Niñas\, Naples\, Florida\, USA
DESCRIPTION:Places are available for this event.
URL:https://celebrationdayforgirls.com/event/dia-de-celebracion-para-ninas-naples-florida-usa-2/
LOCATION:Naples\, Florida\, Naples\, United States
ORGANIZER;CN="Deisy Avellaneda":MAILTO:Deisyavellaneda0@gmail.com
END:VEVENT
BEGIN:VEVENT
DTSTART;TZID=Africa/Johannesburg:20250712T100000
DTEND;TZID=Africa/Johannesburg:20250712T160000
DTSTAMP:20260425T033516
CREATED:20250704T065801Z
LAST-MODIFIED:20250704T065801Z
UID:9102-1752314400-1752336000@celebrationdayforgirls.com
SUMMARY:Celebration Day for Girls\, Gqeberha\, South Africa
DESCRIPTION:Places are available for this event.
URL:https://celebrationdayforgirls.com/event/celebration-day-for-girls-gqeberha-south-africa-2/
LOCATION:Gqeberha\, Gqeberha\, South Africa
ORGANIZER;CN="Anusooya Gosai":MAILTO:anusooya.gosai@gmail.com
END:VEVENT
BEGIN:VEVENT
DTSTART;TZID=America/Bogota:20250716T100000
DTEND;TZID=America/Bogota:20250716T160000
DTSTAMP:20260425T033516
CREATED:20250718T064246Z
LAST-MODIFIED:20250718T064246Z
UID:9113-1752660000-1752681600@celebrationdayforgirls.com
SUMMARY:Día de Celebración para Niñas\, La Ceja\, Colombia
DESCRIPTION:Places are available for this event.
URL:https://celebrationdayforgirls.com/event/dia-de-celebracion-para-ninas-la-ceja-colombia-6/
LOCATION:La Ceja\, La Ceja\, Colombia
ORGANIZER;CN="Nathali Gil":MAILTO:natarock.173@gmail.com
END:VEVENT
BEGIN:VEVENT
DTSTART;TZID=America/Bogota:20250717T100000
DTEND;TZID=America/Bogota:20250717T160000
DTSTAMP:20260425T033516
CREATED:20250423T071916Z
LAST-MODIFIED:20250423T071916Z
UID:9046-1752746400-1752768000@celebrationdayforgirls.com
SUMMARY:Día de Celebración para Niñas\, La Ceja\, Colombia
DESCRIPTION:Places are available for this event.
URL:https://celebrationdayforgirls.com/event/dia-de-celebracion-para-ninas-la-ceja-colombia-4/
LOCATION:La Ceja\, La Ceja\, Colombia
ORGANIZER;CN="Nathali Gil":MAILTO:natarock.173@gmail.com
END:VEVENT
BEGIN:VEVENT
DTSTART;TZID=Pacific/Auckland:20250720T100000
DTEND;TZID=Pacific/Auckland:20250720T160000
DTSTAMP:20260425T033516
CREATED:20250421T054243Z
LAST-MODIFIED:20250421T054243Z
UID:9044-1753005600-1753027200@celebrationdayforgirls.com
SUMMARY:Celebration Day for Girls\, Heathcote Valley\, Christchurch\, Aotearoa\, New Zealand
DESCRIPTION:Places are available for this event.
URL:https://celebrationdayforgirls.com/event/celebration-day-for-girls-heathcote-valley-christchurch-aotearoa-new-zealand/
LOCATION:Heathcote Valley\, Heathcote Valley\, New Zealand
ORGANIZER;CN="Alice Tabak":MAILTO:cdg.alicetabak@gmail.com
END:VEVENT
BEGIN:VEVENT
DTSTART;TZID=America/Bogota:20250720T100000
DTEND;TZID=America/Bogota:20250720T160000
DTSTAMP:20260425T033516
CREATED:20250619T201544Z
LAST-MODIFIED:20250619T201544Z
UID:9075-1753005600-1753027200@celebrationdayforgirls.com
SUMMARY:Día de Celebración para Niñas\, Medellín\, Colombia
DESCRIPTION:Places are available for this event.
URL:https://celebrationdayforgirls.com/event/dia-de-celebracion-para-ninas-medellin-colombia-3/
LOCATION:Medellín\, Colombia\, Medellin\, Colombia
ORGANIZER;CN="Liliana Celis":MAILTO:lilianacelisb@gmail.com
END:VEVENT
BEGIN:VEVENT
DTSTART;TZID=America/Bogota:20250720T100000
DTEND;TZID=America/Bogota:20250720T160000
DTSTAMP:20260425T033516
CREATED:20250718T064836Z
LAST-MODIFIED:20250718T064836Z
UID:9115-1753005600-1753027200@celebrationdayforgirls.com
SUMMARY:Día de Celebración para Niñas\, Cali\, Colombia
DESCRIPTION:Places are available for this event.
URL:https://celebrationdayforgirls.com/event/dia-de-celebracion-para-ninas-cali-colombia-2/
LOCATION:Cali\, Colombia\, Cali\, Colombia
ORGANIZER;CN="Claudia Ossa":MAILTO:clau.ossa7816@gmail.com
END:VEVENT
BEGIN:VEVENT
DTSTART;TZID=America/Bogota:20250722T100000
DTEND;TZID=America/Bogota:20250722T160000
DTSTAMP:20260425T033516
CREATED:20250423T072026Z
LAST-MODIFIED:20250423T072026Z
UID:9048-1753178400-1753200000@celebrationdayforgirls.com
SUMMARY:Día de Celebración para Niñas\, La Ceja\, Colombia
DESCRIPTION:Places are available for this event.
URL:https://celebrationdayforgirls.com/event/dia-de-celebracion-para-ninas-la-ceja-colombia-5/
LOCATION:La Ceja\, La Ceja\, Colombia
ORGANIZER;CN="Nathali Gil":MAILTO:natarock.173@gmail.com
END:VEVENT
BEGIN:VEVENT
DTSTART;TZID=America/Bogota:20250729T100000
DTEND;TZID=America/Bogota:20250729T160000
DTSTAMP:20260425T033516
CREATED:20250730T004204Z
LAST-MODIFIED:20250730T004204Z
UID:9127-1753783200-1753804800@celebrationdayforgirls.com
SUMMARY:Día de Celebración para Niñas\, El Carmen de Viboral\, Colombia
DESCRIPTION:Places are available for this event.
URL:https://celebrationdayforgirls.com/event/dia-de-celebracion-para-ninas-el-carmen-de-viboral-colombia/
LOCATION:El Carmen de Viboral\, El Carmen de Viboral\, Colombia
ORGANIZER;CN="Yecenia Gutierrez":MAILTO:yeceniagutierrezo@hotmail.com
END:VEVENT
BEGIN:VEVENT
DTSTART;TZID=America/Bogota:20250805T100000
DTEND;TZID=America/Bogota:20250805T160000
DTSTAMP:20260425T033516
CREATED:20250730T005626Z
LAST-MODIFIED:20250730T005626Z
UID:9130-1754388000-1754409600@celebrationdayforgirls.com
SUMMARY:Día de Celebración para Niñas\, Medellín\, Colombia
DESCRIPTION:Places are available for this event.
URL:https://celebrationdayforgirls.com/event/dia-de-celebracion-para-ninas-medellin-colombia-4/
LOCATION:Medellín\, Colombia\, Medellin\, Colombia
ORGANIZER;CN="Luz Karime Restrepo":MAILTO:luzkarimerestrepojimenez@gmail.com
END:VEVENT
BEGIN:VEVENT
DTSTART;TZID=America/Bogota:20250812T100000
DTEND;TZID=America/Bogota:20250812T160000
DTSTAMP:20260425T033516
CREATED:20250730T005936Z
LAST-MODIFIED:20250730T005936Z
UID:9132-1754992800-1755014400@celebrationdayforgirls.com
SUMMARY:Día de Celebración para Niñas\, Medellín\, Colombia
DESCRIPTION:Places are available for this event.
URL:https://celebrationdayforgirls.com/event/dia-de-celebracion-para-ninas-medellin-colombia-5/
LOCATION:Medellín\, Colombia\, Medellin\, Colombia
ORGANIZER;CN="Luz Karime Restrepo":MAILTO:luzkarimerestrepojimenez@gmail.com
END:VEVENT
BEGIN:VEVENT
DTSTART;TZID=America/Bogota:20250816T100000
DTEND;TZID=America/Bogota:20250816T160000
DTSTAMP:20260425T033516
CREATED:20250730T010336Z
LAST-MODIFIED:20250730T010336Z
UID:9134-1755338400-1755360000@celebrationdayforgirls.com
SUMMARY:Día de Celebración para Niñas\, Medellín\, Colombia
DESCRIPTION:Places are available for this event.
URL:https://celebrationdayforgirls.com/event/dia-de-celebracion-para-ninas-medellin-colombia-6/
LOCATION:Medellín\, Colombia\, Medellin\, Colombia
ORGANIZER;CN="Liliana Celis":MAILTO:lilianacelisb@gmail.com
END:VEVENT
BEGIN:VEVENT
DTSTART;TZID=UTC:20250817T100000
DTEND;TZID=UTC:20250817T160000
DTSTAMP:20260425T033516
CREATED:20251009T053836Z
LAST-MODIFIED:20251009T053836Z
UID:9221-1755424800-1755446400@celebrationdayforgirls.com
SUMMARY:Celebration Day for Girls\, Falmouth\, UK
DESCRIPTION:Places are available for this event.
URL:https://celebrationdayforgirls.com/event/celebration-day-for-girls-falmouth-uk-2/
LOCATION:Falmouth\, Cornwall\, United Kingdom
ORGANIZER;CN="Victoria Dufour":MAILTO:victoria@natureandme.co.uk
END:VEVENT
BEGIN:VEVENT
DTSTART;TZID=America/Bogota:20250819T100000
DTEND;TZID=America/Bogota:20250819T160000
DTSTAMP:20260425T033516
CREATED:20250730T010456Z
LAST-MODIFIED:20250730T010456Z
UID:9136-1755597600-1755619200@celebrationdayforgirls.com
SUMMARY:Día de Celebración para Niñas\, Medellín\, Colombia
DESCRIPTION:Places are available for this event.
URL:https://celebrationdayforgirls.com/event/dia-de-celebracion-para-ninas-medellin-colombia-7/
LOCATION:Medellín\, Colombia\, Medellin\, Colombia
ORGANIZER;CN="Luz Karime Restrepo":MAILTO:luzkarimerestrepojimenez@gmail.com
END:VEVENT
BEGIN:VEVENT
DTSTART;TZID=America/Bogota:20250821T100000
DTEND;TZID=America/Bogota:20250821T160000
DTSTAMP:20260425T033516
CREATED:20250730T010804Z
LAST-MODIFIED:20250730T010804Z
UID:9138-1755770400-1755792000@celebrationdayforgirls.com
SUMMARY:Día de Celebración para Niñas\, Cocorná\, Colombia
DESCRIPTION:Places are available for this event.
URL:https://celebrationdayforgirls.com/event/dia-de-celebracion-para-ninas-cocorna-colombia/
LOCATION:Cocorna\, Colombia\, Cocorna\, Colombia
ORGANIZER;CN="Didi Ananda Rashmika & Yecenia Gutierrez":MAILTO:anandarashmika@gmail.com
END:VEVENT
BEGIN:VEVENT
DTSTART;TZID=America/Bogota:20250823T100000
DTEND;TZID=America/Bogota:20250823T160000
DTSTAMP:20260425T033516
CREATED:20250815T103301Z
LAST-MODIFIED:20250815T103301Z
UID:9148-1755943200-1755964800@celebrationdayforgirls.com
SUMMARY:Día de Celebración para Niñas\, Medellin\, Colombia
DESCRIPTION:Places are available for this event.
URL:https://celebrationdayforgirls.com/event/dia-de-celebracion-para-ninas-medellin-colombia-8/
LOCATION:Medellín\, Colombia\, Medellin\, Colombia
ORGANIZER;CN="Daniela Olarte":MAILTO:danielaolartepa@gmail.com
END:VEVENT
BEGIN:VEVENT
DTSTART;TZID=America/Lima:20250824T100000
DTEND;TZID=America/Lima:20250824T160000
DTSTAMP:20260425T033516
CREATED:20250815T103948Z
LAST-MODIFIED:20250815T103948Z
UID:9150-1756029600-1756051200@celebrationdayforgirls.com
SUMMARY:Día de Celebración para Niñas\, Lima\, Peru
DESCRIPTION:Places are available for this event.
URL:https://celebrationdayforgirls.com/event/dia-de-celebracion-para-ninas-lima-peru/
LOCATION:Lima\, Lima\, Peru
ORGANIZER;CN="Elma Noningo":MAILTO:angelina.noningo@gmail.com
END:VEVENT
END:VCALENDAR