BEGIN:VCALENDAR
VERSION:2.0
PRODID:-//Celebration Day For Girls - ECPv6.15.20//NONSGML v1.0//EN
CALSCALE:GREGORIAN
METHOD:PUBLISH
X-ORIGINAL-URL:https://celebrationdayforgirls.com
X-WR-CALDESC:Events for Celebration Day For Girls
REFRESH-INTERVAL;VALUE=DURATION:PT1H
X-Robots-Tag:noindex
X-PUBLISHED-TTL:PT1H
BEGIN:VTIMEZONE
TZID:Australia/Melbourne
BEGIN:STANDARD
TZOFFSETFROM:+1100
TZOFFSETTO:+1000
TZNAME:AEST
DTSTART:20230401T160000
END:STANDARD
BEGIN:DAYLIGHT
TZOFFSETFROM:+1000
TZOFFSETTO:+1100
TZNAME:AEDT
DTSTART:20230930T160000
END:DAYLIGHT
BEGIN:STANDARD
TZOFFSETFROM:+1100
TZOFFSETTO:+1000
TZNAME:AEST
DTSTART:20240406T160000
END:STANDARD
BEGIN:DAYLIGHT
TZOFFSETFROM:+1000
TZOFFSETTO:+1100
TZNAME:AEDT
DTSTART:20241005T160000
END:DAYLIGHT
BEGIN:STANDARD
TZOFFSETFROM:+1100
TZOFFSETTO:+1000
TZNAME:AEST
DTSTART:20250405T160000
END:STANDARD
BEGIN:DAYLIGHT
TZOFFSETFROM:+1000
TZOFFSETTO:+1100
TZNAME:AEDT
DTSTART:20251004T160000
END:DAYLIGHT
END:VTIMEZONE
BEGIN:VTIMEZONE
TZID:America/Mexico_City
BEGIN:STANDARD
TZOFFSETFROM:-0600
TZOFFSETTO:-0600
TZNAME:CST
DTSTART:20230101T000000
END:STANDARD
END:VTIMEZONE
BEGIN:VTIMEZONE
TZID:Pacific/Auckland
BEGIN:STANDARD
TZOFFSETFROM:+1300
TZOFFSETTO:+1200
TZNAME:NZST
DTSTART:20230401T140000
END:STANDARD
BEGIN:DAYLIGHT
TZOFFSETFROM:+1200
TZOFFSETTO:+1300
TZNAME:NZDT
DTSTART:20230923T140000
END:DAYLIGHT
BEGIN:STANDARD
TZOFFSETFROM:+1300
TZOFFSETTO:+1200
TZNAME:NZST
DTSTART:20240406T140000
END:STANDARD
BEGIN:DAYLIGHT
TZOFFSETFROM:+1200
TZOFFSETTO:+1300
TZNAME:NZDT
DTSTART:20240928T140000
END:DAYLIGHT
BEGIN:STANDARD
TZOFFSETFROM:+1300
TZOFFSETTO:+1200
TZNAME:NZST
DTSTART:20250405T140000
END:STANDARD
BEGIN:DAYLIGHT
TZOFFSETFROM:+1200
TZOFFSETTO:+1300
TZNAME:NZDT
DTSTART:20250927T140000
END:DAYLIGHT
END:VTIMEZONE
BEGIN:VTIMEZONE
TZID:Australia/Adelaide
BEGIN:STANDARD
TZOFFSETFROM:+1030
TZOFFSETTO:+0930
TZNAME:ACST
DTSTART:20230401T163000
END:STANDARD
BEGIN:DAYLIGHT
TZOFFSETFROM:+0930
TZOFFSETTO:+1030
TZNAME:ACDT
DTSTART:20230930T163000
END:DAYLIGHT
BEGIN:STANDARD
TZOFFSETFROM:+1030
TZOFFSETTO:+0930
TZNAME:ACST
DTSTART:20240406T163000
END:STANDARD
BEGIN:DAYLIGHT
TZOFFSETFROM:+0930
TZOFFSETTO:+1030
TZNAME:ACDT
DTSTART:20241005T163000
END:DAYLIGHT
BEGIN:STANDARD
TZOFFSETFROM:+1030
TZOFFSETTO:+0930
TZNAME:ACST
DTSTART:20250405T163000
END:STANDARD
BEGIN:DAYLIGHT
TZOFFSETFROM:+0930
TZOFFSETTO:+1030
TZNAME:ACDT
DTSTART:20251004T163000
END:DAYLIGHT
END:VTIMEZONE
BEGIN:VTIMEZONE
TZID:Europe/Dublin
BEGIN:STANDARD
TZOFFSETFROM:+0000
TZOFFSETTO:+0100
TZNAME:IST
DTSTART:20230326T010000
END:STANDARD
BEGIN:DAYLIGHT
TZOFFSETFROM:+0100
TZOFFSETTO:+0000
TZNAME:GMT
DTSTART:20231029T010000
END:DAYLIGHT
BEGIN:STANDARD
TZOFFSETFROM:+0000
TZOFFSETTO:+0100
TZNAME:IST
DTSTART:20240331T010000
END:STANDARD
BEGIN:DAYLIGHT
TZOFFSETFROM:+0100
TZOFFSETTO:+0000
TZNAME:GMT
DTSTART:20241027T010000
END:DAYLIGHT
BEGIN:STANDARD
TZOFFSETFROM:+0000
TZOFFSETTO:+0100
TZNAME:IST
DTSTART:20250330T010000
END:STANDARD
BEGIN:DAYLIGHT
TZOFFSETFROM:+0100
TZOFFSETTO:+0000
TZNAME:GMT
DTSTART:20251026T010000
END:DAYLIGHT
END:VTIMEZONE
BEGIN:VTIMEZONE
TZID:UTC
BEGIN:STANDARD
TZOFFSETFROM:+0000
TZOFFSETTO:+0000
TZNAME:UTC
DTSTART:20230101T000000
END:STANDARD
END:VTIMEZONE
BEGIN:VTIMEZONE
TZID:America/Bogota
BEGIN:STANDARD
TZOFFSETFROM:-0500
TZOFFSETTO:-0500
TZNAME:-05
DTSTART:20230101T000000
END:STANDARD
END:VTIMEZONE
BEGIN:VTIMEZONE
TZID:Europe/London
BEGIN:DAYLIGHT
TZOFFSETFROM:+0000
TZOFFSETTO:+0100
TZNAME:BST
DTSTART:20230326T010000
END:DAYLIGHT
BEGIN:STANDARD
TZOFFSETFROM:+0100
TZOFFSETTO:+0000
TZNAME:GMT
DTSTART:20231029T010000
END:STANDARD
BEGIN:DAYLIGHT
TZOFFSETFROM:+0000
TZOFFSETTO:+0100
TZNAME:BST
DTSTART:20240331T010000
END:DAYLIGHT
BEGIN:STANDARD
TZOFFSETFROM:+0100
TZOFFSETTO:+0000
TZNAME:GMT
DTSTART:20241027T010000
END:STANDARD
BEGIN:DAYLIGHT
TZOFFSETFROM:+0000
TZOFFSETTO:+0100
TZNAME:BST
DTSTART:20250330T010000
END:DAYLIGHT
BEGIN:STANDARD
TZOFFSETFROM:+0100
TZOFFSETTO:+0000
TZNAME:GMT
DTSTART:20251026T010000
END:STANDARD
END:VTIMEZONE
BEGIN:VTIMEZONE
TZID:Africa/Johannesburg
BEGIN:STANDARD
TZOFFSETFROM:+0200
TZOFFSETTO:+0200
TZNAME:SAST
DTSTART:20230101T000000
END:STANDARD
END:VTIMEZONE
BEGIN:VEVENT
DTSTART;TZID=Australia/Melbourne:20240714T100000
DTEND;TZID=Australia/Melbourne:20240714T160000
DTSTAMP:20260420T065548
CREATED:20240426T055702Z
LAST-MODIFIED:20240426T055702Z
UID:8639-1720951200-1720972800@celebrationdayforgirls.com
SUMMARY:Celebration Day for Girls\, Castlemaine\, VIC
DESCRIPTION:Places are available for this event.
URL:https://celebrationdayforgirls.com/event/celebration-day-for-girls-castlemaine-vic-26/
LOCATION:Castlemaine
ORGANIZER;CN="Rachel Pilgrim":MAILTO:rachel.pilgrim@yahoo.com
END:VEVENT
BEGIN:VEVENT
DTSTART;TZID=America/Mexico_City:20240718T100000
DTEND;TZID=America/Mexico_City:20240718T160000
DTSTAMP:20260420T065548
CREATED:20240716T014010Z
LAST-MODIFIED:20240716T014010Z
UID:8742-1721296800-1721318400@celebrationdayforgirls.com
SUMMARY:Día de Celebración para Niñas\, Meoqui\, Chihuahua\, Mexico
DESCRIPTION:Places are available for this event.
URL:https://celebrationdayforgirls.com/event/dia-de-celebracion-para-ninas-meoqui-chihuahua-mexico/
LOCATION:Meoqui\, Chihuahua\, Mexico\, Meoqui\, Chihuahua\, Mexico\, Mexico
ORGANIZER;CN="Yolanda Huizar":MAILTO:Jolanda.w61@gmail.com
END:VEVENT
BEGIN:VEVENT
DTSTART;TZID=Pacific/Auckland:20240727T190000
DTEND;TZID=Pacific/Auckland:20240727T210000
DTSTAMP:20260420T065548
CREATED:20240701T033425Z
LAST-MODIFIED:20240701T033425Z
UID:8711-1722106800-1722114000@celebrationdayforgirls.com
SUMMARY:Mother's Session\, Paraparaumu\, Kapiti Coast\, New Zealand
DESCRIPTION:This is a class event. Please contact the facilitator for future events.
URL:https://celebrationdayforgirls.com/event/mothers-session-paraparaumu-kapiti-coast-new-zealand/
LOCATION:Paraparaumu New Zealand
ORGANIZER;CN="Angela Roberts":MAILTO:nzangelaroberts@gmail.com
END:VEVENT
BEGIN:VEVENT
DTSTART;TZID=Pacific/Auckland:20240728T100000
DTEND;TZID=Pacific/Auckland:20240728T153000
DTSTAMP:20260420T065548
CREATED:20240701T033035Z
LAST-MODIFIED:20240701T033035Z
UID:8707-1722160800-1722180600@celebrationdayforgirls.com
SUMMARY:Celebration Day for Girls\, Paraparaumu\, Kapiti Coast\, New Zealand
DESCRIPTION:This is a class event. Please contact the facilitator for future upcoming events.
URL:https://celebrationdayforgirls.com/event/celebration-day-for-girls-paraparaumu-kapiti-coast-new-zealand/
LOCATION:Paraparaumu\, Kapiti Coast New Zealand\, Paraparaumu\, New Zealand
ORGANIZER;CN="Angela Roberts":MAILTO:nzangelaroberts@gmail.com
END:VEVENT
BEGIN:VEVENT
DTSTART;TZID=Australia/Adelaide:20240811T100000
DTEND;TZID=Australia/Adelaide:20240811T160000
DTSTAMP:20260420T065548
CREATED:20240812T050437Z
LAST-MODIFIED:20240812T050437Z
UID:8748-1723370400-1723392000@celebrationdayforgirls.com
SUMMARY:Celebration Day For Girls\, Aldgate\, SA
DESCRIPTION:Places are available for this event.
URL:https://celebrationdayforgirls.com/event/celebration-day-for-girls-aldgate-sa-4/
LOCATION:Aldgate\, Aldgate\, Adelaide\, South Australia\, Australia
ORGANIZER;CN="Artemis House":MAILTO:artemis@she-awakening.com.au
END:VEVENT
BEGIN:VEVENT
DTSTART;TZID=Europe/Dublin:20240812T100000
DTEND;TZID=Europe/Dublin:20240812T160000
DTSTAMP:20260420T065548
CREATED:20240812T050809Z
LAST-MODIFIED:20240812T050809Z
UID:8751-1723456800-1723478400@celebrationdayforgirls.com
SUMMARY:Celebration Day for Girls\, Wicklow\, Ireland
DESCRIPTION:Places are available for this event.
URL:https://celebrationdayforgirls.com/event/celebration-day-for-girls-wicklow-ireland-2/
LOCATION:Wicklow\, Ireland\, Wicklow\, Ireland
ORGANIZER;CN="Emma Sheridan":MAILTO:emjsher@gmail.com
END:VEVENT
BEGIN:VEVENT
DTSTART;TZID=Europe/Dublin:20240817T100000
DTEND;TZID=Europe/Dublin:20240817T160000
DTSTAMP:20260420T065548
CREATED:20240812T092658Z
LAST-MODIFIED:20240812T092658Z
UID:8755-1723888800-1723910400@celebrationdayforgirls.com
SUMMARY:Celebration Day for Girls\, Wicklow\, Ireland
DESCRIPTION:Places are available for this event.
URL:https://celebrationdayforgirls.com/event/celebration-day-for-girls-wicklow-ireland-4/
LOCATION:Wicklow\, Ireland\, Wicklow\, Ireland
ORGANIZER;CN="Emma Sheridan":MAILTO:emjsher@gmail.com
END:VEVENT
BEGIN:VEVENT
DTSTART;VALUE=DATE:20240829
DTEND;VALUE=DATE:20240830
DTSTAMP:20260420T065548
CREATED:20240819T143255Z
LAST-MODIFIED:20240831T003722Z
UID:8770-1724889600-1724975999@celebrationdayforgirls.com
SUMMARY:Foundations of Menstrual Education - 8 week course
DESCRIPTION:If you’re interested in joining our 8 week training in menstrual education\, go here for more info. Booking open until Monday 2nd September 2024.
URL:https://celebrationdayforgirls.com/event/foundations-of-menstrual-education-8-week-course/
LOCATION:Online\, Your city\, United Kingdom
ORGANIZER;CN="Emily Stewart":MAILTO:emilycestewart@gmail.com 
END:VEVENT
BEGIN:VEVENT
DTSTART;TZID=America/Bogota:20240915T100000
DTEND;TZID=America/Bogota:20240915T160000
DTSTAMP:20260420T065548
CREATED:20240914T001515Z
LAST-MODIFIED:20240914T001515Z
UID:8816-1726394400-1726416000@celebrationdayforgirls.com
SUMMARY:Día de Celebración para Niñas\, Cali\, Colombia
DESCRIPTION:Places are available for this event.
URL:https://celebrationdayforgirls.com/event/dia-de-celebracion-para-ninas-cali-colombia/
LOCATION:Cali\, Colombia\, Cali\, Colombia
ORGANIZER;CN="Claudia Ossa":MAILTO:clau.ossa7816@gmail.com
END:VEVENT
BEGIN:VEVENT
DTSTART;TZID=UTC:20240921T190000
DTEND;TZID=UTC:20240921T210000
DTSTAMP:20260420T065548
CREATED:20240510T063341Z
LAST-MODIFIED:20240510T063341Z
UID:8670-1726945200-1726952400@celebrationdayforgirls.com
SUMMARY:Fathers Celebrating Daughters\, Falmouth\, Cornwall\, UK
DESCRIPTION:Places are available for this event.
URL:https://celebrationdayforgirls.com/event/fathers-celebrating-daughters-falmouth-cornwall-uk-3/
ORGANIZER;CN="Victoria Dufour":MAILTO:victoria@natureandme.co.uk
END:VEVENT
BEGIN:VEVENT
DTSTART;TZID=Europe/London:20240922T100000
DTEND;TZID=Europe/London:20240922T160000
DTSTAMP:20260420T065548
CREATED:20240510T062419Z
LAST-MODIFIED:20240510T062419Z
UID:8662-1726999200-1727020800@celebrationdayforgirls.com
SUMMARY:Celebration Day for Girls\, Falmouth\, Cornwall\, UK
DESCRIPTION:Places are available for this event.
URL:https://celebrationdayforgirls.com/event/celebration-day-for-girls-falmouth-cornwall-uk-5/
LOCATION:Falmouth\, Cornwall\, UK\, United Kingdom
ORGANIZER;CN="Victoria Dufour":MAILTO:victoria@natureandme.co.uk
END:VEVENT
BEGIN:VEVENT
DTSTART;TZID=Australia/Melbourne:20240922T100000
DTEND;TZID=Australia/Melbourne:20240922T160000
DTSTAMP:20260420T065548
CREATED:20240819T061252Z
LAST-MODIFIED:20240819T061252Z
UID:8757-1726999200-1727020800@celebrationdayforgirls.com
SUMMARY:Celebration Day For Girls (Outreach)\, Croydon\, VIC
DESCRIPTION:Places are available for this event.
URL:https://celebrationdayforgirls.com/event/celebration-day-for-girls-outreach-croydon-vic/
LOCATION:Croydon\, Croydon\, Australia
ORGANIZER;CN="Lori Elizabeth":MAILTO:lori.elizabeth@outlook.com
END:VEVENT
BEGIN:VEVENT
DTSTART;TZID=Africa/Johannesburg:20240925T090000
DTEND;TZID=Africa/Johannesburg:20240925T110000
DTSTAMP:20260420T065548
CREATED:20240906T121243Z
LAST-MODIFIED:20240906T121243Z
UID:8801-1727254800-1727262000@celebrationdayforgirls.com
SUMMARY:Mother's Session\, Hermanus\, South Africa
DESCRIPTION:Places are available for this event.
URL:https://celebrationdayforgirls.com/event/mothers-session-hermanus-south-africa/
LOCATION:Hermanus\, South Africa\, Hermanus\, South Africa
ORGANIZER;CN="Maaike Heger":MAILTO:Maaikeheger@gmail.com
END:VEVENT
BEGIN:VEVENT
DTSTART;TZID=Africa/Johannesburg:20240928T100000
DTEND;TZID=Africa/Johannesburg:20240928T160000
DTSTAMP:20260420T065548
CREATED:20240906T120901Z
LAST-MODIFIED:20240906T120901Z
UID:8797-1727517600-1727539200@celebrationdayforgirls.com
SUMMARY:Celebration Day for Girls\, Hermanus\, South Africa
DESCRIPTION:Places are available for this event.
URL:https://celebrationdayforgirls.com/event/celebration-day-for-girls-hermanus-south-africa/
LOCATION:Hermanus\, South Africa\, Hermanus\, South Africa
ORGANIZER;CN="Maaike Heger":MAILTO:Maaikeheger@gmail.com
END:VEVENT
BEGIN:VEVENT
DTSTART;TZID=Australia/Melbourne:20241011T183000
DTEND;TZID=Australia/Melbourne:20241011T203000
DTSTAMP:20260420T065548
CREATED:20240819T062141Z
LAST-MODIFIED:20240819T062141Z
UID:8762-1728671400-1728678600@celebrationdayforgirls.com
SUMMARY:Mother's Session\, Shepparton\, VIC
DESCRIPTION:Places are available for this event.
URL:https://celebrationdayforgirls.com/event/mothers-session-shepparton-vic-6/
LOCATION:Shepparton\, Shepparton\, Australia
ORGANIZER;CN="Nicole Tricarico":MAILTO:ntricarico@bigpond.com
END:VEVENT
BEGIN:VEVENT
DTSTART;TZID=UTC:20241012T100000
DTEND;TZID=UTC:20241012T160000
DTSTAMP:20260420T065548
CREATED:20240914T002153Z
LAST-MODIFIED:20240914T002153Z
UID:8819-1728727200-1728748800@celebrationdayforgirls.com
SUMMARY:Día de Celebración para Niñas\, Naples\, Florida
DESCRIPTION:Places are available for this event.
URL:https://celebrationdayforgirls.com/event/dia-de-celebracion-para-ninas-naples-florida/
LOCATION:Naples\, Florida\, Naples\, United States
ORGANIZER;CN="Deisy Avellaneda":MAILTO:Deisyavellaneda0@gmail.com
END:VEVENT
BEGIN:VEVENT
DTSTART;TZID=UTC:20241018T190000
DTEND;TZID=UTC:20241018T210000
DTSTAMP:20260420T065548
CREATED:20240903T102527Z
LAST-MODIFIED:20240903T102527Z
UID:8795-1729278000-1729285200@celebrationdayforgirls.com
SUMMARY:Mother's Session\, London\, UK
DESCRIPTION:Places are available for this event.
URL:https://celebrationdayforgirls.com/event/mothers-session-london-uk-15/
LOCATION:London\, London\, United Kingdom
ORGANIZER;CN="Elena Riu":MAILTO:elenariu@easynet.co.uk
END:VEVENT
BEGIN:VEVENT
DTSTART;TZID=Europe/Dublin:20241019T080000
DTEND;TZID=Europe/Dublin:20241019T170000
DTSTAMP:20260420T065548
CREATED:20240812T050946Z
LAST-MODIFIED:20240812T050946Z
UID:8753-1729324800-1729357200@celebrationdayforgirls.com
SUMMARY:Celebration Day for Girls\, Wicklow\, Ireland
DESCRIPTION:Places are available for this event.
URL:https://celebrationdayforgirls.com/event/celebration-day-for-girls-wicklow-ireland-3/
LOCATION:Wicklow\, Ireland\, Wicklow\, Ireland
ORGANIZER;CN="Emma Sheridan":MAILTO:emjsher@gmail.com
END:VEVENT
BEGIN:VEVENT
DTSTART;TZID=UTC:20241019T190000
DTEND;TZID=UTC:20241019T210000
DTSTAMP:20260420T065548
CREATED:20240510T063518Z
LAST-MODIFIED:20240510T063518Z
UID:8672-1729364400-1729371600@celebrationdayforgirls.com
SUMMARY:Fathers Celebrating Daughters\, Falmouth\, Cornwall\, UK
DESCRIPTION:Places are available for this event.
URL:https://celebrationdayforgirls.com/event/fathers-celebrating-daughters-falmouth-cornwall-uk-4/
LOCATION:Falmouth\, Cornwall\, UK\, United Kingdom
ORGANIZER;CN="Victoria Dufour":MAILTO:victoria@natureandme.co.uk
END:VEVENT
BEGIN:VEVENT
DTSTART;TZID=Australia/Melbourne:20241020T093000
DTEND;TZID=Australia/Melbourne:20241020T163000
DTSTAMP:20260420T065548
CREATED:20240819T062025Z
LAST-MODIFIED:20240819T062025Z
UID:8760-1729416600-1729441800@celebrationdayforgirls.com
SUMMARY:Celebration Day for Girls\, Shepparton\, VIC
DESCRIPTION:Places are available for this event.
URL:https://celebrationdayforgirls.com/event/celebration-day-for-girls-shepparton-vic-12/
LOCATION:Shepparton\, Shepparton\, Australia
ORGANIZER;CN="Nicole Tricarico":MAILTO:ntricarico@bigpond.com
END:VEVENT
BEGIN:VEVENT
DTSTART;TZID=UTC:20241020T100000
DTEND;TZID=UTC:20241020T160000
DTSTAMP:20260420T065548
CREATED:20240510T062542Z
LAST-MODIFIED:20240510T062542Z
UID:8664-1729418400-1729440000@celebrationdayforgirls.com
SUMMARY:Celebration Day for Girls\, Falmouth\, Cornwall\, UK
DESCRIPTION:Places are available for this event.
URL:https://celebrationdayforgirls.com/event/celebration-day-for-girls-falmouth-cornwall-uk-6/
LOCATION:Falmouth\, Cornwall\, UK\, United Kingdom
ORGANIZER;CN="Victoria Dufour":MAILTO:victoria@natureandme.co.uk
END:VEVENT
BEGIN:VEVENT
DTSTART;TZID=UTC:20241020T100000
DTEND;TZID=UTC:20241020T160000
DTSTAMP:20260420T065548
CREATED:20240903T102353Z
LAST-MODIFIED:20240903T102353Z
UID:8793-1729418400-1729440000@celebrationdayforgirls.com
SUMMARY:Celebration Day for Girls\, London\, UK
DESCRIPTION:Places are available for this event.
URL:https://celebrationdayforgirls.com/event/celebration-day-for-girls-london-uk-17/
LOCATION:London\, London\, United Kingdom
ORGANIZER;CN="Elena Riu":MAILTO:elenariu@easynet.co.uk
END:VEVENT
BEGIN:VEVENT
DTSTART;TZID=Australia/Melbourne:20241027T100000
DTEND;TZID=Australia/Melbourne:20241027T160000
DTSTAMP:20260420T065548
CREATED:20240909T014851Z
LAST-MODIFIED:20240909T014851Z
UID:8803-1730023200-1730044800@celebrationdayforgirls.com
SUMMARY:Celebration Day for Girls\, Castlemaine\, VIC
DESCRIPTION:Bookings can be made via this link: \nhttps://www.eventbrite.com.au/e/a-celebration-day-for-girls-castlemaine-tickets-1011510283487?aff=oddtdtcreator
URL:https://celebrationdayforgirls.com/event/celebration-day-for-girls-castlemaine-vic-27/
LOCATION:Castlemaine
ORGANIZER;CN="Rachel Pilgrim":MAILTO:rachel.pilgrim@yahoo.com
END:VEVENT
BEGIN:VEVENT
DTSTART;TZID=Africa/Johannesburg:20241102T100000
DTEND;TZID=Africa/Johannesburg:20241102T160000
DTSTAMP:20260420T065548
CREATED:20241013T011149Z
LAST-MODIFIED:20241013T011149Z
UID:8834-1730541600-1730563200@celebrationdayforgirls.com
SUMMARY:Celebration Day for Girls\, Hermanus\, South Africa
DESCRIPTION:Places are available for this event.
URL:https://celebrationdayforgirls.com/event/celebration-day-for-girls-hermanus-south-africa-2/
LOCATION:Hermanus\, South Africa\, Hermanus\, South Africa
ORGANIZER;CN="Maaike Heger":MAILTO:Maaikeheger@gmail.com
END:VEVENT
BEGIN:VEVENT
DTSTART;TZID=America/Bogota:20241107T100000
DTEND;TZID=America/Bogota:20241217T160000
DTSTAMP:20260420T065548
CREATED:20241217T040057Z
LAST-MODIFIED:20241217T040057Z
UID:8979-1730973600-1734451200@celebrationdayforgirls.com
SUMMARY:Día de Celebración para Niñas\, La Ceja\, Colombia
DESCRIPTION:Places are available for this event.
URL:https://celebrationdayforgirls.com/event/dia-de-celebracion-para-ninas-la-ceja-colombia-2/
LOCATION:La Ceja\, La Ceja\, Colombia
ORGANIZER;CN="Nathali Gil":MAILTO:natarock.173@gmail.com
END:VEVENT
BEGIN:VEVENT
DTSTART;TZID=Australia/Melbourne:20241107T190000
DTEND;TZID=Australia/Melbourne:20241107T210000
DTSTAMP:20260420T065548
CREATED:20241013T010514Z
LAST-MODIFIED:20241013T010514Z
UID:8832-1731006000-1731013200@celebrationdayforgirls.com
SUMMARY:Mother's Session\, Coburg\, VIC
DESCRIPTION:Places are available for this event.
URL:https://celebrationdayforgirls.com/event/mothers-session-coburg-vic-3/
LOCATION:Coburg
ORGANIZER;CN="Janoel Liddy":MAILTO:contact.janoel@gmail.com
END:VEVENT
BEGIN:VEVENT
DTSTART;TZID=Australia/Melbourne:20241110T100000
DTEND;TZID=Australia/Melbourne:20241110T160000
DTSTAMP:20260420T065548
CREATED:20241013T010333Z
LAST-MODIFIED:20241013T010333Z
UID:8830-1731232800-1731254400@celebrationdayforgirls.com
SUMMARY:Celebration Day for Girls\, Coburg\, VIC
DESCRIPTION:Places are available for this event.
URL:https://celebrationdayforgirls.com/event/celebration-day-for-girls-coburg-vic-3/
LOCATION:Coburg
ORGANIZER;CN="Janoel Liddy":MAILTO:contact.janoel@gmail.com
END:VEVENT
BEGIN:VEVENT
DTSTART;TZID=UTC:20241110T100000
DTEND;TZID=UTC:20241110T160000
DTSTAMP:20260420T065548
CREATED:20250215T033734Z
LAST-MODIFIED:20250215T033734Z
UID:9014-1731232800-1731254400@celebrationdayforgirls.com
SUMMARY:Celebration Day for Girls\, London\, UK
DESCRIPTION:Places are available for this event
URL:https://celebrationdayforgirls.com/event/celebration-day-for-girls-london-uk-19/
LOCATION:North London\, North London\, United Kingdom
ORGANIZER;CN="Nisha Toppin":MAILTO:nisha@periodhealthmatters.com
END:VEVENT
BEGIN:VEVENT
DTSTART;TZID=America/Bogota:20241112T100000
DTEND;TZID=America/Bogota:20241217T160000
DTSTAMP:20260420T065548
CREATED:20241217T040406Z
LAST-MODIFIED:20241217T040406Z
UID:8981-1731405600-1734451200@celebrationdayforgirls.com
SUMMARY:Día de Celebración para Niñas\, La Ceja\, Colombia
DESCRIPTION:Places are available for this event.
URL:https://celebrationdayforgirls.com/event/dia-de-celebracion-para-ninas-la-ceja-colombia-3/
LOCATION:La Ceja\, La Ceja\, Colombia
ORGANIZER;CN="Nathali Gil":MAILTO:natarock.173@gmail.com
END:VEVENT
BEGIN:VEVENT
DTSTART;TZID=UTC:20241115T174500
DTEND;TZID=UTC:20241117T170000
DTSTAMP:20260420T065548
CREATED:20240819T143655Z
LAST-MODIFIED:20240819T144340Z
UID:8773-1731692700-1731862800@celebrationdayforgirls.com
SUMMARY:Celebration Day for Girls facilitator training - UK
DESCRIPTION:Train to deliver Celebration Days in your community. \nCompletion of Foundations of Menstrual Education is a prerequisite for joining this course. Please go here for more information.
URL:https://celebrationdayforgirls.com/event/celebration-day-for-girls-facilitator-training-uk/
LOCATION:Bristol\, UK\, Bristol\, Bristol\, United Kingdom
END:VEVENT
END:VCALENDAR