BEGIN:VCALENDAR
VERSION:2.0
PRODID:-//Celebration Day For Girls - ECPv6.15.20//NONSGML v1.0//EN
CALSCALE:GREGORIAN
METHOD:PUBLISH
X-ORIGINAL-URL:https://celebrationdayforgirls.com
X-WR-CALDESC:Events for Celebration Day For Girls
REFRESH-INTERVAL;VALUE=DURATION:PT1H
X-Robots-Tag:noindex
X-PUBLISHED-TTL:PT1H
BEGIN:VTIMEZONE
TZID:Australia/Melbourne
BEGIN:STANDARD
TZOFFSETFROM:+1100
TZOFFSETTO:+1000
TZNAME:AEST
DTSTART:20160402T160000
END:STANDARD
BEGIN:DAYLIGHT
TZOFFSETFROM:+1000
TZOFFSETTO:+1100
TZNAME:AEDT
DTSTART:20161001T160000
END:DAYLIGHT
BEGIN:STANDARD
TZOFFSETFROM:+1100
TZOFFSETTO:+1000
TZNAME:AEST
DTSTART:20170401T160000
END:STANDARD
BEGIN:DAYLIGHT
TZOFFSETFROM:+1000
TZOFFSETTO:+1100
TZNAME:AEDT
DTSTART:20170930T160000
END:DAYLIGHT
BEGIN:STANDARD
TZOFFSETFROM:+1100
TZOFFSETTO:+1000
TZNAME:AEST
DTSTART:20180331T160000
END:STANDARD
BEGIN:DAYLIGHT
TZOFFSETFROM:+1000
TZOFFSETTO:+1100
TZNAME:AEDT
DTSTART:20181006T160000
END:DAYLIGHT
END:VTIMEZONE
BEGIN:VTIMEZONE
TZID:Australia/Sydney
BEGIN:STANDARD
TZOFFSETFROM:+1100
TZOFFSETTO:+1000
TZNAME:AEST
DTSTART:20160402T160000
END:STANDARD
BEGIN:DAYLIGHT
TZOFFSETFROM:+1000
TZOFFSETTO:+1100
TZNAME:AEDT
DTSTART:20161001T160000
END:DAYLIGHT
BEGIN:STANDARD
TZOFFSETFROM:+1100
TZOFFSETTO:+1000
TZNAME:AEST
DTSTART:20170401T160000
END:STANDARD
BEGIN:DAYLIGHT
TZOFFSETFROM:+1000
TZOFFSETTO:+1100
TZNAME:AEDT
DTSTART:20170930T160000
END:DAYLIGHT
BEGIN:STANDARD
TZOFFSETFROM:+1100
TZOFFSETTO:+1000
TZNAME:AEST
DTSTART:20180331T160000
END:STANDARD
BEGIN:DAYLIGHT
TZOFFSETFROM:+1000
TZOFFSETTO:+1100
TZNAME:AEDT
DTSTART:20181006T160000
END:DAYLIGHT
END:VTIMEZONE
BEGIN:VTIMEZONE
TZID:Australia/Hobart
BEGIN:STANDARD
TZOFFSETFROM:+1100
TZOFFSETTO:+1000
TZNAME:AEST
DTSTART:20160402T160000
END:STANDARD
BEGIN:DAYLIGHT
TZOFFSETFROM:+1000
TZOFFSETTO:+1100
TZNAME:AEDT
DTSTART:20161001T160000
END:DAYLIGHT
BEGIN:STANDARD
TZOFFSETFROM:+1100
TZOFFSETTO:+1000
TZNAME:AEST
DTSTART:20170401T160000
END:STANDARD
BEGIN:DAYLIGHT
TZOFFSETFROM:+1000
TZOFFSETTO:+1100
TZNAME:AEDT
DTSTART:20170930T160000
END:DAYLIGHT
BEGIN:STANDARD
TZOFFSETFROM:+1100
TZOFFSETTO:+1000
TZNAME:AEST
DTSTART:20180331T160000
END:STANDARD
BEGIN:DAYLIGHT
TZOFFSETFROM:+1000
TZOFFSETTO:+1100
TZNAME:AEDT
DTSTART:20181006T160000
END:DAYLIGHT
END:VTIMEZONE
BEGIN:VTIMEZONE
TZID:Australia/Adelaide
BEGIN:STANDARD
TZOFFSETFROM:+1030
TZOFFSETTO:+0930
TZNAME:ACST
DTSTART:20160402T163000
END:STANDARD
BEGIN:DAYLIGHT
TZOFFSETFROM:+0930
TZOFFSETTO:+1030
TZNAME:ACDT
DTSTART:20161001T163000
END:DAYLIGHT
BEGIN:STANDARD
TZOFFSETFROM:+1030
TZOFFSETTO:+0930
TZNAME:ACST
DTSTART:20170401T163000
END:STANDARD
BEGIN:DAYLIGHT
TZOFFSETFROM:+0930
TZOFFSETTO:+1030
TZNAME:ACDT
DTSTART:20170930T163000
END:DAYLIGHT
BEGIN:STANDARD
TZOFFSETFROM:+1030
TZOFFSETTO:+0930
TZNAME:ACST
DTSTART:20180331T163000
END:STANDARD
BEGIN:DAYLIGHT
TZOFFSETFROM:+0930
TZOFFSETTO:+1030
TZNAME:ACDT
DTSTART:20181006T163000
END:DAYLIGHT
END:VTIMEZONE
BEGIN:VTIMEZONE
TZID:Europe/Madrid
BEGIN:DAYLIGHT
TZOFFSETFROM:+0100
TZOFFSETTO:+0200
TZNAME:CEST
DTSTART:20160327T010000
END:DAYLIGHT
BEGIN:STANDARD
TZOFFSETFROM:+0200
TZOFFSETTO:+0100
TZNAME:CET
DTSTART:20161030T010000
END:STANDARD
BEGIN:DAYLIGHT
TZOFFSETFROM:+0100
TZOFFSETTO:+0200
TZNAME:CEST
DTSTART:20170326T010000
END:DAYLIGHT
BEGIN:STANDARD
TZOFFSETFROM:+0200
TZOFFSETTO:+0100
TZNAME:CET
DTSTART:20171029T010000
END:STANDARD
BEGIN:DAYLIGHT
TZOFFSETFROM:+0100
TZOFFSETTO:+0200
TZNAME:CEST
DTSTART:20180325T010000
END:DAYLIGHT
BEGIN:STANDARD
TZOFFSETFROM:+0200
TZOFFSETTO:+0100
TZNAME:CET
DTSTART:20181028T010000
END:STANDARD
END:VTIMEZONE
BEGIN:VTIMEZONE
TZID:America/Chicago
BEGIN:DAYLIGHT
TZOFFSETFROM:-0600
TZOFFSETTO:-0500
TZNAME:CDT
DTSTART:20160313T080000
END:DAYLIGHT
BEGIN:STANDARD
TZOFFSETFROM:-0500
TZOFFSETTO:-0600
TZNAME:CST
DTSTART:20161106T070000
END:STANDARD
BEGIN:DAYLIGHT
TZOFFSETFROM:-0600
TZOFFSETTO:-0500
TZNAME:CDT
DTSTART:20170312T080000
END:DAYLIGHT
BEGIN:STANDARD
TZOFFSETFROM:-0500
TZOFFSETTO:-0600
TZNAME:CST
DTSTART:20171105T070000
END:STANDARD
BEGIN:DAYLIGHT
TZOFFSETFROM:-0600
TZOFFSETTO:-0500
TZNAME:CDT
DTSTART:20180311T080000
END:DAYLIGHT
BEGIN:STANDARD
TZOFFSETFROM:-0500
TZOFFSETTO:-0600
TZNAME:CST
DTSTART:20181104T070000
END:STANDARD
END:VTIMEZONE
BEGIN:VEVENT
DTSTART;TZID=Australia/Melbourne:20171021T100000
DTEND;TZID=Australia/Melbourne:20171021T160000
DTSTAMP:20260425T102226
CREATED:20171009T204358Z
LAST-MODIFIED:20171009T204358Z
UID:2581-1508580000-1508601600@celebrationdayforgirls.com
SUMMARY:Celebration Day for Girls\, Ascot Vale\, VIC
DESCRIPTION:Places are available for this event.
URL:https://celebrationdayforgirls.com/event/celebration-day-for-girls-ascot-vale-vic-3/
LOCATION:Ascot Vale\, Ascot Vale\, Victoria\, Australia
ORGANIZER;CN="Sally Quinn":MAILTO:sally.quinn@greencollect.org
END:VEVENT
BEGIN:VEVENT
DTSTART;TZID=Australia/Melbourne:20171021T100000
DTEND;TZID=Australia/Melbourne:20171021T160000
DTSTAMP:20260425T102226
CREATED:20171009T204358Z
LAST-MODIFIED:20171009T204358Z
UID:3559-1508580000-1508601600@celebrationdayforgirls.com
SUMMARY:Celebration Day for Girls\, Ascot Vale\, VIC
DESCRIPTION:Places are available for this event.
URL:https://celebrationdayforgirls.com/event/celebration-day-for-girls-ascot-vale-vic-3-2/
LOCATION:Ascot Vale\, Ascot Vale\, Victoria\, Australia
ORGANIZER;CN="Sally Quinn":MAILTO:sally.quinn@greencollect.org
END:VEVENT
BEGIN:VEVENT
DTSTART;TZID=Australia/Melbourne:20171022T100000
DTEND;TZID=Australia/Melbourne:20171022T160000
DTSTAMP:20260425T102226
CREATED:20170829T195731Z
LAST-MODIFIED:20170829T195731Z
UID:3542-1508666400-1508688000@celebrationdayforgirls.com
SUMMARY:Celebration Day for Girls\, Mitcham\, VIC
DESCRIPTION:This is a class event. Please contact the facilitator for information on upcoming workshops.
URL:https://celebrationdayforgirls.com/event/celebration-day-for-girls-mitcham-vic-3-2/
LOCATION:Mitcham\, Mitcham\, Victoria\, Australia
ORGANIZER;CN="Kath Callinan-Moore":MAILTO:sjkm@bigpond.net.au
END:VEVENT
BEGIN:VEVENT
DTSTART;TZID=Australia/Melbourne:20171022T100000
DTEND;TZID=Australia/Melbourne:20171022T160000
DTSTAMP:20260425T102226
CREATED:20170829T195731Z
LAST-MODIFIED:20170829T195731Z
UID:2521-1508666400-1508688000@celebrationdayforgirls.com
SUMMARY:Celebration Day for Girls\, Mitcham\, VIC
DESCRIPTION:This is a class event. Please contact the facilitator for information on upcoming workshops.
URL:https://celebrationdayforgirls.com/event/celebration-day-for-girls-mitcham-vic-3/
LOCATION:Mitcham\, Mitcham\, Victoria\, Australia
ORGANIZER;CN="Kath Callinan-Moore":MAILTO:sjkm@bigpond.net.au
END:VEVENT
BEGIN:VEVENT
DTSTART;TZID=Australia/Melbourne:20171022T100000
DTEND;TZID=Australia/Melbourne:20171022T160000
DTSTAMP:20260425T102226
CREATED:20170910T134532Z
LAST-MODIFIED:20170910T134532Z
UID:3543-1508666400-1508688000@celebrationdayforgirls.com
SUMMARY:Celebration Day for Girls\, Abbotsford\, VIC
DESCRIPTION:This is a class event. Please contact the facilitator for more upcoming workshops.
URL:https://celebrationdayforgirls.com/event/celebration-day-for-girls-abbotsford-vic-3-2/
LOCATION:Sophia Mundi School\, Abbotsford Convent\, Abbotsford\, Victoria\, Australia
ORGANIZER;CN="Charlotte Young":MAILTO:charlotteyoung007@gmail.com
END:VEVENT
BEGIN:VEVENT
DTSTART;TZID=Australia/Melbourne:20171022T100000
DTEND;TZID=Australia/Melbourne:20171022T160000
DTSTAMP:20260425T102226
CREATED:20170910T134532Z
LAST-MODIFIED:20170910T134532Z
UID:2525-1508666400-1508688000@celebrationdayforgirls.com
SUMMARY:Celebration Day for Girls\, Abbotsford\, VIC
DESCRIPTION:This is a class event. Please contact the facilitator for more upcoming workshops.
URL:https://celebrationdayforgirls.com/event/celebration-day-for-girls-abbotsford-vic-3/
LOCATION:Sophia Mundi School\, Abbotsford Convent\, Abbotsford\, Victoria\, Australia
ORGANIZER;CN="Charlotte Young":MAILTO:charlotteyoung007@gmail.com
END:VEVENT
BEGIN:VEVENT
DTSTART;TZID=Australia/Melbourne:20171022T100000
DTEND;TZID=Australia/Melbourne:20171022T160000
DTSTAMP:20260425T102226
CREATED:20171009T202544Z
LAST-MODIFIED:20171009T202544Z
UID:3555-1508666400-1508688000@celebrationdayforgirls.com
SUMMARY:Celebration Day for Girls\, Heidelberg\, VIC
DESCRIPTION:This is a class event. Please contact the facilitator for information on upcoming workshop dates.
URL:https://celebrationdayforgirls.com/event/celebration-day-for-girls-heidelberg-vic-2/
LOCATION:Heidelberg\, Heidelberg\, Victoria\, Australia
ORGANIZER;CN="Janoel Liddy":MAILTO:contact.janoel@gmail.com
END:VEVENT
BEGIN:VEVENT
DTSTART;TZID=Australia/Melbourne:20171022T100000
DTEND;TZID=Australia/Melbourne:20171022T160000
DTSTAMP:20260425T102226
CREATED:20171009T202544Z
LAST-MODIFIED:20171009T202544Z
UID:2570-1508666400-1508688000@celebrationdayforgirls.com
SUMMARY:Celebration Day for Girls\, Heidelberg\, VIC
DESCRIPTION:This is a class event. Please contact the facilitator for information on upcoming workshop dates.
URL:https://celebrationdayforgirls.com/event/celebration-day-for-girls-heidelberg-vic/
LOCATION:Heidelberg\, Heidelberg\, Victoria\, Australia
ORGANIZER;CN="Janoel Liddy":MAILTO:contact.janoel@gmail.com
END:VEVENT
BEGIN:VEVENT
DTSTART;TZID=Australia/Sydney:20171029T100000
DTEND;TZID=Australia/Sydney:20171029T160000
DTSTAMP:20260425T102226
CREATED:20170808T151223Z
LAST-MODIFIED:20170808T151223Z
UID:2449-1509271200-1509292800@celebrationdayforgirls.com
SUMMARY:Celebration Day for Girls\, Canberra\, ACT
DESCRIPTION:Places are available for this event.
URL:https://celebrationdayforgirls.com/event/celebration-day-for-girls-canberra-act-8/
LOCATION:Canberra\, Canberra\, ACT\, Australia
ORGANIZER;CN="Julia Dendrinos":MAILTO:julia@grapevine.com.au
END:VEVENT
BEGIN:VEVENT
DTSTART;TZID=Australia/Sydney:20171029T100000
DTEND;TZID=Australia/Sydney:20171029T160000
DTSTAMP:20260425T102226
CREATED:20170808T151223Z
LAST-MODIFIED:20170808T151223Z
UID:3532-1509271200-1509292800@celebrationdayforgirls.com
SUMMARY:Celebration Day for Girls\, Canberra\, ACT
DESCRIPTION:Places are available for this event.
URL:https://celebrationdayforgirls.com/event/celebration-day-for-girls-canberra-act-8-2/
LOCATION:Canberra\, Canberra\, ACT\, Australia
ORGANIZER;CN="Julia Dendrinos":MAILTO:julia@grapevine.com.au
END:VEVENT
BEGIN:VEVENT
DTSTART;TZID=Australia/Hobart:20171111T100000
DTEND;TZID=Australia/Hobart:20171111T160000
DTSTAMP:20260425T102226
CREATED:20171111T085832Z
LAST-MODIFIED:20171111T085832Z
UID:2618-1510394400-1510416000@celebrationdayforgirls.com
SUMMARY:Celebration Day for Girls\, Hobart\, TAS
DESCRIPTION:Places are available for this event.
URL:https://celebrationdayforgirls.com/event/celebration-day-for-girls-hobart-tas-2/
LOCATION:Hobart\, Hobart\, Tasmania\, Australia
ORGANIZER;CN="Olaia Melo":MAILTO:om_@live.com.au
END:VEVENT
BEGIN:VEVENT
DTSTART;TZID=Australia/Hobart:20171111T100000
DTEND;TZID=Australia/Hobart:20171111T160000
DTSTAMP:20260425T102226
CREATED:20171111T085832Z
LAST-MODIFIED:20171111T085832Z
UID:3570-1510394400-1510416000@celebrationdayforgirls.com
SUMMARY:Celebration Day for Girls\, Hobart\, TAS
DESCRIPTION:Places are available for this event.
URL:https://celebrationdayforgirls.com/event/celebration-day-for-girls-hobart-tas-2-2/
LOCATION:Hobart\, Hobart\, Tasmania\, Australia
ORGANIZER;CN="Olaia Melo":MAILTO:om_@live.com.au
END:VEVENT
BEGIN:VEVENT
DTSTART;TZID=Australia/Adelaide:20171112T100000
DTEND;TZID=Australia/Adelaide:20171112T160000
DTSTAMP:20260425T102226
CREATED:20170704T195310Z
LAST-MODIFIED:20170704T195310Z
UID:3527-1510480800-1510502400@celebrationdayforgirls.com
SUMMARY:Celebration Day for Girls\, Adelaide\, SA
DESCRIPTION:This is a class event. Please contact the facilitator for further workshop dates.
URL:https://celebrationdayforgirls.com/event/celebration-day-for-girls-adelaide-sa-4-2/
LOCATION:Adelaide\, Adelaide\, South Australia\, Australia
ORGANIZER;CN="Fiona House":MAILTO:fionachouse@gmail.com
END:VEVENT
BEGIN:VEVENT
DTSTART;TZID=Australia/Adelaide:20171112T100000
DTEND;TZID=Australia/Adelaide:20171112T160000
DTSTAMP:20260425T102226
CREATED:20170704T195310Z
LAST-MODIFIED:20170704T195310Z
UID:2420-1510480800-1510502400@celebrationdayforgirls.com
SUMMARY:Celebration Day for Girls\, Adelaide\, SA
DESCRIPTION:This is a class event. Please contact the facilitator for further workshop dates.
URL:https://celebrationdayforgirls.com/event/celebration-day-for-girls-adelaide-sa-4/
LOCATION:Adelaide\, Adelaide\, South Australia\, Australia
ORGANIZER;CN="Fiona House":MAILTO:fionachouse@gmail.com
END:VEVENT
BEGIN:VEVENT
DTSTART;TZID=Australia/Sydney:20171116T190000
DTEND;TZID=Australia/Sydney:20171116T210000
DTSTAMP:20260425T102226
CREATED:20171015T204704Z
LAST-MODIFIED:20171015T204704Z
UID:3564-1510858800-1510866000@celebrationdayforgirls.com
SUMMARY:Fathers Celebrating Daughters\, Garran\, ACT
DESCRIPTION:Places are available for this event.
URL:https://celebrationdayforgirls.com/event/fathers-celebrating-daughters-garran-act-3/
LOCATION:Garran\, Garran\, Australian Capital Territory\, Australia
ORGANIZER;CN="Julia Dendrinos":MAILTO:julia@grapevine.com.au
END:VEVENT
BEGIN:VEVENT
DTSTART;TZID=Australia/Sydney:20171116T190000
DTEND;TZID=Australia/Sydney:20171116T210000
DTSTAMP:20260425T102226
CREATED:20171015T204704Z
LAST-MODIFIED:20171015T204704Z
UID:2593-1510858800-1510866000@celebrationdayforgirls.com
SUMMARY:Fathers Celebrating Daughters\, Garran\, ACT
DESCRIPTION:Places are available for this event.
URL:https://celebrationdayforgirls.com/event/fathers-celebrating-daughters-garran-act/
LOCATION:Garran\, Garran\, Australian Capital Territory\, Australia
ORGANIZER;CN="Julia Dendrinos":MAILTO:julia@grapevine.com.au
END:VEVENT
BEGIN:VEVENT
DTSTART;TZID=Europe/Madrid:20171117T183000
DTEND;TZID=Europe/Madrid:20171117T203000
DTSTAMP:20260425T102226
CREATED:20170825T195803Z
LAST-MODIFIED:20170825T195803Z
UID:3541-1510943400-1510950600@celebrationdayforgirls.com
SUMMARY:Mothers Session\, Madrid\, Spain
DESCRIPTION:Places are available for this event.
URL:https://celebrationdayforgirls.com/event/mothers-session-madrid-spain-3/
LOCATION:Madrid\, Madrid\, Madrid\, Spain
ORGANIZER;CN="Dolores Rubio Fernandez":MAILTO:dolores@orethic.com
END:VEVENT
BEGIN:VEVENT
DTSTART;TZID=Europe/Madrid:20171117T183000
DTEND;TZID=Europe/Madrid:20171117T203000
DTSTAMP:20260425T102226
CREATED:20170825T195803Z
LAST-MODIFIED:20170825T195803Z
UID:2513-1510943400-1510950600@celebrationdayforgirls.com
SUMMARY:Mothers Session\, Madrid\, Spain
DESCRIPTION:Places are available for this event.
URL:https://celebrationdayforgirls.com/event/mothers-session-madrid-spain/
LOCATION:Madrid\, Madrid\, Madrid\, Spain
ORGANIZER;CN="Dolores Rubio Fernandez":MAILTO:dolores@orethic.com
END:VEVENT
BEGIN:VEVENT
DTSTART;TZID=Europe/Madrid:20171118T100000
DTEND;TZID=Europe/Madrid:20171118T160000
DTSTAMP:20260425T102226
CREATED:20170911T204223Z
LAST-MODIFIED:20170911T204223Z
UID:3547-1510999200-1511020800@celebrationdayforgirls.com
SUMMARY:Celebration Day for Girls\, Madrid\, Spain
DESCRIPTION:Places are available for this event.
URL:https://celebrationdayforgirls.com/event/celebration-day-for-girls-madrid-spain-2-2/
LOCATION:Madrid\, Madrid\, Madrid\, Spain
ORGANIZER;CN="Dolores Rubio Fernandez":MAILTO:dolores@orethic.com
END:VEVENT
BEGIN:VEVENT
DTSTART;TZID=Europe/Madrid:20171118T100000
DTEND;TZID=Europe/Madrid:20171118T160000
DTSTAMP:20260425T102226
CREATED:20170911T204223Z
LAST-MODIFIED:20170911T204223Z
UID:2537-1510999200-1511020800@celebrationdayforgirls.com
SUMMARY:Celebration Day for Girls\, Madrid\, Spain
DESCRIPTION:Places are available for this event.
URL:https://celebrationdayforgirls.com/event/celebration-day-for-girls-madrid-spain-2/
LOCATION:Madrid\, Madrid\, Madrid\, Spain
ORGANIZER;CN="Dolores Rubio Fernandez":MAILTO:dolores@orethic.com
END:VEVENT
BEGIN:VEVENT
DTSTART;TZID=Australia/Melbourne:20171122T190000
DTEND;TZID=Australia/Melbourne:20171122T210000
DTSTAMP:20260425T102226
CREATED:20171009T202845Z
LAST-MODIFIED:20171009T202845Z
UID:2572-1511377200-1511384400@celebrationdayforgirls.com
SUMMARY:Mother's Session\, Thornbury\, VIC
DESCRIPTION:Places are available for this event.
URL:https://celebrationdayforgirls.com/event/mothers-session-thornbury-vic-2/
LOCATION:Thornbury\, Thornbury\, Victoria\, Australia
ORGANIZER;CN="Janoel Liddy":MAILTO:contact.janoel@gmail.com
END:VEVENT
BEGIN:VEVENT
DTSTART;TZID=Australia/Melbourne:20171122T190000
DTEND;TZID=Australia/Melbourne:20171122T210000
DTSTAMP:20260425T102226
CREATED:20171009T202845Z
LAST-MODIFIED:20171009T202845Z
UID:3556-1511377200-1511384400@celebrationdayforgirls.com
SUMMARY:Mother's Session\, Thornbury\, VIC
DESCRIPTION:Places are available for this event.
URL:https://celebrationdayforgirls.com/event/mothers-session-thornbury-vic-2-2/
LOCATION:Thornbury\, Thornbury\, Victoria\, Australia
ORGANIZER;CN="Janoel Liddy":MAILTO:contact.janoel@gmail.com
END:VEVENT
BEGIN:VEVENT
DTSTART;TZID=Australia/Melbourne:20171126T100000
DTEND;TZID=Australia/Melbourne:20171126T160000
DTSTAMP:20260425T102226
CREATED:20170625T214614Z
LAST-MODIFIED:20170625T214614Z
UID:3519-1511690400-1511712000@celebrationdayforgirls.com
SUMMARY:Celebration Day for Girls\, Shepparton\, VIC
DESCRIPTION:Places are available for this event.
URL:https://celebrationdayforgirls.com/event/celebration-day-for-girls-shepparton-vic-6-2/
LOCATION:Shepparton\, Shepparton\, Australia
ORGANIZER;CN="Nicole Tricarico":MAILTO:ntricarico@bigpond.com
END:VEVENT
BEGIN:VEVENT
DTSTART;TZID=Australia/Melbourne:20171126T100000
DTEND;TZID=Australia/Melbourne:20171126T160000
DTSTAMP:20260425T102226
CREATED:20170625T214614Z
LAST-MODIFIED:20170625T214614Z
UID:2395-1511690400-1511712000@celebrationdayforgirls.com
SUMMARY:Celebration Day for Girls\, Shepparton\, VIC
DESCRIPTION:Places are available for this event.
URL:https://celebrationdayforgirls.com/event/celebration-day-for-girls-shepparton-vic-6/
LOCATION:Shepparton\, Shepparton\, Australia
ORGANIZER;CN="Nicole Tricarico":MAILTO:ntricarico@bigpond.com
END:VEVENT
BEGIN:VEVENT
DTSTART;TZID=Australia/Melbourne:20171126T100000
DTEND;TZID=Australia/Melbourne:20171126T160000
DTSTAMP:20260425T102226
CREATED:20171009T203014Z
LAST-MODIFIED:20171009T203014Z
UID:3557-1511690400-1511712000@celebrationdayforgirls.com
SUMMARY:Celebration Day for Girls\, Thornbury\, VIC
DESCRIPTION:Places are available for this event.
URL:https://celebrationdayforgirls.com/event/celebration-day-for-girls-thornbury-vic-3-2/
LOCATION:Thornbury\, Thornbury\, Victoria\, Australia
ORGANIZER;CN="Janoel Liddy":MAILTO:contact.janoel@gmail.com
END:VEVENT
BEGIN:VEVENT
DTSTART;TZID=Australia/Melbourne:20171126T100000
DTEND;TZID=Australia/Melbourne:20171126T160000
DTSTAMP:20260425T102226
CREATED:20171009T203014Z
LAST-MODIFIED:20171009T203014Z
UID:2575-1511690400-1511712000@celebrationdayforgirls.com
SUMMARY:Celebration Day for Girls\, Thornbury\, VIC
DESCRIPTION:Places are available for this event.
URL:https://celebrationdayforgirls.com/event/celebration-day-for-girls-thornbury-vic-3/
LOCATION:Thornbury\, Thornbury\, Victoria\, Australia
ORGANIZER;CN="Janoel Liddy":MAILTO:contact.janoel@gmail.com
END:VEVENT
BEGIN:VEVENT
DTSTART;TZID=America/Chicago:20171201T153000
DTEND;TZID=America/Chicago:20171201T173000
DTSTAMP:20260425T102226
CREATED:20170924T163438Z
LAST-MODIFIED:20170924T163438Z
UID:3549-1512142200-1512149400@celebrationdayforgirls.com
SUMMARY:Mother's Session\, Ann Arbor\, Michigan\, USA
DESCRIPTION:PLaces are available for this event.
URL:https://celebrationdayforgirls.com/event/mothers-session-ann-arbor-michigan-usa-2/
LOCATION:Ann Arbor\, Ann Arbor\, MI\, United States
ORGANIZER;CN="Dolores Rubio Fernandez":MAILTO:dolores@orethic.com
END:VEVENT
BEGIN:VEVENT
DTSTART;TZID=America/Chicago:20171201T153000
DTEND;TZID=America/Chicago:20171201T173000
DTSTAMP:20260425T102226
CREATED:20170924T163438Z
LAST-MODIFIED:20170924T163438Z
UID:2547-1512142200-1512149400@celebrationdayforgirls.com
SUMMARY:Mother's Session\, Ann Arbor\, Michigan\, USA
DESCRIPTION:PLaces are available for this event.
URL:https://celebrationdayforgirls.com/event/mothers-session-ann-arbor-michigan-usa/
LOCATION:Ann Arbor\, Ann Arbor\, MI\, United States
ORGANIZER;CN="Dolores Rubio Fernandez":MAILTO:dolores@orethic.com
END:VEVENT
BEGIN:VEVENT
DTSTART;TZID=America/Chicago:20171202T100000
DTEND;TZID=America/Chicago:20171202T160000
DTSTAMP:20260425T102226
CREATED:20170924T163255Z
LAST-MODIFIED:20170924T163255Z
UID:3548-1512208800-1512230400@celebrationdayforgirls.com
SUMMARY:Celebration Day for Girls\, Ann Arbor\, Michigan\, USA
DESCRIPTION:Places are available for this event.
URL:https://celebrationdayforgirls.com/event/celebration-day-for-girls-ann-arbor-michigan-usa-2/
LOCATION:Ann Arbor\, Ann Arbor\, MI\, United States
ORGANIZER;CN="Dolores Rubio Fernandez":MAILTO:dolores@orethic.com
END:VEVENT
BEGIN:VEVENT
DTSTART;TZID=America/Chicago:20171202T100000
DTEND;TZID=America/Chicago:20171202T160000
DTSTAMP:20260425T102226
CREATED:20170924T163255Z
LAST-MODIFIED:20170924T163255Z
UID:2545-1512208800-1512230400@celebrationdayforgirls.com
SUMMARY:Celebration Day for Girls\, Ann Arbor\, Michigan\, USA
DESCRIPTION:Places are available for this event.
URL:https://celebrationdayforgirls.com/event/celebration-day-for-girls-ann-arbor-michigan-usa/
LOCATION:Ann Arbor\, Ann Arbor\, MI\, United States
ORGANIZER;CN="Dolores Rubio Fernandez":MAILTO:dolores@orethic.com
END:VEVENT
END:VCALENDAR