BEGIN:VCALENDAR
VERSION:2.0
PRODID:-//Celebration Day For Girls - ECPv6.15.20//NONSGML v1.0//EN
CALSCALE:GREGORIAN
METHOD:PUBLISH
X-ORIGINAL-URL:https://celebrationdayforgirls.com
X-WR-CALDESC:Events for Celebration Day For Girls
REFRESH-INTERVAL;VALUE=DURATION:PT1H
X-Robots-Tag:noindex
X-PUBLISHED-TTL:PT1H
BEGIN:VTIMEZONE
TZID:Australia/Melbourne
BEGIN:STANDARD
TZOFFSETFROM:+1100
TZOFFSETTO:+1000
TZNAME:AEST
DTSTART:20160402T160000
END:STANDARD
BEGIN:DAYLIGHT
TZOFFSETFROM:+1000
TZOFFSETTO:+1100
TZNAME:AEDT
DTSTART:20161001T160000
END:DAYLIGHT
BEGIN:STANDARD
TZOFFSETFROM:+1100
TZOFFSETTO:+1000
TZNAME:AEST
DTSTART:20170401T160000
END:STANDARD
BEGIN:DAYLIGHT
TZOFFSETFROM:+1000
TZOFFSETTO:+1100
TZNAME:AEDT
DTSTART:20170930T160000
END:DAYLIGHT
BEGIN:STANDARD
TZOFFSETFROM:+1100
TZOFFSETTO:+1000
TZNAME:AEST
DTSTART:20180331T160000
END:STANDARD
BEGIN:DAYLIGHT
TZOFFSETFROM:+1000
TZOFFSETTO:+1100
TZNAME:AEDT
DTSTART:20181006T160000
END:DAYLIGHT
END:VTIMEZONE
BEGIN:VTIMEZONE
TZID:Australia/Sydney
BEGIN:STANDARD
TZOFFSETFROM:+1100
TZOFFSETTO:+1000
TZNAME:AEST
DTSTART:20160402T160000
END:STANDARD
BEGIN:DAYLIGHT
TZOFFSETFROM:+1000
TZOFFSETTO:+1100
TZNAME:AEDT
DTSTART:20161001T160000
END:DAYLIGHT
BEGIN:STANDARD
TZOFFSETFROM:+1100
TZOFFSETTO:+1000
TZNAME:AEST
DTSTART:20170401T160000
END:STANDARD
BEGIN:DAYLIGHT
TZOFFSETFROM:+1000
TZOFFSETTO:+1100
TZNAME:AEDT
DTSTART:20170930T160000
END:DAYLIGHT
BEGIN:STANDARD
TZOFFSETFROM:+1100
TZOFFSETTO:+1000
TZNAME:AEST
DTSTART:20180331T160000
END:STANDARD
BEGIN:DAYLIGHT
TZOFFSETFROM:+1000
TZOFFSETTO:+1100
TZNAME:AEDT
DTSTART:20181006T160000
END:DAYLIGHT
END:VTIMEZONE
BEGIN:VTIMEZONE
TZID:Pacific/Auckland
BEGIN:STANDARD
TZOFFSETFROM:+1300
TZOFFSETTO:+1200
TZNAME:NZST
DTSTART:20160402T140000
END:STANDARD
BEGIN:DAYLIGHT
TZOFFSETFROM:+1200
TZOFFSETTO:+1300
TZNAME:NZDT
DTSTART:20160924T140000
END:DAYLIGHT
BEGIN:STANDARD
TZOFFSETFROM:+1300
TZOFFSETTO:+1200
TZNAME:NZST
DTSTART:20170401T140000
END:STANDARD
BEGIN:DAYLIGHT
TZOFFSETFROM:+1200
TZOFFSETTO:+1300
TZNAME:NZDT
DTSTART:20170923T140000
END:DAYLIGHT
BEGIN:STANDARD
TZOFFSETFROM:+1300
TZOFFSETTO:+1200
TZNAME:NZST
DTSTART:20180331T140000
END:STANDARD
BEGIN:DAYLIGHT
TZOFFSETFROM:+1200
TZOFFSETTO:+1300
TZNAME:NZDT
DTSTART:20180929T140000
END:DAYLIGHT
END:VTIMEZONE
BEGIN:VTIMEZONE
TZID:Europe/London
BEGIN:DAYLIGHT
TZOFFSETFROM:+0000
TZOFFSETTO:+0100
TZNAME:BST
DTSTART:20160327T010000
END:DAYLIGHT
BEGIN:STANDARD
TZOFFSETFROM:+0100
TZOFFSETTO:+0000
TZNAME:GMT
DTSTART:20161030T010000
END:STANDARD
BEGIN:DAYLIGHT
TZOFFSETFROM:+0000
TZOFFSETTO:+0100
TZNAME:BST
DTSTART:20170326T010000
END:DAYLIGHT
BEGIN:STANDARD
TZOFFSETFROM:+0100
TZOFFSETTO:+0000
TZNAME:GMT
DTSTART:20171029T010000
END:STANDARD
BEGIN:DAYLIGHT
TZOFFSETFROM:+0000
TZOFFSETTO:+0100
TZNAME:BST
DTSTART:20180325T010000
END:DAYLIGHT
BEGIN:STANDARD
TZOFFSETFROM:+0100
TZOFFSETTO:+0000
TZNAME:GMT
DTSTART:20181028T010000
END:STANDARD
END:VTIMEZONE
BEGIN:VTIMEZONE
TZID:Australia/Adelaide
BEGIN:STANDARD
TZOFFSETFROM:+1030
TZOFFSETTO:+0930
TZNAME:ACST
DTSTART:20160402T163000
END:STANDARD
BEGIN:DAYLIGHT
TZOFFSETFROM:+0930
TZOFFSETTO:+1030
TZNAME:ACDT
DTSTART:20161001T163000
END:DAYLIGHT
BEGIN:STANDARD
TZOFFSETFROM:+1030
TZOFFSETTO:+0930
TZNAME:ACST
DTSTART:20170401T163000
END:STANDARD
BEGIN:DAYLIGHT
TZOFFSETFROM:+0930
TZOFFSETTO:+1030
TZNAME:ACDT
DTSTART:20170930T163000
END:DAYLIGHT
BEGIN:STANDARD
TZOFFSETFROM:+1030
TZOFFSETTO:+0930
TZNAME:ACST
DTSTART:20180331T163000
END:STANDARD
BEGIN:DAYLIGHT
TZOFFSETFROM:+0930
TZOFFSETTO:+1030
TZNAME:ACDT
DTSTART:20181006T163000
END:DAYLIGHT
END:VTIMEZONE
BEGIN:VTIMEZONE
TZID:UTC
BEGIN:STANDARD
TZOFFSETFROM:+0000
TZOFFSETTO:+0000
TZNAME:UTC
DTSTART:20160101T000000
END:STANDARD
END:VTIMEZONE
BEGIN:VTIMEZONE
TZID:Australia/Brisbane
BEGIN:STANDARD
TZOFFSETFROM:+1000
TZOFFSETTO:+1000
TZNAME:AEST
DTSTART:20160101T000000
END:STANDARD
END:VTIMEZONE
BEGIN:VTIMEZONE
TZID:Australia/Darwin
BEGIN:STANDARD
TZOFFSETFROM:+0930
TZOFFSETTO:+0930
TZNAME:ACST
DTSTART:20160101T000000
END:STANDARD
END:VTIMEZONE
BEGIN:VEVENT
DTSTART;TZID=Australia/Melbourne:20170618T100000
DTEND;TZID=Australia/Melbourne:20170618T160000
DTSTAMP:20260425T163857
CREATED:20170612T220827Z
LAST-MODIFIED:20170612T220827Z
UID:3513-1497780000-1497801600@celebrationdayforgirls.com
SUMMARY:Celebration Day for Girls\, Fryers Forest\, VIC
DESCRIPTION:This is a class event.
URL:https://celebrationdayforgirls.com/event/celebration-day-for-girls-fryers-forest-vic-2/
LOCATION:Fryers Forest\, Fryers Forest\, Victoria\, Australia
ORGANIZER;CN="Rachel Pilgrim":MAILTO:rachel.pilgrim@yahoo.com
END:VEVENT
BEGIN:VEVENT
DTSTART;TZID=Australia/Melbourne:20170618T100000
DTEND;TZID=Australia/Melbourne:20170618T160000
DTSTAMP:20260425T163857
CREATED:20170612T220827Z
LAST-MODIFIED:20170612T220827Z
UID:2355-1497780000-1497801600@celebrationdayforgirls.com
SUMMARY:Celebration Day for Girls\, Fryers Forest\, VIC
DESCRIPTION:This is a class event.
URL:https://celebrationdayforgirls.com/event/celebration-day-for-girls-fryers-forest-vic/
LOCATION:Fryers Forest\, Fryers Forest\, Victoria\, Australia
ORGANIZER;CN="Rachel Pilgrim":MAILTO:rachel.pilgrim@yahoo.com
END:VEVENT
BEGIN:VEVENT
DTSTART;TZID=Australia/Sydney:20170625T100000
DTEND;TZID=Australia/Sydney:20170625T160000
DTSTAMP:20260425T163857
CREATED:20170501T213542Z
LAST-MODIFIED:20170501T213542Z
UID:2302-1498384800-1498406400@celebrationdayforgirls.com
SUMMARY:Celebration Day for Girls\, Garran\, ACT
DESCRIPTION:Places are available for this event.
URL:https://celebrationdayforgirls.com/event/celebration-day-for-girls-garran-act-2/
LOCATION:Garran\, Garran\, Australian Capital Territory\, Australia
ORGANIZER;CN="Julia Dendrinos":MAILTO:julia@grapevine.com.au
END:VEVENT
BEGIN:VEVENT
DTSTART;TZID=Australia/Sydney:20170625T100000
DTEND;TZID=Australia/Sydney:20170625T160000
DTSTAMP:20260425T163857
CREATED:20170501T213542Z
LAST-MODIFIED:20170501T213542Z
UID:3500-1498384800-1498406400@celebrationdayforgirls.com
SUMMARY:Celebration Day for Girls\, Garran\, ACT
DESCRIPTION:Places are available for this event.
URL:https://celebrationdayforgirls.com/event/celebration-day-for-girls-garran-act-2-2/
LOCATION:Garran\, Garran\, Australian Capital Territory\, Australia
ORGANIZER;CN="Julia Dendrinos":MAILTO:julia@grapevine.com.au
END:VEVENT
BEGIN:VEVENT
DTSTART;TZID=Pacific/Auckland:20170701T190000
DTEND;TZID=Pacific/Auckland:20170701T210000
DTSTAMP:20260425T163857
CREATED:20170610T083137Z
LAST-MODIFIED:20170610T083137Z
UID:3507-1498935600-1498942800@celebrationdayforgirls.com
SUMMARY:Mother's Session\, Pukerohi Te Kohanga Reo\,Papakura\, Auckland\, NZ
DESCRIPTION:Places are available for this event.
URL:https://celebrationdayforgirls.com/event/mothers-session-pukerohi-te-kohanga-reopapakura-auckland-nz-2/
LOCATION:Pukerohi Te Kohanga Reo\,Papakura\, Auckland\, Auckland\, New Zealand
ORGANIZER;CN="Angela Fraser":MAILTO:angelafrasernz@gmail.com
END:VEVENT
BEGIN:VEVENT
DTSTART;TZID=Pacific/Auckland:20170701T190000
DTEND;TZID=Pacific/Auckland:20170701T210000
DTSTAMP:20260425T163857
CREATED:20170610T083137Z
LAST-MODIFIED:20170610T083137Z
UID:2339-1498935600-1498942800@celebrationdayforgirls.com
SUMMARY:Mother's Session\, Pukerohi Te Kohanga Reo\,Papakura\, Auckland\, NZ
DESCRIPTION:Places are available for this event.
URL:https://celebrationdayforgirls.com/event/mothers-session-pukerohi-te-kohanga-reopapakura-auckland-nz/
LOCATION:Pukerohi Te Kohanga Reo\,Papakura\, Auckland\, Auckland\, New Zealand
ORGANIZER;CN="Angela Fraser":MAILTO:angelafrasernz@gmail.com
END:VEVENT
BEGIN:VEVENT
DTSTART;TZID=Pacific/Auckland:20170702T100000
DTEND;TZID=Pacific/Auckland:20170702T160000
DTSTAMP:20260425T163857
CREATED:20170610T083339Z
LAST-MODIFIED:20170610T083339Z
UID:3508-1498989600-1499011200@celebrationdayforgirls.com
SUMMARY:Celebration Day for Girls\, Pukerohi Te Kohanga Reo\,Papakura\, Auckland
DESCRIPTION:Places are available for this event.
URL:https://celebrationdayforgirls.com/event/celebration-day-for-girls-pukerohi-te-kohanga-reopapakura-auckland-2/
LOCATION:Pukerohi Te Kohanga Reo\,Papakura\, Auckland\, Auckland\, New Zealand
ORGANIZER;CN="Angela Fraser":MAILTO:angelafrasernz@gmail.com
END:VEVENT
BEGIN:VEVENT
DTSTART;TZID=Pacific/Auckland:20170702T100000
DTEND;TZID=Pacific/Auckland:20170702T160000
DTSTAMP:20260425T163857
CREATED:20170610T083339Z
LAST-MODIFIED:20170610T083339Z
UID:2342-1498989600-1499011200@celebrationdayforgirls.com
SUMMARY:Celebration Day for Girls\, Pukerohi Te Kohanga Reo\,Papakura\, Auckland
DESCRIPTION:Places are available for this event.
URL:https://celebrationdayforgirls.com/event/celebration-day-for-girls-pukerohi-te-kohanga-reopapakura-auckland/
LOCATION:Pukerohi Te Kohanga Reo\,Papakura\, Auckland\, Auckland\, New Zealand
ORGANIZER;CN="Angela Fraser":MAILTO:angelafrasernz@gmail.com
END:VEVENT
BEGIN:VEVENT
DTSTART;TZID=Europe/London:20170707T190000
DTEND;TZID=Europe/London:20170707T210000
DTSTAMP:20260425T163857
CREATED:20170612T214015Z
LAST-MODIFIED:20170612T214015Z
UID:2347-1499454000-1499461200@celebrationdayforgirls.com
SUMMARY:Mother's Session\, Hammersmith\, London\, UK
DESCRIPTION:Places are available for this event.
URL:https://celebrationdayforgirls.com/event/mothers-session-hammersmith-london-uk/
LOCATION:Hammersmith\, London\, United Kingdom
ORGANIZER;CN="Noura Alfadl":MAILTO:nouranaf@gmail.com
END:VEVENT
BEGIN:VEVENT
DTSTART;TZID=Europe/London:20170707T190000
DTEND;TZID=Europe/London:20170707T210000
DTSTAMP:20260425T163857
CREATED:20170612T214015Z
LAST-MODIFIED:20170612T214015Z
UID:3510-1499454000-1499461200@celebrationdayforgirls.com
SUMMARY:Mother's Session\, Hammersmith\, London\, UK
DESCRIPTION:Places are available for this event.
URL:https://celebrationdayforgirls.com/event/mothers-session-hammersmith-london-uk-2/
LOCATION:Hammersmith\, London\, United Kingdom
ORGANIZER;CN="Noura Alfadl":MAILTO:nouranaf@gmail.com
END:VEVENT
BEGIN:VEVENT
DTSTART;TZID=Europe/London:20170708T100000
DTEND;TZID=Europe/London:20170708T160000
DTSTAMP:20260425T163857
CREATED:20170612T213812Z
LAST-MODIFIED:20170612T213812Z
UID:3509-1499508000-1499529600@celebrationdayforgirls.com
SUMMARY:Celebration Day for Girls\, Hammersmith\, London\, UK
DESCRIPTION:Places are available for this event.
URL:https://celebrationdayforgirls.com/event/celebration-day-for-girls-hammersmith-london-uk-2/
LOCATION:Hammersmith\, London\, United Kingdom
ORGANIZER;CN="Noura Alfadl":MAILTO:nouranaf@gmail.com
END:VEVENT
BEGIN:VEVENT
DTSTART;TZID=Europe/London:20170708T100000
DTEND;TZID=Europe/London:20170708T160000
DTSTAMP:20260425T163857
CREATED:20170612T213812Z
LAST-MODIFIED:20170612T213812Z
UID:2344-1499508000-1499529600@celebrationdayforgirls.com
SUMMARY:Celebration Day for Girls\, Hammersmith\, London\, UK
DESCRIPTION:Places are available for this event.
URL:https://celebrationdayforgirls.com/event/celebration-day-for-girls-hammersmith-london-uk/
LOCATION:Hammersmith\, London\, United Kingdom
ORGANIZER;CN="Noura Alfadl":MAILTO:nouranaf@gmail.com
END:VEVENT
BEGIN:VEVENT
DTSTART;TZID=Australia/Adelaide:20170730T100000
DTEND;TZID=Australia/Adelaide:20170730T160000
DTSTAMP:20260425T163857
CREATED:20170619T194304Z
LAST-MODIFIED:20170619T194304Z
UID:3514-1501408800-1501430400@celebrationdayforgirls.com
SUMMARY:Celebration Day for Girls\, Aldgate\, Adelaide\, SA
DESCRIPTION:Places are available for this event.
URL:https://celebrationdayforgirls.com/event/celebration-day-for-girls-aldgate-adelaide-sa-2/
LOCATION:Aldgate\, Aldgate\, Adelaide\, South Australia\, Australia
ORGANIZER;CN="Fiona House":MAILTO:fionachouse@gmail.com
END:VEVENT
BEGIN:VEVENT
DTSTART;TZID=Australia/Adelaide:20170730T100000
DTEND;TZID=Australia/Adelaide:20170730T160000
DTSTAMP:20260425T163857
CREATED:20170619T194304Z
LAST-MODIFIED:20170619T194304Z
UID:2360-1501408800-1501430400@celebrationdayforgirls.com
SUMMARY:Celebration Day for Girls\, Aldgate\, Adelaide\, SA
DESCRIPTION:Places are available for this event.
URL:https://celebrationdayforgirls.com/event/celebration-day-for-girls-aldgate-adelaide-sa/
LOCATION:Aldgate\, Aldgate\, Adelaide\, South Australia\, Australia
ORGANIZER;CN="Fiona House":MAILTO:fionachouse@gmail.com
END:VEVENT
BEGIN:VEVENT
DTSTART;TZID=Australia/Adelaide:20170730T100000
DTEND;TZID=Australia/Adelaide:20170730T160000
DTSTAMP:20260425T163857
CREATED:20170704T194805Z
LAST-MODIFIED:20170704T194805Z
UID:3525-1501408800-1501430400@celebrationdayforgirls.com
SUMMARY:Celebration Day for Girls\, Adelaide\, SA
DESCRIPTION:Places are available for this event.
URL:https://celebrationdayforgirls.com/event/celebration-day-for-girls-adelaide-sa-3-2/
LOCATION:Adelaide\, Adelaide\, South Australia\, Australia
ORGANIZER;CN="Fiona House":MAILTO:fionachouse@gmail.com
END:VEVENT
BEGIN:VEVENT
DTSTART;TZID=Australia/Adelaide:20170730T100000
DTEND;TZID=Australia/Adelaide:20170730T160000
DTSTAMP:20260425T163857
CREATED:20170704T194805Z
LAST-MODIFIED:20170704T194805Z
UID:2414-1501408800-1501430400@celebrationdayforgirls.com
SUMMARY:Celebration Day for Girls\, Adelaide\, SA
DESCRIPTION:Places are available for this event.
URL:https://celebrationdayforgirls.com/event/celebration-day-for-girls-adelaide-sa-3/
LOCATION:Adelaide\, Adelaide\, South Australia\, Australia
ORGANIZER;CN="Fiona House":MAILTO:fionachouse@gmail.com
END:VEVENT
BEGIN:VEVENT
DTSTART;TZID=UTC:20170806T100000
DTEND;TZID=UTC:20170806T160000
DTSTAMP:20260425T163857
CREATED:20170224T000331Z
LAST-MODIFIED:20170224T000331Z
UID:2202-1502013600-1502035200@celebrationdayforgirls.com
SUMMARY:Celebration Day for Girls\, Park Orchards\, VIC
DESCRIPTION:This event is full. Please contact the organiser for information about other events
URL:https://celebrationdayforgirls.com/event/celebration-day-for-girls-park-orchards-vic-2/
ORGANIZER;CN="Janoel Liddy":MAILTO:contact.janoel@gmail.com
END:VEVENT
BEGIN:VEVENT
DTSTART;TZID=UTC:20170806T100000
DTEND;TZID=UTC:20170806T160000
DTSTAMP:20260425T163857
CREATED:20170224T000331Z
LAST-MODIFIED:20170224T000331Z
UID:3463-1502013600-1502035200@celebrationdayforgirls.com
SUMMARY:Celebration Day for Girls\, Park Orchards\, VIC
DESCRIPTION:This event is full. Please contact the organiser for information about other events
URL:https://celebrationdayforgirls.com/event/celebration-day-for-girls-park-orchards-vic-2-2/
ORGANIZER;CN="Janoel Liddy":MAILTO:contact.janoel@gmail.com
END:VEVENT
BEGIN:VEVENT
DTSTART;TZID=Australia/Melbourne:20170806T100000
DTEND;TZID=Australia/Melbourne:20170806T160000
DTSTAMP:20260425T163857
CREATED:20170625T214408Z
LAST-MODIFIED:20170625T214408Z
UID:3518-1502013600-1502035200@celebrationdayforgirls.com
SUMMARY:Celebration Day for Girls\, Shepparton\, VIC
DESCRIPTION:Places are available for this event.
URL:https://celebrationdayforgirls.com/event/celebration-day-for-girls-shepparton-vic-5-2/
LOCATION:Shepparton\, Shepparton\, Australia
ORGANIZER;CN="Nicole Tricarico":MAILTO:ntricarico@bigpond.com
END:VEVENT
BEGIN:VEVENT
DTSTART;TZID=Australia/Melbourne:20170806T100000
DTEND;TZID=Australia/Melbourne:20170806T160000
DTSTAMP:20260425T163857
CREATED:20170625T214408Z
LAST-MODIFIED:20170625T214408Z
UID:2392-1502013600-1502035200@celebrationdayforgirls.com
SUMMARY:Celebration Day for Girls\, Shepparton\, VIC
DESCRIPTION:Places are available for this event.
URL:https://celebrationdayforgirls.com/event/celebration-day-for-girls-shepparton-vic-5/
LOCATION:Shepparton\, Shepparton\, Australia
ORGANIZER;CN="Nicole Tricarico":MAILTO:ntricarico@bigpond.com
END:VEVENT
BEGIN:VEVENT
DTSTART;TZID=Australia/Melbourne:20170806T100000
DTEND;TZID=Australia/Melbourne:20170806T160000
DTSTAMP:20260425T163857
CREATED:20170626T193328Z
LAST-MODIFIED:20170626T193328Z
UID:3520-1502013600-1502035200@celebrationdayforgirls.com
SUMMARY:Celebration Day for Girls\, Park Orchards\, VIC
DESCRIPTION:Places are available for this group.
URL:https://celebrationdayforgirls.com/event/celebration-day-for-girls-park-orchards-vic-3-2/
LOCATION:Park Orchards\, Park Orchards\, Victoria\, Australia
ORGANIZER;CN="Janoel Liddy":MAILTO:contact.janoel@gmail.com
END:VEVENT
BEGIN:VEVENT
DTSTART;TZID=Australia/Melbourne:20170806T100000
DTEND;TZID=Australia/Melbourne:20170806T160000
DTSTAMP:20260425T163857
CREATED:20170626T193328Z
LAST-MODIFIED:20170626T193328Z
UID:2397-1502013600-1502035200@celebrationdayforgirls.com
SUMMARY:Celebration Day for Girls\, Park Orchards\, VIC
DESCRIPTION:Places are available for this group.
URL:https://celebrationdayforgirls.com/event/celebration-day-for-girls-park-orchards-vic-3/
LOCATION:Park Orchards\, Park Orchards\, Victoria\, Australia
ORGANIZER;CN="Janoel Liddy":MAILTO:contact.janoel@gmail.com
END:VEVENT
BEGIN:VEVENT
DTSTART;TZID=Australia/Brisbane:20170806T100000
DTEND;TZID=Australia/Brisbane:20170806T160000
DTSTAMP:20260425T163857
CREATED:20170810T215921Z
LAST-MODIFIED:20170810T215921Z
UID:3533-1502013600-1502035200@celebrationdayforgirls.com
SUMMARY:Celebration Day for Girls\, Maleny\, QLD
DESCRIPTION:This is a class event.
URL:https://celebrationdayforgirls.com/event/celebration-day-for-girls-maleny-qld-2-2/
LOCATION:River School\, Maleny\, Queensland\, Australia
ORGANIZER;CN="Alieta Belle":MAILTO:alieta@earthbase.net.au
END:VEVENT
BEGIN:VEVENT
DTSTART;TZID=Australia/Brisbane:20170806T100000
DTEND;TZID=Australia/Brisbane:20170806T160000
DTSTAMP:20260425T163857
CREATED:20170810T215921Z
LAST-MODIFIED:20170810T215921Z
UID:2453-1502013600-1502035200@celebrationdayforgirls.com
SUMMARY:Celebration Day for Girls\, Maleny\, QLD
DESCRIPTION:This is a class event.
URL:https://celebrationdayforgirls.com/event/celebration-day-for-girls-maleny-qld-2/
LOCATION:River School\, Maleny\, Queensland\, Australia
ORGANIZER;CN="Alieta Belle":MAILTO:alieta@earthbase.net.au
END:VEVENT
BEGIN:VEVENT
DTSTART;TZID=Australia/Melbourne:20170813T100000
DTEND;TZID=Australia/Melbourne:20170813T160000
DTSTAMP:20260425T163857
CREATED:20170626T193652Z
LAST-MODIFIED:20170626T193652Z
UID:3521-1502618400-1502640000@celebrationdayforgirls.com
SUMMARY:Celebration Day for Girls\, North Fitzroy\, VIC
DESCRIPTION:This is a class event. Please contact the facilitator for further information on upcoming workshop dates.
URL:https://celebrationdayforgirls.com/event/celebration-day-for-girls-north-fitzroy-vic-2/
LOCATION:North Fitzroy\, North Fitzroy\, Victoria\, Australia
ORGANIZER;CN="Janoel Liddy":MAILTO:contact.janoel@gmail.com
END:VEVENT
BEGIN:VEVENT
DTSTART;TZID=Australia/Melbourne:20170813T100000
DTEND;TZID=Australia/Melbourne:20170813T160000
DTSTAMP:20260425T163857
CREATED:20170626T193652Z
LAST-MODIFIED:20170626T193652Z
UID:2400-1502618400-1502640000@celebrationdayforgirls.com
SUMMARY:Celebration Day for Girls\, North Fitzroy\, VIC
DESCRIPTION:This is a class event. Please contact the facilitator for further information on upcoming workshop dates.
URL:https://celebrationdayforgirls.com/event/celebration-day-for-girls-north-fitzroy-vic/
LOCATION:North Fitzroy\, North Fitzroy\, Victoria\, Australia
ORGANIZER;CN="Janoel Liddy":MAILTO:contact.janoel@gmail.com
END:VEVENT
BEGIN:VEVENT
DTSTART;TZID=Australia/Melbourne:20170824T190000
DTEND;TZID=Australia/Melbourne:20170824T210000
DTSTAMP:20260425T163857
CREATED:20170624T104408Z
LAST-MODIFIED:20170624T104408Z
UID:3516-1503601200-1503608400@celebrationdayforgirls.com
SUMMARY:Mother's Session\, Donvale\, VIC
DESCRIPTION:Places are available for this event.
URL:https://celebrationdayforgirls.com/event/mothers-session-donvale-vic-3-2/
LOCATION:Donvale Christian College\, Donvale\, Australia
ORGANIZER;CN="Kath Callinan-Moore":MAILTO:sjkm@bigpond.net.au
END:VEVENT
BEGIN:VEVENT
DTSTART;TZID=Australia/Melbourne:20170824T190000
DTEND;TZID=Australia/Melbourne:20170824T210000
DTSTAMP:20260425T163857
CREATED:20170624T104408Z
LAST-MODIFIED:20170624T104408Z
UID:2387-1503601200-1503608400@celebrationdayforgirls.com
SUMMARY:Mother's Session\, Donvale\, VIC
DESCRIPTION:Places are available for this event.
URL:https://celebrationdayforgirls.com/event/mothers-session-donvale-vic-3/
LOCATION:Donvale Christian College\, Donvale\, Australia
ORGANIZER;CN="Kath Callinan-Moore":MAILTO:sjkm@bigpond.net.au
END:VEVENT
BEGIN:VEVENT
DTSTART;TZID=Australia/Darwin:20170824T190000
DTEND;TZID=Australia/Darwin:20170824T210000
DTSTAMP:20260425T163857
CREATED:20170727T202400Z
LAST-MODIFIED:20170727T202400Z
UID:3530-1503601200-1503608400@celebrationdayforgirls.com
SUMMARY:Mother's Session\, NT
DESCRIPTION:This is a class event.
URL:https://celebrationdayforgirls.com/event/mothers-session-nt-2/
LOCATION:Darwin\, Darwin\, Northern Territory\, Australia
ORGANIZER;CN="Jenni Mitchell":MAILTO:inspiredbyjarrah@gmail.com
END:VEVENT
BEGIN:VEVENT
DTSTART;TZID=Australia/Darwin:20170824T190000
DTEND;TZID=Australia/Darwin:20170824T210000
DTSTAMP:20260425T163857
CREATED:20170727T202400Z
LAST-MODIFIED:20170727T202400Z
UID:2434-1503601200-1503608400@celebrationdayforgirls.com
SUMMARY:Mother's Session\, NT
DESCRIPTION:This is a class event.
URL:https://celebrationdayforgirls.com/event/mothers-session-nt/
LOCATION:Darwin\, Darwin\, Northern Territory\, Australia
ORGANIZER;CN="Jenni Mitchell":MAILTO:inspiredbyjarrah@gmail.com
END:VEVENT
END:VCALENDAR