BEGIN:VCALENDAR
VERSION:2.0
PRODID:-//Celebration Day For Girls - ECPv6.15.20//NONSGML v1.0//EN
CALSCALE:GREGORIAN
METHOD:PUBLISH
X-WR-CALNAME:Celebration Day For Girls
X-ORIGINAL-URL:https://celebrationdayforgirls.com
X-WR-CALDESC:Events for Celebration Day For Girls
REFRESH-INTERVAL;VALUE=DURATION:PT1H
X-Robots-Tag:noindex
X-PUBLISHED-TTL:PT1H
BEGIN:VTIMEZONE
TZID:Australia/Melbourne
BEGIN:STANDARD
TZOFFSETFROM:+1100
TZOFFSETTO:+1000
TZNAME:AEST
DTSTART:20160402T160000
END:STANDARD
BEGIN:DAYLIGHT
TZOFFSETFROM:+1000
TZOFFSETTO:+1100
TZNAME:AEDT
DTSTART:20161001T160000
END:DAYLIGHT
BEGIN:STANDARD
TZOFFSETFROM:+1100
TZOFFSETTO:+1000
TZNAME:AEST
DTSTART:20170401T160000
END:STANDARD
BEGIN:DAYLIGHT
TZOFFSETFROM:+1000
TZOFFSETTO:+1100
TZNAME:AEDT
DTSTART:20170930T160000
END:DAYLIGHT
BEGIN:STANDARD
TZOFFSETFROM:+1100
TZOFFSETTO:+1000
TZNAME:AEST
DTSTART:20180331T160000
END:STANDARD
BEGIN:DAYLIGHT
TZOFFSETFROM:+1000
TZOFFSETTO:+1100
TZNAME:AEDT
DTSTART:20181006T160000
END:DAYLIGHT
END:VTIMEZONE
BEGIN:VTIMEZONE
TZID:Australia/Darwin
BEGIN:STANDARD
TZOFFSETFROM:+0930
TZOFFSETTO:+0930
TZNAME:ACST
DTSTART:20160101T000000
END:STANDARD
END:VTIMEZONE
BEGIN:VTIMEZONE
TZID:Australia/Adelaide
BEGIN:STANDARD
TZOFFSETFROM:+1030
TZOFFSETTO:+0930
TZNAME:ACST
DTSTART:20160402T163000
END:STANDARD
BEGIN:DAYLIGHT
TZOFFSETFROM:+0930
TZOFFSETTO:+1030
TZNAME:ACDT
DTSTART:20161001T163000
END:DAYLIGHT
BEGIN:STANDARD
TZOFFSETFROM:+1030
TZOFFSETTO:+0930
TZNAME:ACST
DTSTART:20170401T163000
END:STANDARD
BEGIN:DAYLIGHT
TZOFFSETFROM:+0930
TZOFFSETTO:+1030
TZNAME:ACDT
DTSTART:20170930T163000
END:DAYLIGHT
BEGIN:STANDARD
TZOFFSETFROM:+1030
TZOFFSETTO:+0930
TZNAME:ACST
DTSTART:20180331T163000
END:STANDARD
BEGIN:DAYLIGHT
TZOFFSETFROM:+0930
TZOFFSETTO:+1030
TZNAME:ACDT
DTSTART:20181006T163000
END:DAYLIGHT
END:VTIMEZONE
BEGIN:VEVENT
DTSTART;TZID=Australia/Melbourne:20170813T100000
DTEND;TZID=Australia/Melbourne:20170813T160000
DTSTAMP:20260425T131717
CREATED:20170626T193652Z
LAST-MODIFIED:20170626T193652Z
UID:3521-1502618400-1502640000@celebrationdayforgirls.com
SUMMARY:Celebration Day for Girls\, North Fitzroy\, VIC
DESCRIPTION:This is a class event. Please contact the facilitator for further information on upcoming workshop dates.
URL:https://celebrationdayforgirls.com/event/celebration-day-for-girls-north-fitzroy-vic-2/
LOCATION:North Fitzroy\, North Fitzroy\, Victoria\, Australia
ORGANIZER;CN="Janoel Liddy":MAILTO:contact.janoel@gmail.com
END:VEVENT
BEGIN:VEVENT
DTSTART;TZID=Australia/Melbourne:20170813T100000
DTEND;TZID=Australia/Melbourne:20170813T160000
DTSTAMP:20260425T131717
CREATED:20170626T193652Z
LAST-MODIFIED:20170626T193652Z
UID:2400-1502618400-1502640000@celebrationdayforgirls.com
SUMMARY:Celebration Day for Girls\, North Fitzroy\, VIC
DESCRIPTION:This is a class event. Please contact the facilitator for further information on upcoming workshop dates.
URL:https://celebrationdayforgirls.com/event/celebration-day-for-girls-north-fitzroy-vic/
LOCATION:North Fitzroy\, North Fitzroy\, Victoria\, Australia
ORGANIZER;CN="Janoel Liddy":MAILTO:contact.janoel@gmail.com
END:VEVENT
BEGIN:VEVENT
DTSTART;TZID=Australia/Melbourne:20170824T190000
DTEND;TZID=Australia/Melbourne:20170824T210000
DTSTAMP:20260425T131717
CREATED:20170624T104408Z
LAST-MODIFIED:20170624T104408Z
UID:3516-1503601200-1503608400@celebrationdayforgirls.com
SUMMARY:Mother's Session\, Donvale\, VIC
DESCRIPTION:Places are available for this event.
URL:https://celebrationdayforgirls.com/event/mothers-session-donvale-vic-3-2/
LOCATION:Donvale Christian College\, Donvale\, Australia
ORGANIZER;CN="Kath Callinan-Moore":MAILTO:sjkm@bigpond.net.au
END:VEVENT
BEGIN:VEVENT
DTSTART;TZID=Australia/Melbourne:20170824T190000
DTEND;TZID=Australia/Melbourne:20170824T210000
DTSTAMP:20260425T131717
CREATED:20170624T104408Z
LAST-MODIFIED:20170624T104408Z
UID:2387-1503601200-1503608400@celebrationdayforgirls.com
SUMMARY:Mother's Session\, Donvale\, VIC
DESCRIPTION:Places are available for this event.
URL:https://celebrationdayforgirls.com/event/mothers-session-donvale-vic-3/
LOCATION:Donvale Christian College\, Donvale\, Australia
ORGANIZER;CN="Kath Callinan-Moore":MAILTO:sjkm@bigpond.net.au
END:VEVENT
BEGIN:VEVENT
DTSTART;TZID=Australia/Darwin:20170824T190000
DTEND;TZID=Australia/Darwin:20170824T210000
DTSTAMP:20260425T131717
CREATED:20170727T202400Z
LAST-MODIFIED:20170727T202400Z
UID:2434-1503601200-1503608400@celebrationdayforgirls.com
SUMMARY:Mother's Session\, NT
DESCRIPTION:This is a class event.
URL:https://celebrationdayforgirls.com/event/mothers-session-nt/
LOCATION:Darwin\, Darwin\, Northern Territory\, Australia
ORGANIZER;CN="Jenni Mitchell":MAILTO:inspiredbyjarrah@gmail.com
END:VEVENT
BEGIN:VEVENT
DTSTART;TZID=Australia/Darwin:20170824T190000
DTEND;TZID=Australia/Darwin:20170824T210000
DTSTAMP:20260425T131717
CREATED:20170727T202400Z
LAST-MODIFIED:20170727T202400Z
UID:3530-1503601200-1503608400@celebrationdayforgirls.com
SUMMARY:Mother's Session\, NT
DESCRIPTION:This is a class event.
URL:https://celebrationdayforgirls.com/event/mothers-session-nt-2/
LOCATION:Darwin\, Darwin\, Northern Territory\, Australia
ORGANIZER;CN="Jenni Mitchell":MAILTO:inspiredbyjarrah@gmail.com
END:VEVENT
BEGIN:VEVENT
DTSTART;TZID=Australia/Melbourne:20170827T100000
DTEND;TZID=Australia/Melbourne:20170827T160000
DTSTAMP:20260425T131717
CREATED:20170624T104152Z
LAST-MODIFIED:20170624T104152Z
UID:3515-1503828000-1503849600@celebrationdayforgirls.com
SUMMARY:Celebration Day for Girls\, Donvale\, VIC
DESCRIPTION:Places are available for this event.
URL:https://celebrationdayforgirls.com/event/celebration-day-for-girls-donvale-vic-3-2/
LOCATION:Donvale Christian College\, Donvale\, Australia
ORGANIZER;CN="Kath Callinan-Moore":MAILTO:sjkm@bigpond.net.au
END:VEVENT
BEGIN:VEVENT
DTSTART;TZID=Australia/Melbourne:20170827T100000
DTEND;TZID=Australia/Melbourne:20170827T160000
DTSTAMP:20260425T131717
CREATED:20170624T104152Z
LAST-MODIFIED:20170624T104152Z
UID:2384-1503828000-1503849600@celebrationdayforgirls.com
SUMMARY:Celebration Day for Girls\, Donvale\, VIC
DESCRIPTION:Places are available for this event.
URL:https://celebrationdayforgirls.com/event/celebration-day-for-girls-donvale-vic-3/
LOCATION:Donvale Christian College\, Donvale\, Australia
ORGANIZER;CN="Kath Callinan-Moore":MAILTO:sjkm@bigpond.net.au
END:VEVENT
BEGIN:VEVENT
DTSTART;TZID=Australia/Adelaide:20170827T100000
DTEND;TZID=Australia/Adelaide:20170827T160000
DTSTAMP:20260425T131717
CREATED:20170704T195127Z
LAST-MODIFIED:20170704T195127Z
UID:3526-1503828000-1503849600@celebrationdayforgirls.com
SUMMARY:Celebration Day for Girls\, Seymour College\, SA
DESCRIPTION:This is a class event. Please contact the facilitator for further workshop dates.
URL:https://celebrationdayforgirls.com/event/celebration-day-for-girls-seymour-college-sa-2/
LOCATION:Seymour College\, Adelaide\, South Australia\, Australia
ORGANIZER;CN="Fiona House":MAILTO:fionachouse@gmail.com
END:VEVENT
BEGIN:VEVENT
DTSTART;TZID=Australia/Adelaide:20170827T100000
DTEND;TZID=Australia/Adelaide:20170827T160000
DTSTAMP:20260425T131717
CREATED:20170704T195127Z
LAST-MODIFIED:20170704T195127Z
UID:2417-1503828000-1503849600@celebrationdayforgirls.com
SUMMARY:Celebration Day for Girls\, Seymour College\, SA
DESCRIPTION:This is a class event. Please contact the facilitator for further workshop dates.
URL:https://celebrationdayforgirls.com/event/celebration-day-for-girls-seymour-college-sa/
LOCATION:Seymour College\, Adelaide\, South Australia\, Australia
ORGANIZER;CN="Fiona House":MAILTO:fionachouse@gmail.com
END:VEVENT
BEGIN:VEVENT
DTSTART;TZID=Australia/Darwin:20170827T100000
DTEND;TZID=Australia/Darwin:20170827T160000
DTSTAMP:20260425T131717
CREATED:20170727T202119Z
LAST-MODIFIED:20170727T202119Z
UID:3529-1503828000-1503849600@celebrationdayforgirls.com
SUMMARY:Celebration Day for Girls\, Darwin\, NT
DESCRIPTION:This is a class event. Please contact the facilitator for further information on upcoming workshops in your area.
URL:https://celebrationdayforgirls.com/event/celebration-day-for-girls-nt-2/
LOCATION:Darwin\, Darwin\, Northern Territory\, Australia
ORGANIZER;CN="Jenni Mitchell":MAILTO:inspiredbyjarrah@gmail.com
END:VEVENT
BEGIN:VEVENT
DTSTART;TZID=Australia/Darwin:20170827T100000
DTEND;TZID=Australia/Darwin:20170827T160000
DTSTAMP:20260425T131717
CREATED:20170727T202119Z
LAST-MODIFIED:20170727T202119Z
UID:2430-1503828000-1503849600@celebrationdayforgirls.com
SUMMARY:Celebration Day for Girls\, Darwin\, NT
DESCRIPTION:This is a class event. Please contact the facilitator for further information on upcoming workshops in your area.
URL:https://celebrationdayforgirls.com/event/celebration-day-for-girls-nt/
LOCATION:Darwin\, Darwin\, Northern Territory\, Australia
ORGANIZER;CN="Jenni Mitchell":MAILTO:inspiredbyjarrah@gmail.com
END:VEVENT
BEGIN:VEVENT
DTSTART;TZID=Australia/Melbourne:20170907T190000
DTEND;TZID=Australia/Melbourne:20170907T210000
DTSTAMP:20260425T131717
CREATED:20170626T194753Z
LAST-MODIFIED:20170626T194753Z
UID:3523-1504810800-1504818000@celebrationdayforgirls.com
SUMMARY:Mother's Session\, West Preston\, VIC
DESCRIPTION:Places are available for this event.
URL:https://celebrationdayforgirls.com/event/mothers-session-west-preston-vic-2/
LOCATION:West Preston\, West Preston\, Victoria\, Australia
ORGANIZER;CN="Janoel Liddy":MAILTO:contact.janoel@gmail.com
END:VEVENT
BEGIN:VEVENT
DTSTART;TZID=Australia/Melbourne:20170907T190000
DTEND;TZID=Australia/Melbourne:20170907T210000
DTSTAMP:20260425T131717
CREATED:20170626T194753Z
LAST-MODIFIED:20170626T194753Z
UID:2408-1504810800-1504818000@celebrationdayforgirls.com
SUMMARY:Mother's Session\, West Preston\, VIC
DESCRIPTION:Places are available for this event.
URL:https://celebrationdayforgirls.com/event/mothers-session-west-preston-vic/
LOCATION:West Preston\, West Preston\, Victoria\, Australia
ORGANIZER;CN="Janoel Liddy":MAILTO:contact.janoel@gmail.com
END:VEVENT
BEGIN:VEVENT
DTSTART;TZID=Australia/Melbourne:20170908T190000
DTEND;TZID=Australia/Melbourne:20170908T210000
DTSTAMP:20260425T131717
CREATED:20170810T220624Z
LAST-MODIFIED:20170810T220624Z
UID:3535-1504897200-1504904400@celebrationdayforgirls.com
SUMMARY:Mother's Session\, Eltham\, VIC
DESCRIPTION:Places are available for this event.
URL:https://celebrationdayforgirls.com/event/mothers-session-eltham-vic-2-2/
LOCATION:Edenvale Farm\, Australia
ORGANIZER;CN="Melissa Gonella":MAILTO:mmgonella@hotmail.com
END:VEVENT
BEGIN:VEVENT
DTSTART;TZID=Australia/Melbourne:20170908T190000
DTEND;TZID=Australia/Melbourne:20170908T210000
DTSTAMP:20260425T131717
CREATED:20170810T220624Z
LAST-MODIFIED:20170810T220624Z
UID:2458-1504897200-1504904400@celebrationdayforgirls.com
SUMMARY:Mother's Session\, Eltham\, VIC
DESCRIPTION:Places are available for this event.
URL:https://celebrationdayforgirls.com/event/mothers-session-eltham-vic-2/
LOCATION:Edenvale Farm\, Australia
ORGANIZER;CN="Melissa Gonella":MAILTO:mmgonella@hotmail.com
END:VEVENT
BEGIN:VEVENT
DTSTART;TZID=Australia/Melbourne:20170909T070000
DTEND;TZID=Australia/Melbourne:20170909T210000
DTSTAMP:20260425T131717
CREATED:20170402T113532Z
LAST-MODIFIED:20170402T113532Z
UID:3487-1504940400-1504990800@celebrationdayforgirls.com
SUMMARY:Mother's Session\, Freshwater Creek\, VIC
DESCRIPTION:Places are available for this event.
URL:https://celebrationdayforgirls.com/event/mothers-session-freshwater-creek-vic-2-2/
LOCATION:Freshwater Creek Steiner School\, Victoria\, Australia
ORGANIZER;CN="Ingrid Petterson":MAILTO:artmedicine@ymail.com
END:VEVENT
BEGIN:VEVENT
DTSTART;TZID=Australia/Melbourne:20170909T070000
DTEND;TZID=Australia/Melbourne:20170909T210000
DTSTAMP:20260425T131717
CREATED:20170402T113532Z
LAST-MODIFIED:20170402T113532Z
UID:2269-1504940400-1504990800@celebrationdayforgirls.com
SUMMARY:Mother's Session\, Freshwater Creek\, VIC
DESCRIPTION:Places are available for this event.
URL:https://celebrationdayforgirls.com/event/mothers-session-freshwater-creek-vic-2/
LOCATION:Freshwater Creek Steiner School\, Victoria\, Australia
ORGANIZER;CN="Ingrid Petterson":MAILTO:artmedicine@ymail.com
END:VEVENT
BEGIN:VEVENT
DTSTART;TZID=Australia/Melbourne:20170909T100000
DTEND;TZID=Australia/Melbourne:20170909T120000
DTSTAMP:20260425T131717
CREATED:20170820T203534Z
LAST-MODIFIED:20170820T203534Z
UID:2500-1504951200-1504958400@celebrationdayforgirls.com
SUMMARY:Mothers Session\, Geelong\, VIC
DESCRIPTION:Places are available for this event.
URL:https://celebrationdayforgirls.com/event/mothers-session-geelong-vic-4/
LOCATION:Geelong\, Geelong\, Victoria\, Australia
ORGANIZER;CN="Ingrid Petterson":MAILTO:artmedicine@ymail.com
END:VEVENT
BEGIN:VEVENT
DTSTART;TZID=Australia/Melbourne:20170909T100000
DTEND;TZID=Australia/Melbourne:20170909T120000
DTSTAMP:20260425T131717
CREATED:20170820T203534Z
LAST-MODIFIED:20170820T203534Z
UID:3538-1504951200-1504958400@celebrationdayforgirls.com
SUMMARY:Mothers Session\, Geelong\, VIC
DESCRIPTION:Places are available for this event.
URL:https://celebrationdayforgirls.com/event/mothers-session-geelong-vic-4-2/
LOCATION:Geelong\, Geelong\, Victoria\, Australia
ORGANIZER;CN="Ingrid Petterson":MAILTO:artmedicine@ymail.com
END:VEVENT
BEGIN:VEVENT
DTSTART;TZID=Australia/Melbourne:20170909T100000
DTEND;TZID=Australia/Melbourne:20170909T160000
DTSTAMP:20260425T131717
CREATED:20170626T194527Z
LAST-MODIFIED:20170626T194527Z
UID:3522-1504951200-1504972800@celebrationdayforgirls.com
SUMMARY:Celebration Day for Girls\, West Preston\, VIC
DESCRIPTION:Places are available for this event.
URL:https://celebrationdayforgirls.com/event/celebration-day-for-girls-west-preston-vic-2/
LOCATION:West Preston\, West Preston\, Victoria\, Australia
ORGANIZER;CN="Janoel Liddy":MAILTO:contact.janoel@gmail.com
END:VEVENT
BEGIN:VEVENT
DTSTART;TZID=Australia/Melbourne:20170909T100000
DTEND;TZID=Australia/Melbourne:20170909T160000
DTSTAMP:20260425T131717
CREATED:20170626T194527Z
LAST-MODIFIED:20170626T194527Z
UID:2405-1504951200-1504972800@celebrationdayforgirls.com
SUMMARY:Celebration Day for Girls\, West Preston\, VIC
DESCRIPTION:Places are available for this event.
URL:https://celebrationdayforgirls.com/event/celebration-day-for-girls-west-preston-vic/
LOCATION:West Preston\, West Preston\, Victoria\, Australia
ORGANIZER;CN="Janoel Liddy":MAILTO:contact.janoel@gmail.com
END:VEVENT
BEGIN:VEVENT
DTSTART;TZID=Australia/Melbourne:20170909T100000
DTEND;TZID=Australia/Melbourne:20170909T160000
DTSTAMP:20260425T131717
CREATED:20170820T202746Z
LAST-MODIFIED:20170820T202746Z
UID:2497-1504951200-1504972800@celebrationdayforgirls.com
SUMMARY:Celebration Day for Girls\, Geelong\, VIC
DESCRIPTION:Places are available for this event.
URL:https://celebrationdayforgirls.com/event/celebration-day-for-girls-geelong-vic-4/
LOCATION:Geelong\, Geelong\, Victoria\, Australia
ORGANIZER;CN="Ingrid Petterson":MAILTO:artmedicine@ymail.com
END:VEVENT
BEGIN:VEVENT
DTSTART;TZID=Australia/Melbourne:20170909T100000
DTEND;TZID=Australia/Melbourne:20170909T160000
DTSTAMP:20260425T131717
CREATED:20170820T202746Z
LAST-MODIFIED:20170820T202746Z
UID:3537-1504951200-1504972800@celebrationdayforgirls.com
SUMMARY:Celebration Day for Girls\, Geelong\, VIC
DESCRIPTION:Places are available for this event.
URL:https://celebrationdayforgirls.com/event/celebration-day-for-girls-geelong-vic-4-2/
LOCATION:Geelong\, Geelong\, Victoria\, Australia
ORGANIZER;CN="Ingrid Petterson":MAILTO:artmedicine@ymail.com
END:VEVENT
BEGIN:VEVENT
DTSTART;TZID=Australia/Melbourne:20170909T130000
DTEND;TZID=Australia/Melbourne:20170909T150000
DTSTAMP:20260425T131717
CREATED:20170820T203711Z
LAST-MODIFIED:20170820T203711Z
UID:3539-1504962000-1504969200@celebrationdayforgirls.com
SUMMARY:Fathers Celebrating Daughters\, Geelong\, VIC
DESCRIPTION:Places are available for this event.
URL:https://celebrationdayforgirls.com/event/fathers-celebrating-daughters-geelong-vic-2-2/
LOCATION:Geelong\, Geelong\, Victoria\, Australia
ORGANIZER;CN="Ingrid Petterson":MAILTO:artmedicine@ymail.com
END:VEVENT
BEGIN:VEVENT
DTSTART;TZID=Australia/Melbourne:20170909T130000
DTEND;TZID=Australia/Melbourne:20170909T150000
DTSTAMP:20260425T131717
CREATED:20170820T203711Z
LAST-MODIFIED:20170820T203711Z
UID:2502-1504962000-1504969200@celebrationdayforgirls.com
SUMMARY:Fathers Celebrating Daughters\, Geelong\, VIC
DESCRIPTION:Places are available for this event.
URL:https://celebrationdayforgirls.com/event/fathers-celebrating-daughters-geelong-vic-2/
LOCATION:Geelong\, Geelong\, Victoria\, Australia
ORGANIZER;CN="Ingrid Petterson":MAILTO:artmedicine@ymail.com
END:VEVENT
BEGIN:VEVENT
DTSTART;TZID=Australia/Melbourne:20170909T190000
DTEND;TZID=Australia/Melbourne:20170909T210000
DTSTAMP:20260425T131717
CREATED:20161108T100658Z
LAST-MODIFIED:20161108T100658Z
UID:2167-1504983600-1504990800@celebrationdayforgirls.com
SUMMARY:Mother's Session and Fathers Celebrating Daughters\, Geelong\, VIC
DESCRIPTION:Places are available for this event.
URL:https://celebrationdayforgirls.com/event/mothers-session-and-fathers-celebrating-daughters/
LOCATION:Geelong\, Victoria\, Australia
ORGANIZER;CN="Ingrid Petterson":MAILTO:artmedicine@ymail.com
END:VEVENT
BEGIN:VEVENT
DTSTART;TZID=Australia/Melbourne:20170909T190000
DTEND;TZID=Australia/Melbourne:20170909T210000
DTSTAMP:20260425T131717
CREATED:20161108T100658Z
LAST-MODIFIED:20161108T100658Z
UID:3455-1504983600-1504990800@celebrationdayforgirls.com
SUMMARY:Mother's Session and Fathers Celebrating Daughters\, Geelong\, VIC
DESCRIPTION:Places are available for this event.
URL:https://celebrationdayforgirls.com/event/mothers-session-and-fathers-celebrating-daughters-2/
LOCATION:Geelong\, Victoria\, Australia
ORGANIZER;CN="Ingrid Petterson":MAILTO:artmedicine@ymail.com
END:VEVENT
BEGIN:VEVENT
DTSTART;TZID=Australia/Melbourne:20170909T190000
DTEND;TZID=Australia/Melbourne:20170909T210000
DTSTAMP:20260425T131717
CREATED:20170402T113347Z
LAST-MODIFIED:20170402T113347Z
UID:3486-1504983600-1504990800@celebrationdayforgirls.com
SUMMARY:Fathers Celebrating Daughters\, Freshwater Creek\, VIC
DESCRIPTION:Places are available for this event.
URL:https://celebrationdayforgirls.com/event/fathers-celebrating-daughters-freshwater-creek-vic-2-2/
LOCATION:Freshwater Creek Steiner School\, Victoria\, Australia
ORGANIZER;CN="Ingrid Petterson":MAILTO:artmedicine@ymail.com
END:VEVENT
BEGIN:VEVENT
DTSTART;TZID=Australia/Melbourne:20170909T190000
DTEND;TZID=Australia/Melbourne:20170909T210000
DTSTAMP:20260425T131717
CREATED:20170402T113347Z
LAST-MODIFIED:20170402T113347Z
UID:2267-1504983600-1504990800@celebrationdayforgirls.com
SUMMARY:Fathers Celebrating Daughters\, Freshwater Creek\, VIC
DESCRIPTION:Places are available for this event.
URL:https://celebrationdayforgirls.com/event/fathers-celebrating-daughters-freshwater-creek-vic-2/
LOCATION:Freshwater Creek Steiner School\, Victoria\, Australia
ORGANIZER;CN="Ingrid Petterson":MAILTO:artmedicine@ymail.com
END:VEVENT
END:VCALENDAR