BEGIN:VCALENDAR
VERSION:2.0
PRODID:-//Celebration Day For Girls - ECPv6.15.20//NONSGML v1.0//EN
CALSCALE:GREGORIAN
METHOD:PUBLISH
X-WR-CALNAME:Celebration Day For Girls
X-ORIGINAL-URL:https://celebrationdayforgirls.com
X-WR-CALDESC:Events for Celebration Day For Girls
REFRESH-INTERVAL;VALUE=DURATION:PT1H
X-Robots-Tag:noindex
X-PUBLISHED-TTL:PT1H
BEGIN:VTIMEZONE
TZID:Europe/Paris
BEGIN:DAYLIGHT
TZOFFSETFROM:+0100
TZOFFSETTO:+0200
TZNAME:CEST
DTSTART:20170326T010000
END:DAYLIGHT
BEGIN:STANDARD
TZOFFSETFROM:+0200
TZOFFSETTO:+0100
TZNAME:CET
DTSTART:20171029T010000
END:STANDARD
BEGIN:DAYLIGHT
TZOFFSETFROM:+0100
TZOFFSETTO:+0200
TZNAME:CEST
DTSTART:20180325T010000
END:DAYLIGHT
BEGIN:STANDARD
TZOFFSETFROM:+0200
TZOFFSETTO:+0100
TZNAME:CET
DTSTART:20181028T010000
END:STANDARD
BEGIN:DAYLIGHT
TZOFFSETFROM:+0100
TZOFFSETTO:+0200
TZNAME:CEST
DTSTART:20190331T010000
END:DAYLIGHT
BEGIN:STANDARD
TZOFFSETFROM:+0200
TZOFFSETTO:+0100
TZNAME:CET
DTSTART:20191027T010000
END:STANDARD
END:VTIMEZONE
BEGIN:VTIMEZONE
TZID:Australia/Melbourne
BEGIN:STANDARD
TZOFFSETFROM:+1100
TZOFFSETTO:+1000
TZNAME:AEST
DTSTART:20170401T160000
END:STANDARD
BEGIN:DAYLIGHT
TZOFFSETFROM:+1000
TZOFFSETTO:+1100
TZNAME:AEDT
DTSTART:20170930T160000
END:DAYLIGHT
BEGIN:STANDARD
TZOFFSETFROM:+1100
TZOFFSETTO:+1000
TZNAME:AEST
DTSTART:20180331T160000
END:STANDARD
BEGIN:DAYLIGHT
TZOFFSETFROM:+1000
TZOFFSETTO:+1100
TZNAME:AEDT
DTSTART:20181006T160000
END:DAYLIGHT
BEGIN:STANDARD
TZOFFSETFROM:+1100
TZOFFSETTO:+1000
TZNAME:AEST
DTSTART:20190406T160000
END:STANDARD
BEGIN:DAYLIGHT
TZOFFSETFROM:+1000
TZOFFSETTO:+1100
TZNAME:AEDT
DTSTART:20191005T160000
END:DAYLIGHT
END:VTIMEZONE
BEGIN:VTIMEZONE
TZID:Australia/Sydney
BEGIN:STANDARD
TZOFFSETFROM:+1100
TZOFFSETTO:+1000
TZNAME:AEST
DTSTART:20170401T160000
END:STANDARD
BEGIN:DAYLIGHT
TZOFFSETFROM:+1000
TZOFFSETTO:+1100
TZNAME:AEDT
DTSTART:20170930T160000
END:DAYLIGHT
BEGIN:STANDARD
TZOFFSETFROM:+1100
TZOFFSETTO:+1000
TZNAME:AEST
DTSTART:20180331T160000
END:STANDARD
BEGIN:DAYLIGHT
TZOFFSETFROM:+1000
TZOFFSETTO:+1100
TZNAME:AEDT
DTSTART:20181006T160000
END:DAYLIGHT
BEGIN:STANDARD
TZOFFSETFROM:+1100
TZOFFSETTO:+1000
TZNAME:AEST
DTSTART:20190406T160000
END:STANDARD
BEGIN:DAYLIGHT
TZOFFSETFROM:+1000
TZOFFSETTO:+1100
TZNAME:AEDT
DTSTART:20191005T160000
END:DAYLIGHT
END:VTIMEZONE
BEGIN:VTIMEZONE
TZID:Australia/Adelaide
BEGIN:STANDARD
TZOFFSETFROM:+1030
TZOFFSETTO:+0930
TZNAME:ACST
DTSTART:20170401T163000
END:STANDARD
BEGIN:DAYLIGHT
TZOFFSETFROM:+0930
TZOFFSETTO:+1030
TZNAME:ACDT
DTSTART:20170930T163000
END:DAYLIGHT
BEGIN:STANDARD
TZOFFSETFROM:+1030
TZOFFSETTO:+0930
TZNAME:ACST
DTSTART:20180331T163000
END:STANDARD
BEGIN:DAYLIGHT
TZOFFSETFROM:+0930
TZOFFSETTO:+1030
TZNAME:ACDT
DTSTART:20181006T163000
END:DAYLIGHT
BEGIN:STANDARD
TZOFFSETFROM:+1030
TZOFFSETTO:+0930
TZNAME:ACST
DTSTART:20190406T163000
END:STANDARD
BEGIN:DAYLIGHT
TZOFFSETFROM:+0930
TZOFFSETTO:+1030
TZNAME:ACDT
DTSTART:20191005T163000
END:DAYLIGHT
END:VTIMEZONE
BEGIN:VTIMEZONE
TZID:Europe/London
BEGIN:DAYLIGHT
TZOFFSETFROM:+0000
TZOFFSETTO:+0100
TZNAME:BST
DTSTART:20170326T010000
END:DAYLIGHT
BEGIN:STANDARD
TZOFFSETFROM:+0100
TZOFFSETTO:+0000
TZNAME:GMT
DTSTART:20171029T010000
END:STANDARD
BEGIN:DAYLIGHT
TZOFFSETFROM:+0000
TZOFFSETTO:+0100
TZNAME:BST
DTSTART:20180325T010000
END:DAYLIGHT
BEGIN:STANDARD
TZOFFSETFROM:+0100
TZOFFSETTO:+0000
TZNAME:GMT
DTSTART:20181028T010000
END:STANDARD
BEGIN:DAYLIGHT
TZOFFSETFROM:+0000
TZOFFSETTO:+0100
TZNAME:BST
DTSTART:20190331T010000
END:DAYLIGHT
BEGIN:STANDARD
TZOFFSETFROM:+0100
TZOFFSETTO:+0000
TZNAME:GMT
DTSTART:20191027T010000
END:STANDARD
END:VTIMEZONE
BEGIN:VEVENT
DTSTART;TZID=Europe/Paris:20180526T100000
DTEND;TZID=Europe/Paris:20180526T160000
DTSTAMP:20260424T201227
CREATED:20180408T163410Z
LAST-MODIFIED:20180408T163410Z
UID:3592-1527328800-1527350400@celebrationdayforgirls.com
SUMMARY:Feter la Puberte\, Narbonne\, France
DESCRIPTION:Places are available for this event.
URL:https://celebrationdayforgirls.com/event/feter-la-puberte-narbonne-france-3-2/
LOCATION:Narbonne\, Narbonne\, France
ORGANIZER;CN="Brigitte Laurent":MAILTO:terresdefemmes@outlook.fr
END:VEVENT
BEGIN:VEVENT
DTSTART;TZID=Europe/Paris:20180526T100000
DTEND;TZID=Europe/Paris:20180526T160000
DTSTAMP:20260424T201227
CREATED:20180408T163410Z
LAST-MODIFIED:20180408T163410Z
UID:2701-1527328800-1527350400@celebrationdayforgirls.com
SUMMARY:Feter la Puberte\, Narbonne\, France
DESCRIPTION:Places are available for this event.
URL:https://celebrationdayforgirls.com/event/feter-la-puberte-narbonne-france-3/
LOCATION:Narbonne\, Narbonne\, France
ORGANIZER;CN="Brigitte Laurent":MAILTO:terresdefemmes@outlook.fr
END:VEVENT
BEGIN:VEVENT
DTSTART;TZID=Australia/Melbourne:20180524T073000
DTEND;TZID=Australia/Melbourne:20180524T210000
DTSTAMP:20260424T201227
CREATED:20180327T213540Z
LAST-MODIFIED:20180327T213540Z
UID:2765-1527147000-1527195600@celebrationdayforgirls.com
SUMMARY:Mother's Session\, Hampton\, VIC
DESCRIPTION:Places are available for this event.
URL:https://celebrationdayforgirls.com/event/mothers-session-hampton-vic-5/
LOCATION:Hampton\, Melbourne\, Victoria\, Australia
ORGANIZER;CN="Melissa Jeffcott":MAILTO:melissa@melissajeffcott.com
END:VEVENT
BEGIN:VEVENT
DTSTART;TZID=Australia/Melbourne:20180524T073000
DTEND;TZID=Australia/Melbourne:20180524T210000
DTSTAMP:20260424T201227
CREATED:20180327T213540Z
LAST-MODIFIED:20180327T213540Z
UID:3591-1527147000-1527195600@celebrationdayforgirls.com
SUMMARY:Mother's Session\, Hampton\, VIC
DESCRIPTION:Places are available for this event.
URL:https://celebrationdayforgirls.com/event/mothers-session-hampton-vic-5-2/
LOCATION:Hampton\, Melbourne\, Victoria\, Australia
ORGANIZER;CN="Melissa Jeffcott":MAILTO:melissa@melissajeffcott.com
END:VEVENT
BEGIN:VEVENT
DTSTART;TZID=Australia/Sydney:20180520T100000
DTEND;TZID=Australia/Sydney:20180520T160000
DTSTAMP:20260424T201227
CREATED:20171014T194155Z
LAST-MODIFIED:20171014T194155Z
UID:3561-1526810400-1526832000@celebrationdayforgirls.com
SUMMARY:Celebration Day for Girls\, Garran\, ACT
DESCRIPTION:Places are available for this event.
URL:https://celebrationdayforgirls.com/event/celebration-day-for-girls-garran-act-4-2/
LOCATION:Garran\, Garran\, Australian Capital Territory\, Australia
ORGANIZER;CN="Julia Dendrinos":MAILTO:julia@grapevine.com.au
END:VEVENT
BEGIN:VEVENT
DTSTART;TZID=Australia/Sydney:20180520T100000
DTEND;TZID=Australia/Sydney:20180520T160000
DTSTAMP:20260424T201227
CREATED:20171014T194155Z
LAST-MODIFIED:20171014T194155Z
UID:2586-1526810400-1526832000@celebrationdayforgirls.com
SUMMARY:Celebration Day for Girls\, Garran\, ACT
DESCRIPTION:Places are available for this event.
URL:https://celebrationdayforgirls.com/event/celebration-day-for-girls-garran-act-4/
LOCATION:Garran\, Garran\, Australian Capital Territory\, Australia
ORGANIZER;CN="Julia Dendrinos":MAILTO:julia@grapevine.com.au
END:VEVENT
BEGIN:VEVENT
DTSTART;TZID=Australia/Melbourne:20180506T100000
DTEND;TZID=Australia/Melbourne:20180506T160000
DTSTAMP:20260424T201227
CREATED:20180420T214622Z
LAST-MODIFIED:20180420T214622Z
UID:2741-1525600800-1525622400@celebrationdayforgirls.com
SUMMARY:Celebration Day For Girls\, Ashburton\, VIC
DESCRIPTION:This is a class event.
URL:https://celebrationdayforgirls.com/event/celebration-day-for-girls-ashburton-vic/
ORGANIZER;CN="Kath Callinan-Moore":MAILTO:sjkm@bigpond.net.au
END:VEVENT
BEGIN:VEVENT
DTSTART;TZID=Australia/Melbourne:20180506T100000
DTEND;TZID=Australia/Melbourne:20180506T160000
DTSTAMP:20260424T201227
CREATED:20180420T214622Z
LAST-MODIFIED:20180420T214622Z
UID:3598-1525600800-1525622400@celebrationdayforgirls.com
SUMMARY:Celebration Day For Girls\, Ashburton\, VIC
DESCRIPTION:This is a class event.
URL:https://celebrationdayforgirls.com/event/celebration-day-for-girls-ashburton-vic-2/
ORGANIZER;CN="Kath Callinan-Moore":MAILTO:sjkm@bigpond.net.au
END:VEVENT
BEGIN:VEVENT
DTSTART;TZID=Australia/Adelaide:20180506T100000
DTEND;TZID=Australia/Adelaide:20180506T160000
DTSTAMP:20260424T201227
CREATED:20180412T222922Z
LAST-MODIFIED:20180412T222922Z
UID:3596-1525600800-1525622400@celebrationdayforgirls.com
SUMMARY:Celebration Day for Girls\, Adelaide\, SA
DESCRIPTION:Places are available for this event.
URL:https://celebrationdayforgirls.com/event/celebration-day-for-girls-darwin-nt-2-2/
LOCATION:Adelaide\, Adelaide\, South Australia\, Australia
ORGANIZER;CN="Fiona House":MAILTO:fionachouse@gmail.com
END:VEVENT
BEGIN:VEVENT
DTSTART;TZID=Australia/Adelaide:20180506T100000
DTEND;TZID=Australia/Adelaide:20180506T160000
DTSTAMP:20260424T201227
CREATED:20180412T222922Z
LAST-MODIFIED:20180412T222922Z
UID:2721-1525600800-1525622400@celebrationdayforgirls.com
SUMMARY:Celebration Day for Girls\, Adelaide\, SA
DESCRIPTION:Places are available for this event.
URL:https://celebrationdayforgirls.com/event/celebration-day-for-girls-darwin-nt-2/
LOCATION:Adelaide\, Adelaide\, South Australia\, Australia
ORGANIZER;CN="Fiona House":MAILTO:fionachouse@gmail.com
END:VEVENT
BEGIN:VEVENT
DTSTART;TZID=Australia/Melbourne:20180505T100000
DTEND;TZID=Australia/Melbourne:20180505T160000
DTSTAMP:20260424T201227
CREATED:20180216T191849Z
LAST-MODIFIED:20180216T191849Z
UID:3585-1525514400-1525536000@celebrationdayforgirls.com
SUMMARY:Celebration Day for Girls\, Castlemaine\, VIC
DESCRIPTION:Places are available for this event.
URL:https://celebrationdayforgirls.com/event/celebration-day-for-girls-castlemaine-vic-7-2/
LOCATION:Castlemaine
ORGANIZER;CN="Rachel Pilgrim":MAILTO:rachel.pilgrim@yahoo.com
END:VEVENT
BEGIN:VEVENT
DTSTART;TZID=Australia/Melbourne:20180505T100000
DTEND;TZID=Australia/Melbourne:20180505T160000
DTSTAMP:20260424T201227
CREATED:20180216T191849Z
LAST-MODIFIED:20180216T191849Z
UID:2760-1525514400-1525536000@celebrationdayforgirls.com
SUMMARY:Celebration Day for Girls\, Castlemaine\, VIC
DESCRIPTION:Places are available for this event.
URL:https://celebrationdayforgirls.com/event/celebration-day-for-girls-castlemaine-vic-7/
LOCATION:Castlemaine
ORGANIZER;CN="Rachel Pilgrim":MAILTO:rachel.pilgrim@yahoo.com
END:VEVENT
BEGIN:VEVENT
DTSTART;TZID=Australia/Adelaide:20180502T193000
DTEND;TZID=Australia/Adelaide:20180502T213000
DTSTAMP:20260424T201227
CREATED:20180412T222802Z
LAST-MODIFIED:20180412T222802Z
UID:3595-1525289400-1525296600@celebrationdayforgirls.com
SUMMARY:Mother's Session\, Adelaide\, SA
DESCRIPTION:Places are available for this event.
URL:https://celebrationdayforgirls.com/event/mothers-session-darwin-nt-2-2/
LOCATION:Adelaide\, Adelaide\, South Australia\, Australia
ORGANIZER;CN="Fiona House":MAILTO:fionachouse@gmail.com
END:VEVENT
BEGIN:VEVENT
DTSTART;TZID=Australia/Adelaide:20180502T193000
DTEND;TZID=Australia/Adelaide:20180502T213000
DTSTAMP:20260424T201227
CREATED:20180412T222802Z
LAST-MODIFIED:20180412T222802Z
UID:2719-1525289400-1525296600@celebrationdayforgirls.com
SUMMARY:Mother's Session\, Adelaide\, SA
DESCRIPTION:Places are available for this event.
URL:https://celebrationdayforgirls.com/event/mothers-session-darwin-nt-2/
LOCATION:Adelaide\, Adelaide\, South Australia\, Australia
ORGANIZER;CN="Fiona House":MAILTO:fionachouse@gmail.com
END:VEVENT
BEGIN:VEVENT
DTSTART;TZID=Europe/London:20180427T080000
DTEND;TZID=Europe/London:20180429T170000
DTSTAMP:20260424T201227
CREATED:20171104T192810Z
LAST-MODIFIED:20171104T192810Z
UID:2600-1524816000-1525021200@celebrationdayforgirls.com
SUMMARY:Celebration Day for Girls Facilitator Training\, Antwerp\, Belgium
DESCRIPTION:Places are available for this event.
URL:https://celebrationdayforgirls.com/event/celebration-day-for-girls-facilitator-training-antwerp-belgium/
LOCATION:Antwerp\, Antwerp\, Belgium
ORGANIZER;CN="Jane Bennett":MAILTO:jane@janebennett.com.au
END:VEVENT
BEGIN:VEVENT
DTSTART;TZID=Europe/London:20180427T080000
DTEND;TZID=Europe/London:20180429T170000
DTSTAMP:20260424T201227
CREATED:20171104T192810Z
LAST-MODIFIED:20171104T192810Z
UID:3566-1524816000-1525021200@celebrationdayforgirls.com
SUMMARY:Celebration Day for Girls Facilitator Training\, Antwerp\, Belgium
DESCRIPTION:Places are available for this event.
URL:https://celebrationdayforgirls.com/event/celebration-day-for-girls-facilitator-training-antwerp-belgium-2/
LOCATION:Antwerp\, Antwerp\, Belgium
ORGANIZER;CN="Jane Bennett":MAILTO:jane@janebennett.com.au
END:VEVENT
BEGIN:VEVENT
DTSTART;TZID=Europe/London:20180420T080000
DTEND;TZID=Europe/London:20180422T170000
DTSTAMP:20260424T201227
CREATED:20171104T192547Z
LAST-MODIFIED:20171104T192547Z
UID:3565-1524211200-1524416400@celebrationdayforgirls.com
SUMMARY:Celebration Day for Girls Facilitator Training\, Reading\, UK
DESCRIPTION:Places are available for this event.
URL:https://celebrationdayforgirls.com/event/celebration-day-for-girls-facilitator-training-reading-uk-2/
LOCATION:Reading\, Reading\, United Kingdom
ORGANIZER;CN="Jane Bennett":MAILTO:jane@janebennett.com.au
END:VEVENT
BEGIN:VEVENT
DTSTART;TZID=Europe/London:20180420T080000
DTEND;TZID=Europe/London:20180422T170000
DTSTAMP:20260424T201227
CREATED:20171104T192547Z
LAST-MODIFIED:20171104T192547Z
UID:2597-1524211200-1524416400@celebrationdayforgirls.com
SUMMARY:Celebration Day for Girls Facilitator Training\, Reading\, UK
DESCRIPTION:Places are available for this event.
URL:https://celebrationdayforgirls.com/event/celebration-day-for-girls-facilitator-training-reading-uk/
LOCATION:Reading\, Reading\, United Kingdom
ORGANIZER;CN="Jane Bennett":MAILTO:jane@janebennett.com.au
END:VEVENT
BEGIN:VEVENT
DTSTART;TZID=Australia/Adelaide:20180415T100000
DTEND;TZID=Australia/Adelaide:20180415T160000
DTSTAMP:20260424T201227
CREATED:20180412T222412Z
LAST-MODIFIED:20180412T222412Z
UID:2717-1523786400-1523808000@celebrationdayforgirls.com
SUMMARY:Celebration Day for Girls\, Adelaide\, SA
DESCRIPTION:Places are available for this event.
URL:https://celebrationdayforgirls.com/event/celebration-day-for-girls-darwin-nt/
LOCATION:Adelaide\, Adelaide\, South Australia\, Australia
ORGANIZER;CN="Fiona House":MAILTO:fionachouse@gmail.com
END:VEVENT
BEGIN:VEVENT
DTSTART;TZID=Australia/Adelaide:20180415T100000
DTEND;TZID=Australia/Adelaide:20180415T160000
DTSTAMP:20260424T201227
CREATED:20180412T222412Z
LAST-MODIFIED:20180412T222412Z
UID:3594-1523786400-1523808000@celebrationdayforgirls.com
SUMMARY:Celebration Day for Girls\, Adelaide\, SA
DESCRIPTION:Places are available for this event.
URL:https://celebrationdayforgirls.com/event/celebration-day-for-girls-darwin-nt-3/
LOCATION:Adelaide\, Adelaide\, South Australia\, Australia
ORGANIZER;CN="Fiona House":MAILTO:fionachouse@gmail.com
END:VEVENT
BEGIN:VEVENT
DTSTART;TZID=Australia/Adelaide:20180411T193000
DTEND;TZID=Australia/Adelaide:20180411T213000
DTSTAMP:20260424T201227
CREATED:20180412T222255Z
LAST-MODIFIED:20180412T222255Z
UID:3593-1523475000-1523482200@celebrationdayforgirls.com
SUMMARY:Mother's Session\, Adelaide\, SA
DESCRIPTION:Places are available for this event.
URL:https://celebrationdayforgirls.com/event/mothers-session-darwin-nt-3/
LOCATION:Adelaide\, Adelaide\, South Australia\, Australia
ORGANIZER;CN="Fiona House":MAILTO:fionachouse@gmail.com
END:VEVENT
BEGIN:VEVENT
DTSTART;TZID=Australia/Adelaide:20180411T193000
DTEND;TZID=Australia/Adelaide:20180411T213000
DTSTAMP:20260424T201227
CREATED:20180412T222255Z
LAST-MODIFIED:20180412T222255Z
UID:2766-1523475000-1523482200@celebrationdayforgirls.com
SUMMARY:Mother's Session\, Adelaide\, SA
DESCRIPTION:Places are available for this event.
URL:https://celebrationdayforgirls.com/event/mothers-session-darwin-nt/
LOCATION:Adelaide\, Adelaide\, South Australia\, Australia
ORGANIZER;CN="Fiona House":MAILTO:fionachouse@gmail.com
END:VEVENT
BEGIN:VEVENT
DTSTART;TZID=Australia/Sydney:20180404T190000
DTEND;TZID=Australia/Sydney:20180404T210000
DTSTAMP:20260424T201227
CREATED:20171125T185651Z
LAST-MODIFIED:20171125T185651Z
UID:3579-1522868400-1522875600@celebrationdayforgirls.com
SUMMARY:Fathers Celebrating Daughters\, Garran\, ACT
DESCRIPTION:Places are available for this event.
URL:https://celebrationdayforgirls.com/event/fathers-celebrating-daughters-garran-act-2-2/
LOCATION:Garran\, Garran\, Australian Capital Territory\, Australia
ORGANIZER;CN="Julia Dendrinos":MAILTO:julia@grapevine.com.au
END:VEVENT
BEGIN:VEVENT
DTSTART;TZID=Australia/Sydney:20180404T190000
DTEND;TZID=Australia/Sydney:20180404T210000
DTSTAMP:20260424T201227
CREATED:20171125T185651Z
LAST-MODIFIED:20171125T185651Z
UID:2640-1522868400-1522875600@celebrationdayforgirls.com
SUMMARY:Fathers Celebrating Daughters\, Garran\, ACT
DESCRIPTION:Places are available for this event.
URL:https://celebrationdayforgirls.com/event/fathers-celebrating-daughters-garran-act-2/
LOCATION:Garran\, Garran\, Australian Capital Territory\, Australia
ORGANIZER;CN="Julia Dendrinos":MAILTO:julia@grapevine.com.au
END:VEVENT
BEGIN:VEVENT
DTSTART;TZID=Australia/Sydney:20180325T100000
DTEND;TZID=Australia/Sydney:20180325T160000
DTSTAMP:20260424T201227
CREATED:20171014T193843Z
LAST-MODIFIED:20171014T193843Z
UID:3560-1521972000-1521993600@celebrationdayforgirls.com
SUMMARY:Celebration Day for Girls\, Garran\, ACT
DESCRIPTION:Places are available for this workshop.
URL:https://celebrationdayforgirls.com/event/celebration-day-for-girls-garran-act-3-2/
LOCATION:Garran\, Garran\, Australian Capital Territory\, Australia
ORGANIZER;CN="Julia Dendrinos":MAILTO:julia@grapevine.com.au
END:VEVENT
BEGIN:VEVENT
DTSTART;TZID=Australia/Sydney:20180325T100000
DTEND;TZID=Australia/Sydney:20180325T160000
DTSTAMP:20260424T201227
CREATED:20171014T193843Z
LAST-MODIFIED:20171014T193843Z
UID:2584-1521972000-1521993600@celebrationdayforgirls.com
SUMMARY:Celebration Day for Girls\, Garran\, ACT
DESCRIPTION:Places are available for this workshop.
URL:https://celebrationdayforgirls.com/event/celebration-day-for-girls-garran-act-3/
LOCATION:Garran\, Garran\, Australian Capital Territory\, Australia
ORGANIZER;CN="Julia Dendrinos":MAILTO:julia@grapevine.com.au
END:VEVENT
BEGIN:VEVENT
DTSTART;TZID=Australia/Sydney:20180322T193000
DTEND;TZID=Australia/Sydney:20180322T213000
DTSTAMP:20260424T201227
CREATED:20171112T193150Z
LAST-MODIFIED:20171112T193150Z
UID:3576-1521747000-1521754200@celebrationdayforgirls.com
SUMMARY:Mother's Session\, Brookvale\, NSW
DESCRIPTION:Places are available for this event.
URL:https://celebrationdayforgirls.com/event/mothers-session-brookvale-nsw-2/
LOCATION:Brookvale\, Brookvale\, New South Wales\, Australia
ORGANIZER;CN="Monique Winderbaum":MAILTO:monique.winderbaum@gmail.com
END:VEVENT
BEGIN:VEVENT
DTSTART;TZID=Australia/Sydney:20180322T193000
DTEND;TZID=Australia/Sydney:20180322T213000
DTSTAMP:20260424T201227
CREATED:20171112T193150Z
LAST-MODIFIED:20171112T193150Z
UID:2633-1521747000-1521754200@celebrationdayforgirls.com
SUMMARY:Mother's Session\, Brookvale\, NSW
DESCRIPTION:Places are available for this event.
URL:https://celebrationdayforgirls.com/event/mothers-session-brookvale-nsw/
LOCATION:Brookvale\, Brookvale\, New South Wales\, Australia
ORGANIZER;CN="Monique Winderbaum":MAILTO:monique.winderbaum@gmail.com
END:VEVENT
BEGIN:VEVENT
DTSTART;TZID=Australia/Sydney:20180218T100000
DTEND;TZID=Australia/Sydney:20180218T160000
DTSTAMP:20260424T201227
CREATED:20171111T090416Z
LAST-MODIFIED:20171111T090416Z
UID:2624-1518948000-1518969600@celebrationdayforgirls.com
SUMMARY:Celebration Day for Girls\, Lindfield\, NSW
DESCRIPTION:Places are available for this event.
URL:https://celebrationdayforgirls.com/event/celebration-day-for-girls-lindfield-nsw-2/
LOCATION:Lindfield\, Lindfield\, New South Wales\, Australia
ORGANIZER;CN="Monique Winderbaum":MAILTO:monique.winderbaum@gmail.com
END:VEVENT
BEGIN:VEVENT
DTSTART;TZID=Australia/Sydney:20180218T100000
DTEND;TZID=Australia/Sydney:20180218T160000
DTSTAMP:20260424T201227
CREATED:20171111T090416Z
LAST-MODIFIED:20171111T090416Z
UID:3572-1518948000-1518969600@celebrationdayforgirls.com
SUMMARY:Celebration Day for Girls\, Lindfield\, NSW
DESCRIPTION:Places are available for this event.
URL:https://celebrationdayforgirls.com/event/celebration-day-for-girls-lindfield-nsw-2-2/
LOCATION:Lindfield\, Lindfield\, New South Wales\, Australia
ORGANIZER;CN="Monique Winderbaum":MAILTO:monique.winderbaum@gmail.com
END:VEVENT
END:VCALENDAR