BEGIN:VCALENDAR
VERSION:2.0
PRODID:-//Celebration Day For Girls - ECPv6.15.20//NONSGML v1.0//EN
CALSCALE:GREGORIAN
METHOD:PUBLISH
X-WR-CALNAME:Celebration Day For Girls
X-ORIGINAL-URL:https://celebrationdayforgirls.com
X-WR-CALDESC:Events for Celebration Day For Girls
REFRESH-INTERVAL;VALUE=DURATION:PT1H
X-Robots-Tag:noindex
X-PUBLISHED-TTL:PT1H
BEGIN:VTIMEZONE
TZID:UTC
BEGIN:STANDARD
TZOFFSETFROM:+0000
TZOFFSETTO:+0000
TZNAME:UTC
DTSTART:20150101T000000
END:STANDARD
END:VTIMEZONE
BEGIN:VTIMEZONE
TZID:Australia/Sydney
BEGIN:STANDARD
TZOFFSETFROM:+1100
TZOFFSETTO:+1000
TZNAME:AEST
DTSTART:20150404T160000
END:STANDARD
BEGIN:DAYLIGHT
TZOFFSETFROM:+1000
TZOFFSETTO:+1100
TZNAME:AEDT
DTSTART:20151003T160000
END:DAYLIGHT
BEGIN:STANDARD
TZOFFSETFROM:+1100
TZOFFSETTO:+1000
TZNAME:AEST
DTSTART:20160402T160000
END:STANDARD
BEGIN:DAYLIGHT
TZOFFSETFROM:+1000
TZOFFSETTO:+1100
TZNAME:AEDT
DTSTART:20161001T160000
END:DAYLIGHT
BEGIN:STANDARD
TZOFFSETFROM:+1100
TZOFFSETTO:+1000
TZNAME:AEST
DTSTART:20170401T160000
END:STANDARD
BEGIN:DAYLIGHT
TZOFFSETFROM:+1000
TZOFFSETTO:+1100
TZNAME:AEDT
DTSTART:20170930T160000
END:DAYLIGHT
END:VTIMEZONE
BEGIN:VTIMEZONE
TZID:Australia/Brisbane
BEGIN:STANDARD
TZOFFSETFROM:+1000
TZOFFSETTO:+1000
TZNAME:AEST
DTSTART:20150101T000000
END:STANDARD
END:VTIMEZONE
BEGIN:VTIMEZONE
TZID:Europe/London
BEGIN:DAYLIGHT
TZOFFSETFROM:+0000
TZOFFSETTO:+0100
TZNAME:BST
DTSTART:20150329T010000
END:DAYLIGHT
BEGIN:STANDARD
TZOFFSETFROM:+0100
TZOFFSETTO:+0000
TZNAME:GMT
DTSTART:20151025T010000
END:STANDARD
BEGIN:DAYLIGHT
TZOFFSETFROM:+0000
TZOFFSETTO:+0100
TZNAME:BST
DTSTART:20160327T010000
END:DAYLIGHT
BEGIN:STANDARD
TZOFFSETFROM:+0100
TZOFFSETTO:+0000
TZNAME:GMT
DTSTART:20161030T010000
END:STANDARD
BEGIN:DAYLIGHT
TZOFFSETFROM:+0000
TZOFFSETTO:+0100
TZNAME:BST
DTSTART:20170326T010000
END:DAYLIGHT
BEGIN:STANDARD
TZOFFSETFROM:+0100
TZOFFSETTO:+0000
TZNAME:GMT
DTSTART:20171029T010000
END:STANDARD
END:VTIMEZONE
BEGIN:VTIMEZONE
TZID:Australia/Adelaide
BEGIN:STANDARD
TZOFFSETFROM:+1030
TZOFFSETTO:+0930
TZNAME:ACST
DTSTART:20150404T163000
END:STANDARD
BEGIN:DAYLIGHT
TZOFFSETFROM:+0930
TZOFFSETTO:+1030
TZNAME:ACDT
DTSTART:20151003T163000
END:DAYLIGHT
BEGIN:STANDARD
TZOFFSETFROM:+1030
TZOFFSETTO:+0930
TZNAME:ACST
DTSTART:20160402T163000
END:STANDARD
BEGIN:DAYLIGHT
TZOFFSETFROM:+0930
TZOFFSETTO:+1030
TZNAME:ACDT
DTSTART:20161001T163000
END:DAYLIGHT
BEGIN:STANDARD
TZOFFSETFROM:+1030
TZOFFSETTO:+0930
TZNAME:ACST
DTSTART:20170401T163000
END:STANDARD
BEGIN:DAYLIGHT
TZOFFSETFROM:+0930
TZOFFSETTO:+1030
TZNAME:ACDT
DTSTART:20170930T163000
END:DAYLIGHT
END:VTIMEZONE
BEGIN:VTIMEZONE
TZID:UTC
BEGIN:STANDARD
TZOFFSETFROM:+0000
TZOFFSETTO:+0000
TZNAME:UTC
DTSTART:20150101T000000
END:STANDARD
END:VTIMEZONE
BEGIN:VTIMEZONE
TZID:Australia/Melbourne
BEGIN:STANDARD
TZOFFSETFROM:+1100
TZOFFSETTO:+1000
TZNAME:AEST
DTSTART:20150404T160000
END:STANDARD
BEGIN:DAYLIGHT
TZOFFSETFROM:+1000
TZOFFSETTO:+1100
TZNAME:AEDT
DTSTART:20151003T160000
END:DAYLIGHT
BEGIN:STANDARD
TZOFFSETFROM:+1100
TZOFFSETTO:+1000
TZNAME:AEST
DTSTART:20160402T160000
END:STANDARD
BEGIN:DAYLIGHT
TZOFFSETFROM:+1000
TZOFFSETTO:+1100
TZNAME:AEDT
DTSTART:20161001T160000
END:DAYLIGHT
BEGIN:STANDARD
TZOFFSETFROM:+1100
TZOFFSETTO:+1000
TZNAME:AEST
DTSTART:20170401T160000
END:STANDARD
BEGIN:DAYLIGHT
TZOFFSETFROM:+1000
TZOFFSETTO:+1100
TZNAME:AEDT
DTSTART:20170930T160000
END:DAYLIGHT
END:VTIMEZONE
BEGIN:VEVENT
DTSTART;TZID=UTC:20161120T080000
DTEND;TZID=UTC:20161120T170000
DTSTAMP:20260425T234044
CREATED:20170126T020233Z
LAST-MODIFIED:20170126T020233Z
UID:3459-1479628800-1479661200@celebrationdayforgirls.com
SUMMARY:Celebration Day for Girls\, Mansfield\, VIC
DESCRIPTION:
URL:https://celebrationdayforgirls.com/event/celebration-day-for-girls-mansfield-vic-2/
END:VEVENT
BEGIN:VEVENT
DTSTART;TZID=UTC:20161120T080000
DTEND;TZID=UTC:20161120T170000
DTSTAMP:20260425T234044
CREATED:20170126T020233Z
LAST-MODIFIED:20170126T020233Z
UID:2188-1479628800-1479661200@celebrationdayforgirls.com
SUMMARY:Celebration Day for Girls\, Mansfield\, VIC
DESCRIPTION:
URL:https://celebrationdayforgirls.com/event/celebration-day-for-girls-mansfield-vic/
END:VEVENT
BEGIN:VEVENT
DTSTART;TZID=Australia/Sydney:20161117T100000
DTEND;TZID=Australia/Sydney:20161117T160000
DTSTAMP:20260425T234044
CREATED:20161015T075609Z
LAST-MODIFIED:20161015T075609Z
UID:2104-1479376800-1479398400@celebrationdayforgirls.com
SUMMARY:Celebration Day for Girls\, Canberra\, ACT
DESCRIPTION:Places are available for this event.
URL:https://celebrationdayforgirls.com/event/celebration-day-for-girls-canberra-act-4/
LOCATION:Canberra\, Australian Capital Territory\, Australia
ORGANIZER;CN="Julia Dendrinos":MAILTO:julia@grapevine.com.au
END:VEVENT
BEGIN:VEVENT
DTSTART;TZID=Australia/Sydney:20161117T100000
DTEND;TZID=Australia/Sydney:20161117T160000
DTSTAMP:20260425T234044
CREATED:20161015T075609Z
LAST-MODIFIED:20161015T075609Z
UID:3443-1479376800-1479398400@celebrationdayforgirls.com
SUMMARY:Celebration Day for Girls\, Canberra\, ACT
DESCRIPTION:Places are available for this event.
URL:https://celebrationdayforgirls.com/event/celebration-day-for-girls-canberra-act-4-2/
LOCATION:Canberra\, Australian Capital Territory\, Australia
ORGANIZER;CN="Julia Dendrinos":MAILTO:julia@grapevine.com.au
END:VEVENT
BEGIN:VEVENT
DTSTART;TZID=Australia/Sydney:20161115T190000
DTEND;TZID=Australia/Sydney:20161115T210000
DTSTAMP:20260425T234044
CREATED:20160908T084400Z
LAST-MODIFIED:20160908T084400Z
UID:2078-1479236400-1479243600@celebrationdayforgirls.com
SUMMARY:Mother's Session\, Randwick\, NSW
DESCRIPTION:Places are available for this event.
URL:https://celebrationdayforgirls.com/event/mothers-session-randwick-nsw/
LOCATION:Randwick\, New South Wales\, Australia
ORGANIZER;CN="Melissa Hildage":MAILTO:melissa@bodybright.com
END:VEVENT
BEGIN:VEVENT
DTSTART;TZID=Australia/Sydney:20161115T190000
DTEND;TZID=Australia/Sydney:20161115T210000
DTSTAMP:20260425T234044
CREATED:20160908T084400Z
LAST-MODIFIED:20160908T084400Z
UID:3439-1479236400-1479243600@celebrationdayforgirls.com
SUMMARY:Mother's Session\, Randwick\, NSW
DESCRIPTION:Places are available for this event.
URL:https://celebrationdayforgirls.com/event/mothers-session-randwick-nsw-3/
LOCATION:Randwick\, New South Wales\, Australia
ORGANIZER;CN="Melissa Hildage":MAILTO:melissa@bodybright.com
END:VEVENT
BEGIN:VEVENT
DTSTART;TZID=Australia/Sydney:20161113T100000
DTEND;TZID=Australia/Sydney:20161113T160000
DTSTAMP:20260425T234044
CREATED:20161015T080710Z
LAST-MODIFIED:20161015T080710Z
UID:2113-1479031200-1479052800@celebrationdayforgirls.com
SUMMARY:Celebration Day for Girls\, Canberra\, ACT
DESCRIPTION:Places are available for this event.
URL:https://celebrationdayforgirls.com/event/celebration-day-for-girls-canberra-act-6/
LOCATION:Canberra\, Australian Capital Territory\, Australia
ORGANIZER;CN="Julia Dendrinos":MAILTO:julia@grapevine.com.au
END:VEVENT
BEGIN:VEVENT
DTSTART;TZID=Australia/Sydney:20161113T100000
DTEND;TZID=Australia/Sydney:20161113T160000
DTSTAMP:20260425T234044
CREATED:20161015T080710Z
LAST-MODIFIED:20161015T080710Z
UID:3445-1479031200-1479052800@celebrationdayforgirls.com
SUMMARY:Celebration Day for Girls\, Canberra\, ACT
DESCRIPTION:Places are available for this event.
URL:https://celebrationdayforgirls.com/event/celebration-day-for-girls-canberra-act-6-2/
LOCATION:Canberra\, Australian Capital Territory\, Australia
ORGANIZER;CN="Julia Dendrinos":MAILTO:julia@grapevine.com.au
END:VEVENT
BEGIN:VEVENT
DTSTART;TZID=Australia/Brisbane:20161112T100000
DTEND;TZID=Australia/Brisbane:20161112T160000
DTSTAMP:20260425T234044
CREATED:20161107T101908Z
LAST-MODIFIED:20161107T101908Z
UID:3451-1478944800-1478966400@celebrationdayforgirls.com
SUMMARY:A Celebration Day for Girls\, Brisbane\, QLD
DESCRIPTION:Places are available for this event.
URL:https://celebrationdayforgirls.com/event/a-celebration-day-for-girls-brisbane-qld-2/
LOCATION:Brisbane\, Queensland\, Australia
ORGANIZER;CN="Kate Waud":MAILTO:kateawaud@gmail.com
END:VEVENT
BEGIN:VEVENT
DTSTART;TZID=Australia/Brisbane:20161112T100000
DTEND;TZID=Australia/Brisbane:20161112T160000
DTSTAMP:20260425T234044
CREATED:20161107T101908Z
LAST-MODIFIED:20161107T101908Z
UID:2153-1478944800-1478966400@celebrationdayforgirls.com
SUMMARY:A Celebration Day for Girls\, Brisbane\, QLD
DESCRIPTION:Places are available for this event.
URL:https://celebrationdayforgirls.com/event/a-celebration-day-for-girls-brisbane-qld/
LOCATION:Brisbane\, Queensland\, Australia
ORGANIZER;CN="Kate Waud":MAILTO:kateawaud@gmail.com
END:VEVENT
BEGIN:VEVENT
DTSTART;TZID=Europe/London:20161106T100000
DTEND;TZID=Europe/London:20161106T160000
DTSTAMP:20260425T234044
CREATED:20161020T090254Z
LAST-MODIFIED:20161020T090254Z
UID:3447-1478426400-1478448000@celebrationdayforgirls.com
SUMMARY:Celebration Day for Girls\, London\, UK
DESCRIPTION:Places are available for this event.
URL:https://celebrationdayforgirls.com/event/celebration-day-for-girls-london-uk-4/
LOCATION:London\, United Kingdom
ORGANIZER;CN="Emily Stewart":MAILTO:emilycestewart@gmail.com
END:VEVENT
BEGIN:VEVENT
DTSTART;TZID=Europe/London:20161106T100000
DTEND;TZID=Europe/London:20161106T160000
DTSTAMP:20260425T234044
CREATED:20161020T090254Z
LAST-MODIFIED:20161020T090254Z
UID:2126-1478426400-1478448000@celebrationdayforgirls.com
SUMMARY:Celebration Day for Girls\, London\, UK
DESCRIPTION:Places are available for this event.
URL:https://celebrationdayforgirls.com/event/celebration-day-for-girls-london-uk/
LOCATION:London\, United Kingdom
ORGANIZER;CN="Emily Stewart":MAILTO:emilycestewart@gmail.com
END:VEVENT
BEGIN:VEVENT
DTSTART;TZID=Australia/Sydney:20161106T100000
DTEND;TZID=Australia/Sydney:20161106T160000
DTSTAMP:20260425T234044
CREATED:20161011T085400Z
LAST-MODIFIED:20161011T085400Z
UID:3442-1478426400-1478448000@celebrationdayforgirls.com
SUMMARY:Celebration Day for Girls\, Albury\, NSW
DESCRIPTION:Places are available for this event.
URL:https://celebrationdayforgirls.com/event/celebration-day-for-girls-albury-nsw-2-2/
LOCATION:Albury\, New South Wales\, Australia
ORGANIZER;CN="Cathy Giltrap":MAILTO:cathy@celebrationday.me
END:VEVENT
BEGIN:VEVENT
DTSTART;TZID=Australia/Sydney:20161106T100000
DTEND;TZID=Australia/Sydney:20161106T160000
DTSTAMP:20260425T234044
CREATED:20161011T085400Z
LAST-MODIFIED:20161011T085400Z
UID:2100-1478426400-1478448000@celebrationdayforgirls.com
SUMMARY:Celebration Day for Girls\, Albury\, NSW
DESCRIPTION:Places are available for this event.
URL:https://celebrationdayforgirls.com/event/celebration-day-for-girls-albury-nsw-2/
LOCATION:Albury\, New South Wales\, Australia
ORGANIZER;CN="Cathy Giltrap":MAILTO:cathy@celebrationday.me
END:VEVENT
BEGIN:VEVENT
DTSTART;TZID=Australia/Adelaide:20161106T093000
DTEND;TZID=Australia/Adelaide:20161106T161500
DTSTAMP:20260425T234044
CREATED:20160928T005410Z
LAST-MODIFIED:20160928T005410Z
UID:3440-1478424600-1478448900@celebrationdayforgirls.com
SUMMARY:Celebration Day for Girls\, Aldgate\, SA
DESCRIPTION:Places are available for this event.
URL:https://celebrationdayforgirls.com/event/celebration-day-for-girls-aldgate-sa-2/
LOCATION:Aldgate\, South Australia\, Australia
ORGANIZER;CN="Fiona House":MAILTO:fiona@yourbodyyourtemple.com.au
END:VEVENT
BEGIN:VEVENT
DTSTART;TZID=Australia/Adelaide:20161106T093000
DTEND;TZID=Australia/Adelaide:20161106T161500
DTSTAMP:20260425T234044
CREATED:20160928T005410Z
LAST-MODIFIED:20160928T005410Z
UID:2086-1478424600-1478448900@celebrationdayforgirls.com
SUMMARY:Celebration Day for Girls\, Aldgate\, SA
DESCRIPTION:Places are available for this event.
URL:https://celebrationdayforgirls.com/event/celebration-day-for-girls-aldgate-sa/
LOCATION:Aldgate\, South Australia\, Australia
ORGANIZER;CN="Fiona House":MAILTO:fiona@yourbodyyourtemple.com.au
END:VEVENT
BEGIN:VEVENT
DTSTART;TZID=UTC:20161105T100000
DTEND;TZID=UTC:20161105T160000
DTSTAMP:20260425T234044
CREATED:20151221T230439Z
LAST-MODIFIED:20151221T230439Z
UID:3336-1478340000-1478361600@celebrationdayforgirls.com
SUMMARY:Celebration Day for Girls\, Preston\, VIC
DESCRIPTION:Place are available for this workshop.
URL:https://celebrationdayforgirls.com/event/celebration-day-for-girls-preston-vic-3-2/
LOCATION:Unnamed Venue\, Preston\, Victoria\, Australia
ORGANIZER;CN="Janoel Liddy":MAILTO:contact.janoel@gmail.com
END:VEVENT
BEGIN:VEVENT
DTSTART;TZID=UTC:20161105T100000
DTEND;TZID=UTC:20161105T160000
DTSTAMP:20260425T234044
CREATED:20151221T230439Z
LAST-MODIFIED:20151221T230439Z
UID:1657-1478340000-1478361600@celebrationdayforgirls.com
SUMMARY:Celebration Day for Girls\, Preston\, VIC
DESCRIPTION:Place are available for this workshop.
URL:https://celebrationdayforgirls.com/event/celebration-day-for-girls-preston-vic-3/
LOCATION:Unnamed Venue\, Preston\, Victoria\, Australia
ORGANIZER;CN="Janoel Liddy":MAILTO:contact.janoel@gmail.com
END:VEVENT
BEGIN:VEVENT
DTSTART;TZID=UTC:20161103T193000
DTEND;TZID=UTC:20161103T213000
DTSTAMP:20260425T234044
CREATED:20151221T230320Z
LAST-MODIFIED:20151221T230320Z
UID:3335-1478201400-1478208600@celebrationdayforgirls.com
SUMMARY:Mother's Session\, Preston\, VIC
DESCRIPTION:Place are available for this workshop.
URL:https://celebrationdayforgirls.com/event/mothers-session-preston-vic-4-2/
LOCATION:Unnamed Venue\, Preston\, Victoria\, Australia
ORGANIZER;CN="Janoel Liddy":MAILTO:contact.janoel@gmail.com
END:VEVENT
BEGIN:VEVENT
DTSTART;TZID=UTC:20161103T193000
DTEND;TZID=UTC:20161103T213000
DTSTAMP:20260425T234044
CREATED:20151221T230320Z
LAST-MODIFIED:20151221T230320Z
UID:1654-1478201400-1478208600@celebrationdayforgirls.com
SUMMARY:Mother's Session\, Preston\, VIC
DESCRIPTION:Place are available for this workshop.
URL:https://celebrationdayforgirls.com/event/mothers-session-preston-vic-4/
LOCATION:Unnamed Venue\, Preston\, Victoria\, Australia
ORGANIZER;CN="Janoel Liddy":MAILTO:contact.janoel@gmail.com
END:VEVENT
BEGIN:VEVENT
DTSTART;TZID=Australia/Adelaide:20161102T190000
DTEND;TZID=Australia/Adelaide:20161102T210000
DTSTAMP:20260425T234044
CREATED:20160929T104837Z
LAST-MODIFIED:20160929T104837Z
UID:3441-1478113200-1478120400@celebrationdayforgirls.com
SUMMARY:Mother's Session\, Aldgate\, SA
DESCRIPTION:Places are available for this event.
URL:https://celebrationdayforgirls.com/event/mothers-session-aldgate-sa-2/
LOCATION:Aldgate\, South Australia\, Australia
ORGANIZER;CN="Fiona House":MAILTO:fiona@yourbodyyourtemple.com.au
END:VEVENT
BEGIN:VEVENT
DTSTART;TZID=Australia/Adelaide:20161102T190000
DTEND;TZID=Australia/Adelaide:20161102T210000
DTSTAMP:20260425T234044
CREATED:20160929T104837Z
LAST-MODIFIED:20160929T104837Z
UID:2095-1478113200-1478120400@celebrationdayforgirls.com
SUMMARY:Mother's Session\, Aldgate\, SA
DESCRIPTION:Places are available for this event.
URL:https://celebrationdayforgirls.com/event/mothers-session-aldgate-sa/
LOCATION:Aldgate\, South Australia\, Australia
ORGANIZER;CN="Fiona House":MAILTO:fiona@yourbodyyourtemple.com.au
END:VEVENT
BEGIN:VEVENT
DTSTART;TZID=UTC:20161024T190000
DTEND;TZID=UTC:20161024T210000
DTSTAMP:20260425T234044
CREATED:20151221T230200Z
LAST-MODIFIED:20151221T230200Z
UID:3334-1477335600-1477342800@celebrationdayforgirls.com
SUMMARY:Fathers Celebrating Daughters\, Preston\, VIC
DESCRIPTION:Place are available for this workshop.
URL:https://celebrationdayforgirls.com/event/fathers-celebrating-daughters-preston-vic-4-2/
LOCATION:Unnamed Venue\, Preston\, Victoria\, Australia
ORGANIZER;CN="Janoel Liddy":MAILTO:contact.janoel@gmail.com
END:VEVENT
BEGIN:VEVENT
DTSTART;TZID=UTC:20161024T190000
DTEND;TZID=UTC:20161024T210000
DTSTAMP:20260425T234044
CREATED:20151221T230200Z
LAST-MODIFIED:20151221T230200Z
UID:1651-1477335600-1477342800@celebrationdayforgirls.com
SUMMARY:Fathers Celebrating Daughters\, Preston\, VIC
DESCRIPTION:Place are available for this workshop.
URL:https://celebrationdayforgirls.com/event/fathers-celebrating-daughters-preston-vic-4/
LOCATION:Unnamed Venue\, Preston\, Victoria\, Australia
ORGANIZER;CN="Janoel Liddy":MAILTO:contact.janoel@gmail.com
END:VEVENT
BEGIN:VEVENT
DTSTART;TZID=Australia/Sydney:20161023T100000
DTEND;TZID=Australia/Sydney:20161023T160000
DTSTAMP:20260425T234044
CREATED:20160905T104714Z
LAST-MODIFIED:20160905T104714Z
UID:2072-1477216800-1477238400@celebrationdayforgirls.com
SUMMARY:Celebration Day for Girls\, Albury\, NSW
DESCRIPTION:Places are available for this event.
URL:https://celebrationdayforgirls.com/event/celebration-day-for-girls-albury-nsw/
LOCATION:Albury\, New South Wales\, Australia
ORGANIZER;CN="Cathy Giltrap":MAILTO:cathy@celebrationday.me
END:VEVENT
BEGIN:VEVENT
DTSTART;TZID=Australia/Sydney:20161023T100000
DTEND;TZID=Australia/Sydney:20161023T160000
DTSTAMP:20260425T234044
CREATED:20160905T104714Z
LAST-MODIFIED:20160905T104714Z
UID:3437-1477216800-1477238400@celebrationdayforgirls.com
SUMMARY:Celebration Day for Girls\, Albury\, NSW
DESCRIPTION:Places are available for this event.
URL:https://celebrationdayforgirls.com/event/celebration-day-for-girls-albury-nsw-4/
LOCATION:Albury\, New South Wales\, Australia
ORGANIZER;CN="Cathy Giltrap":MAILTO:cathy@celebrationday.me
END:VEVENT
BEGIN:VEVENT
DTSTART;TZID=Australia/Melbourne:20161023T100000
DTEND;TZID=Australia/Melbourne:20161023T160000
DTSTAMP:20260425T234044
CREATED:20160905T103103Z
LAST-MODIFIED:20160905T103103Z
UID:3434-1477216800-1477238400@celebrationdayforgirls.com
SUMMARY:Celebration Day for Girls\, Yarra Junction\, VIC
DESCRIPTION:Places are available for this event.
URL:https://celebrationdayforgirls.com/event/celebration-day-for-girls-yarra-junction-vic-4-2/
LOCATION:Yarra Junction\, Victoria\, Australia
ORGANIZER;CN="Luna White":MAILTO:luna@littlefeetfarm.com.au
END:VEVENT
BEGIN:VEVENT
DTSTART;TZID=Australia/Melbourne:20161023T100000
DTEND;TZID=Australia/Melbourne:20161023T160000
DTSTAMP:20260425T234044
CREATED:20160905T103103Z
LAST-MODIFIED:20160905T103103Z
UID:2063-1477216800-1477238400@celebrationdayforgirls.com
SUMMARY:Celebration Day for Girls\, Yarra Junction\, VIC
DESCRIPTION:Places are available for this event.
URL:https://celebrationdayforgirls.com/event/celebration-day-for-girls-yarra-junction-vic-4/
LOCATION:Yarra Junction\, Victoria\, Australia
ORGANIZER;CN="Luna White":MAILTO:luna@littlefeetfarm.com.au
END:VEVENT
BEGIN:VEVENT
DTSTART;TZID=Australia/Melbourne:20161023T100000
DTEND;TZID=Australia/Melbourne:20161023T160000
DTSTAMP:20260425T234044
CREATED:20160809T104338Z
LAST-MODIFIED:20160809T104338Z
UID:2021-1477216800-1477238400@celebrationdayforgirls.com
SUMMARY:Celebration Day for Girls\, Hampton\, VIC
DESCRIPTION:Places are available for this event. Facebook link for this event is: https://www.facebook.com/events/305714603109956/ and the link to buy tickets is: www.stickytickets.com.au/41327
URL:https://celebrationdayforgirls.com/event/celebration-day-for-girls-hampton-vic-2/
LOCATION:Hampton\, Victoria\, Victoria\, Australia
ORGANIZER;CN="Melissa Jeffcott":MAILTO:melissa@melissajeffcott.com.au
END:VEVENT
BEGIN:VEVENT
DTSTART;TZID=Australia/Melbourne:20161023T100000
DTEND;TZID=Australia/Melbourne:20161023T160000
DTSTAMP:20260425T234044
CREATED:20160809T104338Z
LAST-MODIFIED:20160809T104338Z
UID:3427-1477216800-1477238400@celebrationdayforgirls.com
SUMMARY:Celebration Day for Girls\, Hampton\, VIC
DESCRIPTION:Places are available for this event. Facebook link for this event is: https://www.facebook.com/events/305714603109956/ and the link to buy tickets is: www.stickytickets.com.au/41327
URL:https://celebrationdayforgirls.com/event/celebration-day-for-girls-hampton-vic-2-2/
LOCATION:Hampton\, Victoria\, Victoria\, Australia
ORGANIZER;CN="Melissa Jeffcott":MAILTO:melissa@melissajeffcott.com.au
END:VEVENT
END:VCALENDAR