BEGIN:VCALENDAR
VERSION:2.0
PRODID:-//Celebration Day For Girls - ECPv6.15.20//NONSGML v1.0//EN
CALSCALE:GREGORIAN
METHOD:PUBLISH
X-WR-CALNAME:Celebration Day For Girls
X-ORIGINAL-URL:https://celebrationdayforgirls.com
X-WR-CALDESC:Events for Celebration Day For Girls
REFRESH-INTERVAL;VALUE=DURATION:PT1H
X-Robots-Tag:noindex
X-PUBLISHED-TTL:PT1H
BEGIN:VTIMEZONE
TZID:UTC
BEGIN:STANDARD
TZOFFSETFROM:+0000
TZOFFSETTO:+0000
TZNAME:UTC
DTSTART:20150101T000000
END:STANDARD
END:VTIMEZONE
BEGIN:VTIMEZONE
TZID:Australia/Melbourne
BEGIN:STANDARD
TZOFFSETFROM:+1100
TZOFFSETTO:+1000
TZNAME:AEST
DTSTART:20150404T160000
END:STANDARD
BEGIN:DAYLIGHT
TZOFFSETFROM:+1000
TZOFFSETTO:+1100
TZNAME:AEDT
DTSTART:20151003T160000
END:DAYLIGHT
BEGIN:STANDARD
TZOFFSETFROM:+1100
TZOFFSETTO:+1000
TZNAME:AEST
DTSTART:20160402T160000
END:STANDARD
BEGIN:DAYLIGHT
TZOFFSETFROM:+1000
TZOFFSETTO:+1100
TZNAME:AEDT
DTSTART:20161001T160000
END:DAYLIGHT
BEGIN:STANDARD
TZOFFSETFROM:+1100
TZOFFSETTO:+1000
TZNAME:AEST
DTSTART:20170401T160000
END:STANDARD
BEGIN:DAYLIGHT
TZOFFSETFROM:+1000
TZOFFSETTO:+1100
TZNAME:AEDT
DTSTART:20170930T160000
END:DAYLIGHT
END:VTIMEZONE
BEGIN:VTIMEZONE
TZID:UTC
BEGIN:STANDARD
TZOFFSETFROM:+0000
TZOFFSETTO:+0000
TZNAME:UTC
DTSTART:20150101T000000
END:STANDARD
END:VTIMEZONE
BEGIN:VEVENT
DTSTART;TZID=UTC:20161015T100000
DTEND;TZID=UTC:20161015T160000
DTSTAMP:20260426T043630
CREATED:20151216T010355Z
LAST-MODIFIED:20151216T010355Z
UID:1595-1476525600-1476547200@celebrationdayforgirls.com
SUMMARY:Celebration Day for Girls\, Torquay\, VIC
DESCRIPTION:There are places available for this event. \n 
URL:https://celebrationdayforgirls.com/event/celebration-day-for-girls-torquay-vic-4/
LOCATION:Spring Creek Community House\, Torquay\, Australia
ORGANIZER;CN="Michelle Buggy":MAILTO:informemotion@gmail.com
END:VEVENT
BEGIN:VEVENT
DTSTART;TZID=UTC:20161015T100000
DTEND;TZID=UTC:20161015T160000
DTSTAMP:20260426T043630
CREATED:20151216T010355Z
LAST-MODIFIED:20151216T010355Z
UID:3321-1476525600-1476547200@celebrationdayforgirls.com
SUMMARY:Celebration Day for Girls\, Torquay\, VIC
DESCRIPTION:There are places available for this event. \n 
URL:https://celebrationdayforgirls.com/event/celebration-day-for-girls-torquay-vic-4-2/
LOCATION:Spring Creek Community House\, Torquay\, Australia
ORGANIZER;CN="Michelle Buggy":MAILTO:informemotion@gmail.com
END:VEVENT
BEGIN:VEVENT
DTSTART;TZID=UTC:20161014T180000
DTEND;TZID=UTC:20161014T200000
DTSTAMP:20260426T043630
CREATED:20151216T005756Z
LAST-MODIFIED:20151216T005756Z
UID:3317-1476468000-1476475200@celebrationdayforgirls.com
SUMMARY:Mother's Session\, Torquay\, VIC
DESCRIPTION:There are places available for this event. \n 
URL:https://celebrationdayforgirls.com/event/mothers-session-torquay-vic-4-2/
LOCATION:Spring Creek Community House\, Torquay\, Australia
ORGANIZER;CN="Michelle Buggy":MAILTO:informemotion@gmail.com
END:VEVENT
BEGIN:VEVENT
DTSTART;TZID=UTC:20161014T180000
DTEND;TZID=UTC:20161014T200000
DTSTAMP:20260426T043630
CREATED:20151216T005756Z
LAST-MODIFIED:20151216T005756Z
UID:1583-1476468000-1476475200@celebrationdayforgirls.com
SUMMARY:Mother's Session\, Torquay\, VIC
DESCRIPTION:There are places available for this event. \n 
URL:https://celebrationdayforgirls.com/event/mothers-session-torquay-vic-4/
LOCATION:Spring Creek Community House\, Torquay\, Australia
ORGANIZER;CN="Michelle Buggy":MAILTO:informemotion@gmail.com
END:VEVENT
BEGIN:VEVENT
DTSTART;TZID=Australia/Melbourne:20161010T190000
DTEND;TZID=Australia/Melbourne:20161010T210000
DTSTAMP:20260426T043630
CREATED:20160905T103441Z
LAST-MODIFIED:20160905T103441Z
UID:3435-1476126000-1476133200@celebrationdayforgirls.com
SUMMARY:Mother's Session\, Yarra Junction\, VIC
DESCRIPTION:Places are available for this event.
URL:https://celebrationdayforgirls.com/event/mothers-session-yarra-junction-vic-3-2/
LOCATION:Yarra Junction\, Victoria\, Australia
ORGANIZER;CN="Luna White":MAILTO:luna@littlefeetfarm.com.au
END:VEVENT
BEGIN:VEVENT
DTSTART;TZID=Australia/Melbourne:20161010T190000
DTEND;TZID=Australia/Melbourne:20161010T210000
DTSTAMP:20260426T043630
CREATED:20160905T103441Z
LAST-MODIFIED:20160905T103441Z
UID:2066-1476126000-1476133200@celebrationdayforgirls.com
SUMMARY:Mother's Session\, Yarra Junction\, VIC
DESCRIPTION:Places are available for this event.
URL:https://celebrationdayforgirls.com/event/mothers-session-yarra-junction-vic-3/
LOCATION:Yarra Junction\, Victoria\, Australia
ORGANIZER;CN="Luna White":MAILTO:luna@littlefeetfarm.com.au
END:VEVENT
BEGIN:VEVENT
DTSTART;TZID=Australia/Melbourne:20161009T100000
DTEND;TZID=Australia/Melbourne:20161009T160000
DTSTAMP:20260426T043630
CREATED:20160808T104149Z
LAST-MODIFIED:20160808T104149Z
UID:2015-1476007200-1476028800@celebrationdayforgirls.com
SUMMARY:Celebration Day for Girls\, Shepparton\, VIC
DESCRIPTION:Places are available for this event.
URL:https://celebrationdayforgirls.com/event/celebration-day-for-girls-shepparton-vic-4/
LOCATION:Shepparton \, Victoria\, Australia
ORGANIZER;CN="Nicole Tricarico":MAILTO:ntricarico@bigpond.com
END:VEVENT
BEGIN:VEVENT
DTSTART;TZID=Australia/Melbourne:20161009T100000
DTEND;TZID=Australia/Melbourne:20161009T160000
DTSTAMP:20260426T043630
CREATED:20160808T104149Z
LAST-MODIFIED:20160808T104149Z
UID:3425-1476007200-1476028800@celebrationdayforgirls.com
SUMMARY:Celebration Day for Girls\, Shepparton\, VIC
DESCRIPTION:Places are available for this event.
URL:https://celebrationdayforgirls.com/event/celebration-day-for-girls-shepparton-vic-4-2/
LOCATION:Shepparton \, Victoria\, Australia
ORGANIZER;CN="Nicole Tricarico":MAILTO:ntricarico@bigpond.com
END:VEVENT
BEGIN:VEVENT
DTSTART;TZID=UTC:20161008T100000
DTEND;TZID=UTC:20161008T160000
DTSTAMP:20260426T043630
CREATED:20160310T065232Z
LAST-MODIFIED:20160310T065232Z
UID:1731-1475920800-1475942400@celebrationdayforgirls.com
SUMMARY:Celebration Day for Girls\, Adelaide\, SA
DESCRIPTION:There are places available for this event.
URL:https://celebrationdayforgirls.com/event/celebration-day-for-girls-adelaide-sa-2/
LOCATION:Adelaide\, South Australia\, Australia
ORGANIZER;CN="Fiona House":MAILTO:fionachouse@gmail.com
END:VEVENT
BEGIN:VEVENT
DTSTART;TZID=UTC:20161008T100000
DTEND;TZID=UTC:20161008T160000
DTSTAMP:20260426T043630
CREATED:20160310T065232Z
LAST-MODIFIED:20160310T065232Z
UID:3356-1475920800-1475942400@celebrationdayforgirls.com
SUMMARY:Celebration Day for Girls\, Adelaide\, SA
DESCRIPTION:There are places available for this event.
URL:https://celebrationdayforgirls.com/event/celebration-day-for-girls-adelaide-sa-2-2/
LOCATION:Adelaide\, South Australia\, Australia
ORGANIZER;CN="Fiona House":MAILTO:fionachouse@gmail.com
END:VEVENT
BEGIN:VEVENT
DTSTART;TZID=UTC:20161006T193000
DTEND;TZID=UTC:20161006T213000
DTSTAMP:20260426T043630
CREATED:20160819T102803Z
LAST-MODIFIED:20160819T102803Z
UID:3433-1475782200-1475789400@celebrationdayforgirls.com
SUMMARY:Mother's Session\, Emerald\, VIC
DESCRIPTION:Places are available for this event.
URL:https://celebrationdayforgirls.com/event/mothers-session-emerald-vic-2-2/
LOCATION:Emerald\, Victoria \, Australia
ORGANIZER;CN="Melinda Whyman":MAILTO:melinda.whyman@gmail.com
END:VEVENT
BEGIN:VEVENT
DTSTART;TZID=UTC:20161006T193000
DTEND;TZID=UTC:20161006T213000
DTSTAMP:20260426T043630
CREATED:20160819T102803Z
LAST-MODIFIED:20160819T102803Z
UID:2057-1475782200-1475789400@celebrationdayforgirls.com
SUMMARY:Mother's Session\, Emerald\, VIC
DESCRIPTION:Places are available for this event.
URL:https://celebrationdayforgirls.com/event/mothers-session-emerald-vic-2/
LOCATION:Emerald\, Victoria \, Australia
ORGANIZER;CN="Melinda Whyman":MAILTO:melinda.whyman@gmail.com
END:VEVENT
BEGIN:VEVENT
DTSTART;TZID=Australia/Melbourne:20161003T190000
DTEND;TZID=Australia/Melbourne:20161003T210000
DTSTAMP:20260426T043630
CREATED:20160808T104511Z
LAST-MODIFIED:20160808T104511Z
UID:3426-1475521200-1475528400@celebrationdayforgirls.com
SUMMARY:Mother's Session\, Shepparton\,  Victoria
DESCRIPTION:Places are available for this event.
URL:https://celebrationdayforgirls.com/event/mothers-session-shepparton-victoria-2/
LOCATION:Shepparton \, Victoria\, Australia
ORGANIZER;CN="Nicole Tricarico":MAILTO:ntricarico@bigpond.com 
END:VEVENT
BEGIN:VEVENT
DTSTART;TZID=Australia/Melbourne:20161003T190000
DTEND;TZID=Australia/Melbourne:20161003T210000
DTSTAMP:20260426T043630
CREATED:20160808T104511Z
LAST-MODIFIED:20160808T104511Z
UID:2018-1475521200-1475528400@celebrationdayforgirls.com
SUMMARY:Mother's Session\, Shepparton\,  Victoria
DESCRIPTION:Places are available for this event.
URL:https://celebrationdayforgirls.com/event/mothers-session-shepparton-victoria/
LOCATION:Shepparton \, Victoria\, Australia
ORGANIZER;CN="Nicole Tricarico":MAILTO:ntricarico@bigpond.com 
END:VEVENT
BEGIN:VEVENT
DTSTART;TZID=Australia/Melbourne:20160918T100000
DTEND;TZID=Australia/Melbourne:20160918T160000
DTSTAMP:20260426T043630
CREATED:20160818T104813Z
LAST-MODIFIED:20160818T104813Z
UID:2046-1474192800-1474214400@celebrationdayforgirls.com
SUMMARY:Celebration Day for Girls\, Eltham\, VIC
DESCRIPTION:Places are available for this event.
URL:https://celebrationdayforgirls.com/event/celebration-day-for-girls-eltham-vic-2/
LOCATION:Eltham\, Victoria\, Australia
ORGANIZER;CN="Melissa Gonella":MAILTO:melissa@gonella.com
END:VEVENT
BEGIN:VEVENT
DTSTART;TZID=Australia/Melbourne:20160918T100000
DTEND;TZID=Australia/Melbourne:20160918T160000
DTSTAMP:20260426T043630
CREATED:20160818T104813Z
LAST-MODIFIED:20160818T104813Z
UID:3430-1474192800-1474214400@celebrationdayforgirls.com
SUMMARY:Celebration Day for Girls\, Eltham\, VIC
DESCRIPTION:Places are available for this event.
URL:https://celebrationdayforgirls.com/event/celebration-day-for-girls-eltham-vic-2-2/
LOCATION:Eltham\, Victoria\, Australia
ORGANIZER;CN="Melissa Gonella":MAILTO:melissa@gonella.com
END:VEVENT
BEGIN:VEVENT
DTSTART;TZID=UTC:20160917T100000
DTEND;TZID=UTC:20160917T160000
DTSTAMP:20260426T043630
CREATED:20151216T010217Z
LAST-MODIFIED:20151216T010217Z
UID:3320-1474106400-1474128000@celebrationdayforgirls.com
SUMMARY:Celebration Day for Girls\, Torquay\, VIC
DESCRIPTION:There are places available for this event. \n 
URL:https://celebrationdayforgirls.com/event/celebration-day-for-girls-torquay-vic-3-2/
LOCATION:Spring Creek Community House\, Torquay\, Australia
ORGANIZER;CN="Michelle Buggy":MAILTO:informemotion@gmail.com
END:VEVENT
BEGIN:VEVENT
DTSTART;TZID=UTC:20160917T100000
DTEND;TZID=UTC:20160917T160000
DTSTAMP:20260426T043630
CREATED:20151216T010217Z
LAST-MODIFIED:20151216T010217Z
UID:1592-1474106400-1474128000@celebrationdayforgirls.com
SUMMARY:Celebration Day for Girls\, Torquay\, VIC
DESCRIPTION:There are places available for this event. \n 
URL:https://celebrationdayforgirls.com/event/celebration-day-for-girls-torquay-vic-3/
LOCATION:Spring Creek Community House\, Torquay\, Australia
ORGANIZER;CN="Michelle Buggy":MAILTO:informemotion@gmail.com
END:VEVENT
BEGIN:VEVENT
DTSTART;TZID=UTC:20160916T180000
DTEND;TZID=UTC:20160916T200000
DTSTAMP:20260426T043630
CREATED:20151216T005627Z
LAST-MODIFIED:20151216T005627Z
UID:1580-1474048800-1474056000@celebrationdayforgirls.com
SUMMARY:Mother's Session\, Torquay\, VIC
DESCRIPTION:There are places available for this event. \n 
URL:https://celebrationdayforgirls.com/event/mothers-session-torquay-vic-3/
LOCATION:Spring Creek Community House\, Torquay\, Australia
ORGANIZER;CN="Michelle Buggy":MAILTO:informemotion@gmail.com
END:VEVENT
BEGIN:VEVENT
DTSTART;TZID=UTC:20160916T180000
DTEND;TZID=UTC:20160916T200000
DTSTAMP:20260426T043630
CREATED:20151216T005627Z
LAST-MODIFIED:20151216T005627Z
UID:3316-1474048800-1474056000@celebrationdayforgirls.com
SUMMARY:Mother's Session\, Torquay\, VIC
DESCRIPTION:There are places available for this event. \n 
URL:https://celebrationdayforgirls.com/event/mothers-session-torquay-vic-3-2/
LOCATION:Spring Creek Community House\, Torquay\, Australia
ORGANIZER;CN="Michelle Buggy":MAILTO:informemotion@gmail.com
END:VEVENT
BEGIN:VEVENT
DTSTART;TZID=Australia/Melbourne:20160913T193000
DTEND;TZID=Australia/Melbourne:20160913T213000
DTSTAMP:20260426T043630
CREATED:20160818T105155Z
LAST-MODIFIED:20160818T105155Z
UID:3431-1473795000-1473802200@celebrationdayforgirls.com
SUMMARY:Mother's Session\, Eltham\, VIC
DESCRIPTION:Places are available for this event.
URL:https://celebrationdayforgirls.com/event/mothers-session-eltham-vic-4/
LOCATION:Eltham\, Victoria\, Australia
ORGANIZER;CN="Melissa Gonella":MAILTO:melissa@melissagonella.com
END:VEVENT
BEGIN:VEVENT
DTSTART;TZID=Australia/Melbourne:20160913T193000
DTEND;TZID=Australia/Melbourne:20160913T213000
DTSTAMP:20260426T043630
CREATED:20160818T105155Z
LAST-MODIFIED:20160818T105155Z
UID:2049-1473795000-1473802200@celebrationdayforgirls.com
SUMMARY:Mother's Session\, Eltham\, VIC
DESCRIPTION:Places are available for this event.
URL:https://celebrationdayforgirls.com/event/mothers-session-eltham-vic/
LOCATION:Eltham\, Victoria\, Australia
ORGANIZER;CN="Melissa Gonella":MAILTO:melissa@melissagonella.com
END:VEVENT
BEGIN:VEVENT
DTSTART;TZID=Australia/Melbourne:20160911T100000
DTEND;TZID=Australia/Melbourne:20160911T160000
DTSTAMP:20260426T043630
CREATED:20160714T060318Z
LAST-MODIFIED:20160714T060318Z
UID:1968-1473588000-1473609600@celebrationdayforgirls.com
SUMMARY:Celebration Day for Girls\, Mitcham\, VIC
DESCRIPTION:Places are available for this event.
URL:https://celebrationdayforgirls.com/event/celebration-day-for-girls-mitcham-vic-2/
LOCATION:Mitcham\, Melbourne\, Victoria\, Australia
ORGANIZER;CN="Kath Callinan-Moore":MAILTO:sjkm@bigpond.net.au
END:VEVENT
BEGIN:VEVENT
DTSTART;TZID=Australia/Melbourne:20160911T100000
DTEND;TZID=Australia/Melbourne:20160911T160000
DTSTAMP:20260426T043630
CREATED:20160714T060318Z
LAST-MODIFIED:20160714T060318Z
UID:3410-1473588000-1473609600@celebrationdayforgirls.com
SUMMARY:Celebration Day for Girls\, Mitcham\, VIC
DESCRIPTION:Places are available for this event.
URL:https://celebrationdayforgirls.com/event/celebration-day-for-girls-mitcham-vic-2-2/
LOCATION:Mitcham\, Melbourne\, Victoria\, Australia
ORGANIZER;CN="Kath Callinan-Moore":MAILTO:sjkm@bigpond.net.au
END:VEVENT
BEGIN:VEVENT
DTSTART;TZID=UTC:20160911T100000
DTEND;TZID=UTC:20160911T160000
DTSTAMP:20260426T043630
CREATED:20160430T110316Z
LAST-MODIFIED:20160430T110316Z
UID:1828-1473588000-1473609600@celebrationdayforgirls.com
SUMMARY:Celebration Day for Girls\, Eltham / Greensborough\, VIC
DESCRIPTION:There are places available at this event.
URL:https://celebrationdayforgirls.com/event/celebration-day-for-girls-eltham-greensborough-vic/
LOCATION:Unnamed Venue\, Eltham / Greensborough\, Australia
END:VEVENT
BEGIN:VEVENT
DTSTART;TZID=UTC:20160911T100000
DTEND;TZID=UTC:20160911T160000
DTSTAMP:20260426T043630
CREATED:20160430T110316Z
LAST-MODIFIED:20160430T110316Z
UID:3380-1473588000-1473609600@celebrationdayforgirls.com
SUMMARY:Celebration Day for Girls\, Eltham / Greensborough\, VIC
DESCRIPTION:There are places available at this event.
URL:https://celebrationdayforgirls.com/event/celebration-day-for-girls-eltham-greensborough-vic-2/
LOCATION:Unnamed Venue\, Eltham / Greensborough\, Australia
END:VEVENT
BEGIN:VEVENT
DTSTART;TZID=Australia/Melbourne:20160910T100000
DTEND;TZID=Australia/Melbourne:20160910T160000
DTSTAMP:20260426T043630
CREATED:20160806T095334Z
LAST-MODIFIED:20160806T095334Z
UID:2005-1473501600-1473523200@celebrationdayforgirls.com
SUMMARY:Celebration Day for Girls\, Ascot Vale\, VIC
DESCRIPTION:Places are available for this event.
URL:https://celebrationdayforgirls.com/event/celebration-day-for-girls-ascot-vale-vic-2/
LOCATION:Ascot Vale\, Victoria\, Australia
ORGANIZER;CN="Sally Quinn":MAILTO:sally.quinn@greencollect.org
END:VEVENT
BEGIN:VEVENT
DTSTART;TZID=Australia/Melbourne:20160910T100000
DTEND;TZID=Australia/Melbourne:20160910T160000
DTSTAMP:20260426T043630
CREATED:20160806T095334Z
LAST-MODIFIED:20160806T095334Z
UID:3422-1473501600-1473523200@celebrationdayforgirls.com
SUMMARY:Celebration Day for Girls\, Ascot Vale\, VIC
DESCRIPTION:Places are available for this event.
URL:https://celebrationdayforgirls.com/event/celebration-day-for-girls-ascot-vale-vic-2-2/
LOCATION:Ascot Vale\, Victoria\, Australia
ORGANIZER;CN="Sally Quinn":MAILTO:sally.quinn@greencollect.org
END:VEVENT
BEGIN:VEVENT
DTSTART;TZID=Australia/Melbourne:20160910T100000
DTEND;TZID=Australia/Melbourne:20160910T160000
DTSTAMP:20260426T043630
CREATED:20160627T014829Z
LAST-MODIFIED:20160627T014829Z
UID:3405-1473501600-1473523200@celebrationdayforgirls.com
SUMMARY:Celebration Day for Girls\, Geelong VIC
DESCRIPTION:Places are available for this event.
URL:https://celebrationdayforgirls.com/event/celebration-day-for-girls-geelong-vic-2-2/
LOCATION:Geelong\, Victoria\, Australia
ORGANIZER;CN="Ingrid Petterson":MAILTO:artmedicine@ymail.com
END:VEVENT
BEGIN:VEVENT
DTSTART;TZID=Australia/Melbourne:20160910T100000
DTEND;TZID=Australia/Melbourne:20160910T160000
DTSTAMP:20260426T043630
CREATED:20160627T014829Z
LAST-MODIFIED:20160627T014829Z
UID:1941-1473501600-1473523200@celebrationdayforgirls.com
SUMMARY:Celebration Day for Girls\, Geelong VIC
DESCRIPTION:Places are available for this event.
URL:https://celebrationdayforgirls.com/event/celebration-day-for-girls-geelong-vic-2/
LOCATION:Geelong\, Victoria\, Australia
ORGANIZER;CN="Ingrid Petterson":MAILTO:artmedicine@ymail.com
END:VEVENT
END:VCALENDAR