BEGIN:VCALENDAR
VERSION:2.0
PRODID:-//Celebration Day For Girls - ECPv6.15.20//NONSGML v1.0//EN
CALSCALE:GREGORIAN
METHOD:PUBLISH
X-ORIGINAL-URL:https://celebrationdayforgirls.com
X-WR-CALDESC:Events for Celebration Day For Girls
REFRESH-INTERVAL;VALUE=DURATION:PT1H
X-Robots-Tag:noindex
X-PUBLISHED-TTL:PT1H
BEGIN:VTIMEZONE
TZID:UTC
BEGIN:STANDARD
TZOFFSETFROM:+0000
TZOFFSETTO:+0000
TZNAME:UTC
DTSTART:20190101T000000
END:STANDARD
END:VTIMEZONE
BEGIN:VTIMEZONE
TZID:America/Vancouver
BEGIN:DAYLIGHT
TZOFFSETFROM:-0800
TZOFFSETTO:-0700
TZNAME:PDT
DTSTART:20190310T100000
END:DAYLIGHT
BEGIN:STANDARD
TZOFFSETFROM:-0700
TZOFFSETTO:-0800
TZNAME:PST
DTSTART:20191103T090000
END:STANDARD
BEGIN:DAYLIGHT
TZOFFSETFROM:-0800
TZOFFSETTO:-0700
TZNAME:PDT
DTSTART:20200308T100000
END:DAYLIGHT
BEGIN:STANDARD
TZOFFSETFROM:-0700
TZOFFSETTO:-0800
TZNAME:PST
DTSTART:20201101T090000
END:STANDARD
BEGIN:DAYLIGHT
TZOFFSETFROM:-0800
TZOFFSETTO:-0700
TZNAME:PDT
DTSTART:20210314T100000
END:DAYLIGHT
BEGIN:STANDARD
TZOFFSETFROM:-0700
TZOFFSETTO:-0800
TZNAME:PST
DTSTART:20211107T090000
END:STANDARD
END:VTIMEZONE
BEGIN:VTIMEZONE
TZID:Pacific/Auckland
BEGIN:STANDARD
TZOFFSETFROM:+1300
TZOFFSETTO:+1200
TZNAME:NZST
DTSTART:20190406T140000
END:STANDARD
BEGIN:DAYLIGHT
TZOFFSETFROM:+1200
TZOFFSETTO:+1300
TZNAME:NZDT
DTSTART:20190928T140000
END:DAYLIGHT
BEGIN:STANDARD
TZOFFSETFROM:+1300
TZOFFSETTO:+1200
TZNAME:NZST
DTSTART:20200404T140000
END:STANDARD
BEGIN:DAYLIGHT
TZOFFSETFROM:+1200
TZOFFSETTO:+1300
TZNAME:NZDT
DTSTART:20200926T140000
END:DAYLIGHT
BEGIN:STANDARD
TZOFFSETFROM:+1300
TZOFFSETTO:+1200
TZNAME:NZST
DTSTART:20210403T140000
END:STANDARD
BEGIN:DAYLIGHT
TZOFFSETFROM:+1200
TZOFFSETTO:+1300
TZNAME:NZDT
DTSTART:20210925T140000
END:DAYLIGHT
END:VTIMEZONE
BEGIN:VTIMEZONE
TZID:Australia/Melbourne
BEGIN:STANDARD
TZOFFSETFROM:+1100
TZOFFSETTO:+1000
TZNAME:AEST
DTSTART:20190406T160000
END:STANDARD
BEGIN:DAYLIGHT
TZOFFSETFROM:+1000
TZOFFSETTO:+1100
TZNAME:AEDT
DTSTART:20191005T160000
END:DAYLIGHT
BEGIN:STANDARD
TZOFFSETFROM:+1100
TZOFFSETTO:+1000
TZNAME:AEST
DTSTART:20200404T160000
END:STANDARD
BEGIN:DAYLIGHT
TZOFFSETFROM:+1000
TZOFFSETTO:+1100
TZNAME:AEDT
DTSTART:20201003T160000
END:DAYLIGHT
BEGIN:STANDARD
TZOFFSETFROM:+1100
TZOFFSETTO:+1000
TZNAME:AEST
DTSTART:20210403T160000
END:STANDARD
BEGIN:DAYLIGHT
TZOFFSETFROM:+1000
TZOFFSETTO:+1100
TZNAME:AEDT
DTSTART:20211002T160000
END:DAYLIGHT
END:VTIMEZONE
BEGIN:VTIMEZONE
TZID:Asia/Jakarta
BEGIN:STANDARD
TZOFFSETFROM:+0700
TZOFFSETTO:+0700
TZNAME:WIB
DTSTART:20190101T000000
END:STANDARD
END:VTIMEZONE
BEGIN:VTIMEZONE
TZID:Australia/Sydney
BEGIN:STANDARD
TZOFFSETFROM:+1100
TZOFFSETTO:+1000
TZNAME:AEST
DTSTART:20190406T160000
END:STANDARD
BEGIN:DAYLIGHT
TZOFFSETFROM:+1000
TZOFFSETTO:+1100
TZNAME:AEDT
DTSTART:20191005T160000
END:DAYLIGHT
BEGIN:STANDARD
TZOFFSETFROM:+1100
TZOFFSETTO:+1000
TZNAME:AEST
DTSTART:20200404T160000
END:STANDARD
BEGIN:DAYLIGHT
TZOFFSETFROM:+1000
TZOFFSETTO:+1100
TZNAME:AEDT
DTSTART:20201003T160000
END:DAYLIGHT
BEGIN:STANDARD
TZOFFSETFROM:+1100
TZOFFSETTO:+1000
TZNAME:AEST
DTSTART:20210403T160000
END:STANDARD
BEGIN:DAYLIGHT
TZOFFSETFROM:+1000
TZOFFSETTO:+1100
TZNAME:AEDT
DTSTART:20211002T160000
END:DAYLIGHT
END:VTIMEZONE
BEGIN:VTIMEZONE
TZID:Australia/Adelaide
BEGIN:STANDARD
TZOFFSETFROM:+1030
TZOFFSETTO:+0930
TZNAME:ACST
DTSTART:20190406T163000
END:STANDARD
BEGIN:DAYLIGHT
TZOFFSETFROM:+0930
TZOFFSETTO:+1030
TZNAME:ACDT
DTSTART:20191005T163000
END:DAYLIGHT
BEGIN:STANDARD
TZOFFSETFROM:+1030
TZOFFSETTO:+0930
TZNAME:ACST
DTSTART:20200404T163000
END:STANDARD
BEGIN:DAYLIGHT
TZOFFSETFROM:+0930
TZOFFSETTO:+1030
TZNAME:ACDT
DTSTART:20201003T163000
END:DAYLIGHT
BEGIN:STANDARD
TZOFFSETFROM:+1030
TZOFFSETTO:+0930
TZNAME:ACST
DTSTART:20210403T163000
END:STANDARD
BEGIN:DAYLIGHT
TZOFFSETFROM:+0930
TZOFFSETTO:+1030
TZNAME:ACDT
DTSTART:20211002T163000
END:DAYLIGHT
END:VTIMEZONE
BEGIN:VTIMEZONE
TZID:Europe/Paris
BEGIN:DAYLIGHT
TZOFFSETFROM:+0100
TZOFFSETTO:+0200
TZNAME:CEST
DTSTART:20190331T010000
END:DAYLIGHT
BEGIN:STANDARD
TZOFFSETFROM:+0200
TZOFFSETTO:+0100
TZNAME:CET
DTSTART:20191027T010000
END:STANDARD
BEGIN:DAYLIGHT
TZOFFSETFROM:+0100
TZOFFSETTO:+0200
TZNAME:CEST
DTSTART:20200329T010000
END:DAYLIGHT
BEGIN:STANDARD
TZOFFSETFROM:+0200
TZOFFSETTO:+0100
TZNAME:CET
DTSTART:20201025T010000
END:STANDARD
BEGIN:DAYLIGHT
TZOFFSETFROM:+0100
TZOFFSETTO:+0200
TZNAME:CEST
DTSTART:20210328T010000
END:DAYLIGHT
BEGIN:STANDARD
TZOFFSETFROM:+0200
TZOFFSETTO:+0100
TZNAME:CET
DTSTART:20211031T010000
END:STANDARD
END:VTIMEZONE
BEGIN:VEVENT
DTSTART;TZID=UTC:20200327T190000
DTEND;TZID=UTC:20200327T210000
DTSTAMP:20260424T113555
CREATED:20200206T120408Z
LAST-MODIFIED:20200206T120408Z
UID:5108-1585335600-1585342800@celebrationdayforgirls.com
SUMMARY:Mothers Session\, Marbella\, Spain
DESCRIPTION:This is for the Celebration Day on the 28th March\, please contact the organiser for more information
URL:https://celebrationdayforgirls.com/event/mothers-session-marbella-spain-7/
LOCATION:Marbella\, Spain
ORGANIZER;CN="Mariana Zavery":MAILTO:sprout@astralize.com
END:VEVENT
BEGIN:VEVENT
DTSTART;TZID=UTC:20200328T100000
DTEND;TZID=UTC:20200328T160000
DTSTAMP:20260424T113555
CREATED:20200206T120252Z
LAST-MODIFIED:20200206T120252Z
UID:5106-1585389600-1585411200@celebrationdayforgirls.com
SUMMARY:Celebration Day for Girls\, Marbella\, Spain
DESCRIPTION:Places are available for this event\, please contact the organiser for more information
URL:https://celebrationdayforgirls.com/event/celebration-day-for-girls-marbella-spain-8/
LOCATION:Marbella\, Spain
ORGANIZER;CN="Mariana Zavery":MAILTO:sprout@astralize.com
END:VEVENT
BEGIN:VEVENT
DTSTART;TZID=America/Vancouver:20200331T190000
DTEND;TZID=America/Vancouver:20200331T210000
DTSTAMP:20260424T113555
CREATED:20200216T094209Z
LAST-MODIFIED:20200216T094209Z
UID:5232-1585681200-1585688400@celebrationdayforgirls.com
SUMMARY:Mother's Session\, Winnipeg\, Canada
DESCRIPTION:Places are available for this event.
URL:https://celebrationdayforgirls.com/event/mothers-session-winnipeg-canada/
LOCATION:Winnipeg\, Winnipeg\, MB\, Canada
ORGANIZER;CN="Kathy Dayanara Milla":MAILTO:km_moonprincess@hotmail.com
END:VEVENT
BEGIN:VEVENT
DTSTART;TZID=Pacific/Auckland:20200401T190000
DTEND;TZID=Pacific/Auckland:20200401T210000
DTSTAMP:20260424T113555
CREATED:20200311T110412Z
LAST-MODIFIED:20200311T110412Z
UID:5296-1585767600-1585774800@celebrationdayforgirls.com
SUMMARY:Mother's Session\, Opawa\, Christchurch\, New Zealand
DESCRIPTION:Places are available for this event.
URL:https://celebrationdayforgirls.com/event/mothers-session-opawa-christchurch-new-zealand/
LOCATION:Opawa\, Opawa\, Christchurch\, New Zealand
ORGANIZER;CN="Alice Tabak":MAILTO:cdg.alicetabak@gmail.com
END:VEVENT
BEGIN:VEVENT
DTSTART;TZID=America/Vancouver:20200405T100000
DTEND;TZID=America/Vancouver:20200405T160000
DTSTAMP:20260424T113555
CREATED:20200207T233238Z
LAST-MODIFIED:20200207T233327Z
UID:5128-1586080800-1586102400@celebrationdayforgirls.com
SUMMARY:Celebration Day for Girls\, Winnipeg\, Canada
DESCRIPTION:Places are available for this event. Please use the following link to book your place: https://www.eventbrite.com/e/celebration-day-for-girls-tickets-93187928603
URL:https://celebrationdayforgirls.com/event/celebration-day-for-girls-winnipeg-canada/
LOCATION:Winnipeg\, Winnipeg\, MB\, Canada
ORGANIZER;CN="Kathy Dayanara Milla":MAILTO:km_moonprincess@hotmail.com
END:VEVENT
BEGIN:VEVENT
DTSTART;TZID=America/Vancouver:20200414T063000
DTEND;TZID=America/Vancouver:20200414T203000
DTSTAMP:20260424T113555
CREATED:20191221T082841Z
LAST-MODIFIED:20191221T082841Z
UID:5035-1586845800-1586896200@celebrationdayforgirls.com
SUMMARY:Mother's Session\, North Vancouver\, BC\, Canada
DESCRIPTION:Places are available for this event.
URL:https://celebrationdayforgirls.com/event/mothers-session-north-vancouver-bc-canada/
LOCATION:North Vancouver\, Kahlena Movement Studio\, North Vancouver\, Canada
ORGANIZER;CN="Amanda Burke":MAILTO:atburke333@gmail.com
END:VEVENT
BEGIN:VEVENT
DTSTART;TZID=America/Vancouver:20200419T100000
DTEND;TZID=America/Vancouver:20200419T160000
DTSTAMP:20260424T113555
CREATED:20191221T082648Z
LAST-MODIFIED:20191221T082648Z
UID:5032-1587290400-1587312000@celebrationdayforgirls.com
SUMMARY:Celebration Day for Girls\, North Vancouver\, BC\, Canada
DESCRIPTION:Places are available for this event.
URL:https://celebrationdayforgirls.com/event/celebration-day-for-girls-north-vancouver-bc-canada/
LOCATION:North Vancouver\, Kahlena Movement Studio\, North Vancouver\, Canada
ORGANIZER;CN="Amanda Burke":MAILTO:atburke333@gmail.com
END:VEVENT
BEGIN:VEVENT
DTSTART;TZID=Australia/Melbourne:20200420T080000
DTEND;TZID=Australia/Melbourne:20200608T170000
DTSTAMP:20260424T113555
CREATED:20200214T231813Z
LAST-MODIFIED:20200214T231813Z
UID:5229-1587369600-1591635600@celebrationdayforgirls.com
SUMMARY:Fathers Celebrating Daughters Facilitator Training
DESCRIPTION:Places are available for this event.
URL:https://celebrationdayforgirls.com/event/fathers-celebrating-daughters-facilitator-training/
LOCATION:Online\, Your city\, United Kingdom
ORGANIZER;CN="Jane Bennett":MAILTO:jane@janebennett.com.au
END:VEVENT
BEGIN:VEVENT
DTSTART;TZID=UTC:20200426T100000
DTEND;TZID=UTC:20200426T160000
DTSTAMP:20260424T113555
CREATED:20200206T120607Z
LAST-MODIFIED:20200206T120607Z
UID:5110-1587895200-1587916800@celebrationdayforgirls.com
SUMMARY:Celebration Day for Girls\, Bonn\, Germany
DESCRIPTION:Places are available for this event\, please contact the organiser for more information
URL:https://celebrationdayforgirls.com/event/celebration-day-for-girls-bonn-germany-7/
LOCATION:Bonn\, Germany
ORGANIZER;CN="Kelly Kuypers":MAILTO:kelly_kuypers@hotmail.com
END:VEVENT
BEGIN:VEVENT
DTSTART;TZID=Asia/Jakarta:20200430T090000
DTEND;TZID=Asia/Jakarta:20200503T170000
DTSTAMP:20260424T113555
CREATED:20200117T093156Z
LAST-MODIFIED:20200117T093156Z
UID:5069-1588237200-1588525200@celebrationdayforgirls.com
SUMMARY:Celebration Day for Girls Facilitator Training\, Ubud\, Bali
DESCRIPTION:Places are available for this event.
URL:https://celebrationdayforgirls.com/event/celebration-day-for-girls-facilitator-training-ubud-bali/
LOCATION:Ubud\, Ubud\, Bali\, Indonesia
ORGANIZER;CN="Angela Fraser":MAILTO:angelafrasernz@gmail.com
END:VEVENT
BEGIN:VEVENT
DTSTART;TZID=Australia/Melbourne:20200430T190000
DTEND;TZID=Australia/Melbourne:20200430T210000
DTSTAMP:20260424T113555
CREATED:20200216T095348Z
LAST-MODIFIED:20200216T095348Z
UID:5236-1588273200-1588280400@celebrationdayforgirls.com
SUMMARY:Mother's Session\, Mitcham\, VIC
DESCRIPTION:Places are available for this event.
URL:https://celebrationdayforgirls.com/event/mothers-session-mitcham-vic-4/
LOCATION:Mitcham\, Mitcham\, Victoria\, Australia
ORGANIZER;CN="Kath Callinan-Moore":MAILTO:kathcmoore61@gmail.com
END:VEVENT
BEGIN:VEVENT
DTSTART;TZID=Australia/Melbourne:20200430T190000
DTEND;TZID=Australia/Melbourne:20200430T210000
DTSTAMP:20260424T113555
CREATED:20200219T082306Z
LAST-MODIFIED:20200219T082306Z
UID:5255-1588273200-1588280400@celebrationdayforgirls.com
SUMMARY:Mother's Session\, Eltham/Kangaroo Ground\, VIC
DESCRIPTION:Places are available for this event.
URL:https://celebrationdayforgirls.com/event/mothers-session-eltham-kangaroo-ground-vic-2/
LOCATION:Eltham\, Eltham\, Victoria\, Australia
ORGANIZER;CN="Melissa Gonella":MAILTO:mmgonella@hotmail.com
END:VEVENT
BEGIN:VEVENT
DTSTART;TZID=Australia/Melbourne:20200503T100000
DTEND;TZID=Australia/Melbourne:20200503T160000
DTSTAMP:20260424T113555
CREATED:20200216T095235Z
LAST-MODIFIED:20200216T095235Z
UID:5234-1588500000-1588521600@celebrationdayforgirls.com
SUMMARY:Celebration Day for Girls\, Mitcham\, VIC
DESCRIPTION:Places are available for this event.
URL:https://celebrationdayforgirls.com/event/celebration-day-for-girls-mitcham-vic-7/
LOCATION:Mitcham\, Mitcham\, Victoria\, Australia
ORGANIZER;CN="Kath Callinan-Moore":MAILTO:kathcmoore61@gmail.com
END:VEVENT
BEGIN:VEVENT
DTSTART;TZID=Australia/Melbourne:20200503T100000
DTEND;TZID=Australia/Melbourne:20200503T160000
DTSTAMP:20260424T113555
CREATED:20200219T082138Z
LAST-MODIFIED:20200219T082138Z
UID:5253-1588500000-1588521600@celebrationdayforgirls.com
SUMMARY:Celebration Day for Girls\, Eltham/Kangaroo Ground\, VIC
DESCRIPTION:Places are available for this event.
URL:https://celebrationdayforgirls.com/event/celebration-day-for-girls-eltham-kangaroo-ground-vic-5/
LOCATION:Eltham\, Eltham\, Victoria\, Australia
ORGANIZER;CN="Melissa Gonella":MAILTO:mmgonella@hotmail.com
END:VEVENT
BEGIN:VEVENT
DTSTART;TZID=Australia/Melbourne:20200521T190000
DTEND;TZID=Australia/Melbourne:20200521T210000
DTSTAMP:20260424T113555
CREATED:20200216T095618Z
LAST-MODIFIED:20200216T095618Z
UID:5240-1590087600-1590094800@celebrationdayforgirls.com
SUMMARY:Mother's Session\, Eltham\, VIC
DESCRIPTION:Places are available for this event.
URL:https://celebrationdayforgirls.com/event/mothers-session-eltham-vic-5/
LOCATION:Eltham\, Eltham\, Victoria\, Australia
ORGANIZER;CN="Kath Callinan-Moore":MAILTO:kathcmoore61@gmail.com
END:VEVENT
BEGIN:VEVENT
DTSTART;TZID=Australia/Melbourne:20200524T094500
DTEND;TZID=Australia/Melbourne:20200524T163000
DTSTAMP:20260424T113555
CREATED:20200201T225942Z
LAST-MODIFIED:20200201T225942Z
UID:5100-1590313500-1590337800@celebrationdayforgirls.com
SUMMARY:Celebration Day for Girls\, Preston/Thornbury\, VIC
DESCRIPTION:Places are available for this event.
URL:https://celebrationdayforgirls.com/event/celebration-day-for-girls-preston-thornbury-vic/
LOCATION:Preston\, Preston\, Victoria\, Australia
ORGANIZER;CN="Janoel Liddy":MAILTO:contact.janoel@gmail.com
END:VEVENT
BEGIN:VEVENT
DTSTART;TZID=Australia/Melbourne:20200524T100000
DTEND;TZID=Australia/Melbourne:20200524T160000
DTSTAMP:20260424T113555
CREATED:20200216T095509Z
LAST-MODIFIED:20200216T095509Z
UID:5238-1590314400-1590336000@celebrationdayforgirls.com
SUMMARY:Celebration Day for Girls\, Eltham\, VIC
DESCRIPTION:Places are available for this event.
URL:https://celebrationdayforgirls.com/event/celebration-day-for-girls-eltham-vic-7/
LOCATION:Eltham\, Eltham\, Victoria\, Australia
ORGANIZER;CN="Kath Callinan-Moore":MAILTO:kathcmoore61@gmail.com
END:VEVENT
BEGIN:VEVENT
DTSTART;TZID=Australia/Melbourne:20200601T080000
DTEND;TZID=Australia/Melbourne:20200601T170000
DTSTAMP:20260424T113555
CREATED:20200413T093352Z
LAST-MODIFIED:20200413T093352Z
UID:5328-1590998400-1591030800@celebrationdayforgirls.com
SUMMARY:Remote Celebration Day for Girls Facilitator Training by Live Seminar
DESCRIPTION:Places are available for this event. Please contact the facilitators for further information or how to apply.
URL:https://celebrationdayforgirls.com/event/remote-celebration-day-for-girls-facilitator-training-by-live-seminar/
LOCATION:Melbourne\, Melbourne\, Victoria\, Australia
ORGANIZER;CN="Jane Bennett":MAILTO:jane@janebennett.com.au
END:VEVENT
BEGIN:VEVENT
DTSTART;TZID=UTC:20200614T100000
DTEND;TZID=UTC:20200614T160000
DTSTAMP:20260424T113555
CREATED:20200206T120722Z
LAST-MODIFIED:20200206T120722Z
UID:5112-1592128800-1592150400@celebrationdayforgirls.com
SUMMARY:Celebration Day for Girls\, Bonn\, Germany
DESCRIPTION:Places are available for this event\, please contact the organiser for more information and booking.
URL:https://celebrationdayforgirls.com/event/celebration-day-for-girls-bonn-germany-8/
LOCATION:Bonn\, Germany
ORGANIZER;CN="Kelly Kuypers":MAILTO:kelly_kuypers@hotmail.com
END:VEVENT
BEGIN:VEVENT
DTSTART;TZID=Australia/Melbourne:20200724T090000
DTEND;TZID=Australia/Melbourne:20200726T170000
DTSTAMP:20260424T113555
CREATED:20200117T093403Z
LAST-MODIFIED:20200117T093403Z
UID:5072-1595581200-1595782800@celebrationdayforgirls.com
SUMMARY:Celebration Day for Girls Facilitator Training\, Phillip Island\, VIC
DESCRIPTION:Places are available for this event.
URL:https://celebrationdayforgirls.com/event/celebration-day-for-girls-facilitator-training-phillip-island-vic/
LOCATION:Phillip Island\, Phillip Island\, Victoria\, Australia
ORGANIZER;CN="Kath Callinan-Moore":MAILTO:kathcmoore61@gmail.com
END:VEVENT
BEGIN:VEVENT
DTSTART;TZID=Pacific/Auckland:20200802T100000
DTEND;TZID=Pacific/Auckland:20200802T160000
DTSTAMP:20260424T113555
CREATED:20200311T110231Z
LAST-MODIFIED:20200627T091538Z
UID:5292-1596362400-1596384000@celebrationdayforgirls.com
SUMMARY:Celebration Day for Girls\, Opawa\, Christchurch\, New Zealand
DESCRIPTION:Places are available for this event.
URL:https://celebrationdayforgirls.com/event/celebration-day-for-girls-opawa-christchurch-new-zealand/
LOCATION:Opawa\, Opawa\, Christchurch\, New Zealand
ORGANIZER;CN="Alice Tabak":MAILTO:cdg.alicetabak@gmail.com
END:VEVENT
BEGIN:VEVENT
DTSTART;TZID=Australia/Sydney:20200811T100000
DTEND;TZID=Australia/Sydney:20200811T120000
DTSTAMP:20260424T113555
CREATED:20200730T233540Z
LAST-MODIFIED:20200730T233540Z
UID:5442-1597140000-1597147200@celebrationdayforgirls.com
SUMMARY:Mother's Session\, Lambton\, NSW
DESCRIPTION:Places are available for this event.
URL:https://celebrationdayforgirls.com/event/mothers-session-lambton-nsw-2/
LOCATION:Lambton\, Lambton\, Australia
ORGANIZER;CN="Sahara Contempree":MAILTO:myrhythmicbeing@gmail.com
END:VEVENT
BEGIN:VEVENT
DTSTART;TZID=Australia/Sydney:20200816T093000
DTEND;TZID=Australia/Sydney:20200816T163000
DTSTAMP:20260424T113555
CREATED:20200730T233332Z
LAST-MODIFIED:20200730T233332Z
UID:5440-1597570200-1597595400@celebrationdayforgirls.com
SUMMARY:Celebration Day for Girls\, Newcastle\, NSW
DESCRIPTION:Places are available for this event. Please find more information at: www.eventbrite.com.au
URL:https://celebrationdayforgirls.com/event/celebration-day-for-girls-newcastle-nsw-2/
LOCATION:Newcastle\, Newcastle\, Australia
ORGANIZER;CN="Sahara Contempree":MAILTO:myrhythmicbeing@gmail.com
END:VEVENT
BEGIN:VEVENT
DTSTART;TZID=Australia/Adelaide:20200816T100000
DTEND;TZID=Australia/Adelaide:20200816T160000
DTSTAMP:20260424T113555
CREATED:20200904T033315Z
LAST-MODIFIED:20200904T033315Z
UID:5490-1597572000-1597593600@celebrationdayforgirls.com
SUMMARY:Celebration Day for Girls\, Adelaide\, SA
DESCRIPTION:Places are available for this event.
URL:https://celebrationdayforgirls.com/event/celebration-day-for-girls-adelaide-sa-8/
LOCATION:Adelaide\, Adelaide\, South Australia\, Australia
ORGANIZER;CN="Julia Dendrinos":MAILTO:julia@grapevine.com.au
END:VEVENT
BEGIN:VEVENT
DTSTART;TZID=UTC:20200827T190000
DTEND;TZID=UTC:20200827T210000
DTSTAMP:20260424T113555
CREATED:20200730T151629Z
LAST-MODIFIED:20200730T151629Z
UID:5437-1598554800-1598562000@celebrationdayforgirls.com
SUMMARY:Mothers Session\, Kapellen\, Belgium
DESCRIPTION:This is for the Celebration Day on 30th August 2020 in Kapellen. \nThe event will be run in Dutch. Please contact the organisers for more information.
URL:https://celebrationdayforgirls.com/event/mothers-session-kapellen-belgium-3/
LOCATION:Kapellen\, Dorpsstraat 51
ORGANIZER;CN="Karin van Ginneken":MAILTO:8k8a8r8i8n8@gmail.com
END:VEVENT
BEGIN:VEVENT
DTSTART;TZID=Europe/Paris:20200830T100000
DTEND;TZID=Europe/Paris:20200830T160000
DTSTAMP:20260424T113555
CREATED:20200726T235127Z
LAST-MODIFIED:20200726T235127Z
UID:5425-1598781600-1598803200@celebrationdayforgirls.com
SUMMARY:Celebration Day for Girls\, Kapellen\, Belgium
DESCRIPTION:Places are available for this event.
URL:https://celebrationdayforgirls.com/event/celebration-day-for-girls-kapellen-belgium-4/
LOCATION:Kapellen\, Kapellen\, Belgium
ORGANIZER;CN="Karin van Ginneken":MAILTO:8k8a8r8i8n8@gmail.com
END:VEVENT
BEGIN:VEVENT
DTSTART;TZID=Pacific/Auckland:20200830T100000
DTEND;TZID=Pacific/Auckland:20200830T160000
DTSTAMP:20260424T113555
CREATED:20200809T114801Z
LAST-MODIFIED:20200809T114801Z
UID:5450-1598781600-1598803200@celebrationdayforgirls.com
SUMMARY:Celebration Day for Girls\, Heathcote Valley\, Christchurch\, New Zealand
DESCRIPTION:Places are available for this event.
URL:https://celebrationdayforgirls.com/event/celebration-day-for-girls-heathcote-valley-christchurch-new-zealand/
LOCATION:Christchurch\, Christchurch\, New Zealand
ORGANIZER;CN="Alice Tabak":MAILTO:cdg.alicetabak@gmail.com
END:VEVENT
BEGIN:VEVENT
DTSTART;TZID=UTC:20200830T100000
DTEND;TZID=UTC:20200830T170000
DTSTAMP:20260424T113555
CREATED:20200730T145504Z
LAST-MODIFIED:20200730T145504Z
UID:5434-1598781600-1598806800@celebrationdayforgirls.com
SUMMARY:Celebration Day for Girls\, Kapellen\, Belgium
DESCRIPTION:This event will be run in Dutch. Please contact the organisers for more information and to book.
URL:https://celebrationdayforgirls.com/event/celebration-day-for-girls-kapellen-belgium-5/
LOCATION:Kapellen\, Dorpsstraat 45
ORGANIZER;CN="Karin van Ginneken":MAILTO:8k8a8r8i8n8@gmail.com
END:VEVENT
BEGIN:VEVENT
DTSTART;TZID=UTC:20200904T070000
DTEND;TZID=UTC:20200904T210000
DTSTAMP:20260424T113555
CREATED:20200730T145105Z
LAST-MODIFIED:20200730T145105Z
UID:5430-1599202800-1599253200@celebrationdayforgirls.com
SUMMARY:Mothers Session\, Bristol
DESCRIPTION:This is for the Celebration Day on the 5th September – please contact the organiser for more information
URL:https://celebrationdayforgirls.com/event/mothers-session-bristol/
LOCATION:Bristol\, Bristol\, United Kingdom
ORGANIZER;CN="Friederike Kunze":MAILTO:friedel.kunze@gmx.de
END:VEVENT
BEGIN:VEVENT
DTSTART;TZID=UTC:20200905T100000
DTEND;TZID=UTC:20200905T160000
DTSTAMP:20260424T113555
CREATED:20200730T145202Z
LAST-MODIFIED:20200730T145202Z
UID:5432-1599300000-1599321600@celebrationdayforgirls.com
SUMMARY:Celebration Day for Girls\, Bristol
DESCRIPTION:Please contact the organiser for more information
URL:https://celebrationdayforgirls.com/event/celebration-day-for-girls-bristol-3/
LOCATION:Bristol
ORGANIZER;CN="Friederike Kunze":MAILTO:friedel.kunze@gmx.de
END:VEVENT
END:VCALENDAR