BEGIN:VCALENDAR
VERSION:2.0
PRODID:-//Celebration Day For Girls - ECPv6.15.20//NONSGML v1.0//EN
CALSCALE:GREGORIAN
METHOD:PUBLISH
X-WR-CALNAME:Celebration Day For Girls
X-ORIGINAL-URL:https://celebrationdayforgirls.com
X-WR-CALDESC:Events for Celebration Day For Girls
REFRESH-INTERVAL;VALUE=DURATION:PT1H
X-Robots-Tag:noindex
X-PUBLISHED-TTL:PT1H
BEGIN:VTIMEZONE
TZID:America/Bogota
BEGIN:STANDARD
TZOFFSETFROM:-0500
TZOFFSETTO:-0500
TZNAME:-05
DTSTART:20220101T000000
END:STANDARD
END:VTIMEZONE
BEGIN:VTIMEZONE
TZID:America/Vancouver
BEGIN:DAYLIGHT
TZOFFSETFROM:-0800
TZOFFSETTO:-0700
TZNAME:PDT
DTSTART:20230312T100000
END:DAYLIGHT
BEGIN:STANDARD
TZOFFSETFROM:-0700
TZOFFSETTO:-0800
TZNAME:PST
DTSTART:20231105T090000
END:STANDARD
BEGIN:DAYLIGHT
TZOFFSETFROM:-0800
TZOFFSETTO:-0700
TZNAME:PDT
DTSTART:20240310T100000
END:DAYLIGHT
BEGIN:STANDARD
TZOFFSETFROM:-0700
TZOFFSETTO:-0800
TZNAME:PST
DTSTART:20241103T090000
END:STANDARD
BEGIN:DAYLIGHT
TZOFFSETFROM:-0800
TZOFFSETTO:-0700
TZNAME:PDT
DTSTART:20250309T100000
END:DAYLIGHT
BEGIN:STANDARD
TZOFFSETFROM:-0700
TZOFFSETTO:-0800
TZNAME:PST
DTSTART:20251102T090000
END:STANDARD
END:VTIMEZONE
BEGIN:VTIMEZONE
TZID:Europe/Rome
BEGIN:DAYLIGHT
TZOFFSETFROM:+0100
TZOFFSETTO:+0200
TZNAME:CEST
DTSTART:20220327T010000
END:DAYLIGHT
BEGIN:STANDARD
TZOFFSETFROM:+0200
TZOFFSETTO:+0100
TZNAME:CET
DTSTART:20221030T010000
END:STANDARD
BEGIN:DAYLIGHT
TZOFFSETFROM:+0100
TZOFFSETTO:+0200
TZNAME:CEST
DTSTART:20230326T010000
END:DAYLIGHT
BEGIN:STANDARD
TZOFFSETFROM:+0200
TZOFFSETTO:+0100
TZNAME:CET
DTSTART:20231029T010000
END:STANDARD
BEGIN:DAYLIGHT
TZOFFSETFROM:+0100
TZOFFSETTO:+0200
TZNAME:CEST
DTSTART:20240331T010000
END:DAYLIGHT
BEGIN:STANDARD
TZOFFSETFROM:+0200
TZOFFSETTO:+0100
TZNAME:CET
DTSTART:20241027T010000
END:STANDARD
BEGIN:DAYLIGHT
TZOFFSETFROM:+0100
TZOFFSETTO:+0200
TZNAME:CEST
DTSTART:20250330T010000
END:DAYLIGHT
BEGIN:STANDARD
TZOFFSETFROM:+0200
TZOFFSETTO:+0100
TZNAME:CET
DTSTART:20251026T010000
END:STANDARD
END:VTIMEZONE
BEGIN:VTIMEZONE
TZID:UTC
BEGIN:STANDARD
TZOFFSETFROM:+0000
TZOFFSETTO:+0000
TZNAME:UTC
DTSTART:20220101T000000
END:STANDARD
END:VTIMEZONE
BEGIN:VTIMEZONE
TZID:America/Mexico_City
BEGIN:STANDARD
TZOFFSETFROM:-0600
TZOFFSETTO:-0600
TZNAME:CST
DTSTART:20230101T000000
END:STANDARD
END:VTIMEZONE
BEGIN:VTIMEZONE
TZID:Australia/Melbourne
BEGIN:STANDARD
TZOFFSETFROM:+1100
TZOFFSETTO:+1000
TZNAME:AEST
DTSTART:20220402T160000
END:STANDARD
BEGIN:DAYLIGHT
TZOFFSETFROM:+1000
TZOFFSETTO:+1100
TZNAME:AEDT
DTSTART:20221001T160000
END:DAYLIGHT
BEGIN:STANDARD
TZOFFSETFROM:+1100
TZOFFSETTO:+1000
TZNAME:AEST
DTSTART:20230401T160000
END:STANDARD
BEGIN:DAYLIGHT
TZOFFSETFROM:+1000
TZOFFSETTO:+1100
TZNAME:AEDT
DTSTART:20230930T160000
END:DAYLIGHT
BEGIN:STANDARD
TZOFFSETFROM:+1100
TZOFFSETTO:+1000
TZNAME:AEST
DTSTART:20240406T160000
END:STANDARD
BEGIN:DAYLIGHT
TZOFFSETFROM:+1000
TZOFFSETTO:+1100
TZNAME:AEDT
DTSTART:20241005T160000
END:DAYLIGHT
END:VTIMEZONE
BEGIN:VTIMEZONE
TZID:Europe/Brussels
BEGIN:DAYLIGHT
TZOFFSETFROM:+0100
TZOFFSETTO:+0200
TZNAME:CEST
DTSTART:20220327T010000
END:DAYLIGHT
BEGIN:STANDARD
TZOFFSETFROM:+0200
TZOFFSETTO:+0100
TZNAME:CET
DTSTART:20221030T010000
END:STANDARD
BEGIN:DAYLIGHT
TZOFFSETFROM:+0100
TZOFFSETTO:+0200
TZNAME:CEST
DTSTART:20230326T010000
END:DAYLIGHT
BEGIN:STANDARD
TZOFFSETFROM:+0200
TZOFFSETTO:+0100
TZNAME:CET
DTSTART:20231029T010000
END:STANDARD
BEGIN:DAYLIGHT
TZOFFSETFROM:+0100
TZOFFSETTO:+0200
TZNAME:CEST
DTSTART:20240331T010000
END:DAYLIGHT
BEGIN:STANDARD
TZOFFSETFROM:+0200
TZOFFSETTO:+0100
TZNAME:CET
DTSTART:20241027T010000
END:STANDARD
END:VTIMEZONE
BEGIN:VEVENT
DTSTART;TZID=America/Bogota:20240314T100000
DTEND;TZID=America/Bogota:20240314T160000
DTSTAMP:20260420T050350
CREATED:20240310T043006Z
LAST-MODIFIED:20240310T043006Z
UID:8578-1710410400-1710432000@celebrationdayforgirls.com
SUMMARY:Día de Celebración para Niñas\, El Cairo\, Abejorral\, Colombia
DESCRIPTION:Places are available for this event.
URL:https://celebrationdayforgirls.com/event/dia-de-celebracion-para-ninas-el-cairo-abejorral-colombia/
LOCATION:Abejorral\, Abejorral\, Colombia
ORGANIZER;CN="Didi Ananda Rashmika & Yecenia Gutierrez":MAILTO:anandarashmika@gmail.com
END:VEVENT
BEGIN:VEVENT
DTSTART;TZID=America/Vancouver:20240310T100000
DTEND;TZID=America/Vancouver:20240310T160000
DTSTAMP:20260420T050350
CREATED:20240210T213711Z
LAST-MODIFIED:20240210T213711Z
UID:8561-1710064800-1710086400@celebrationdayforgirls.com
SUMMARY:Celebration Day for Girls\, Winnipeg\, Canada
DESCRIPTION:Places are available for this event.
URL:https://celebrationdayforgirls.com/event/celebration-day-for-girls-winnipeg-canada-2/
LOCATION:Winnipeg\, Winnipeg\, MB\, Canada
ORGANIZER;CN="Kathy Dayanara Milla":MAILTO:km_moonprincess@hotmail.com
END:VEVENT
BEGIN:VEVENT
DTSTART;TZID=America/Vancouver:20240305T190000
DTEND;TZID=America/Vancouver:20240305T210000
DTSTAMP:20260420T050350
CREATED:20240210T213544Z
LAST-MODIFIED:20240210T213544Z
UID:8559-1709665200-1709672400@celebrationdayforgirls.com
SUMMARY:Mother's Session\, Winnipeg\, Canada
DESCRIPTION:Places are available for this event.
URL:https://celebrationdayforgirls.com/event/mothers-session-winnipeg-canada-2/
LOCATION:Winnipeg\, Winnipeg\, MB\, Canada
ORGANIZER;CN="Kathy Dayanara Milla":MAILTO:km_moonprincess@hotmail.com
END:VEVENT
BEGIN:VEVENT
DTSTART;TZID=Europe/Rome:20240303T100000
DTEND;TZID=Europe/Rome:20240303T160000
DTSTAMP:20260420T050350
CREATED:20240216T052036Z
LAST-MODIFIED:20240216T052036Z
UID:8563-1709460000-1709481600@celebrationdayforgirls.com
SUMMARY:Celebration Day for Girls\, Scaltenigo\, Venice\, Italy
DESCRIPTION:Places are available for this event.
URL:https://celebrationdayforgirls.com/event/celebration-day-for-girls-scaltenigo-venice-italy/
LOCATION:Scaltenigo\, Scaltenigo\, Italy
ORGANIZER;CN="Milena Da Forno":MAILTO:milena.daforno@gmail.com
END:VEVENT
BEGIN:VEVENT
DTSTART;TZID=UTC:20240302T080000
DTEND;TZID=UTC:20240302T170000
DTSTAMP:20260420T050350
CREATED:20240118T020604Z
LAST-MODIFIED:20240118T020604Z
UID:8534-1709366400-1709398800@celebrationdayforgirls.com
SUMMARY:Celebration Day for Girls\, London\, UK
DESCRIPTION:Places are available for this event.
URL:https://celebrationdayforgirls.com/event/celebration-day-for-girls-london-uk-15/
LOCATION:London\, London\, United Kingdom
ORGANIZER;CN="Noura Alfadl":MAILTO:nouranaf@gmail.com
END:VEVENT
BEGIN:VEVENT
DTSTART;TZID=UTC:20240301T190000
DTEND;TZID=UTC:20240301T210000
DTSTAMP:20260420T050350
CREATED:20240118T020729Z
LAST-MODIFIED:20240118T020729Z
UID:8536-1709319600-1709326800@celebrationdayforgirls.com
SUMMARY:Mother's Session\, London\, UK
DESCRIPTION:Places are available for this event.
URL:https://celebrationdayforgirls.com/event/mothers-session-london-uk-13/
LOCATION:London\, London\, United Kingdom
ORGANIZER;CN="Noura Alfadl":MAILTO:nouranaf@gmail.com
END:VEVENT
BEGIN:VEVENT
DTSTART;TZID=UTC:20240224T100000
DTEND;TZID=UTC:20240224T160000
DTSTAMP:20260420T050350
CREATED:20240118T020308Z
LAST-MODIFIED:20240118T020308Z
UID:8529-1708768800-1708790400@celebrationdayforgirls.com
SUMMARY:Celebration Day for Girls\, Maidanhead\, UK
DESCRIPTION:Places are available for this event.
URL:https://celebrationdayforgirls.com/event/celebration-day-for-girls-maidanhead-uk/
LOCATION:Maidanhead\, Maidanhead\, United Kingdom
ORGANIZER;CN="Noura Alfadl":MAILTO:nouranaf@gmail.com
END:VEVENT
BEGIN:VEVENT
DTSTART;TZID=UTC:20240223T190000
DTEND;TZID=UTC:20240223T210000
DTSTAMP:20260420T050350
CREATED:20240118T020426Z
LAST-MODIFIED:20240118T020426Z
UID:8532-1708714800-1708722000@celebrationdayforgirls.com
SUMMARY:Mother's Session\, Maidanhead\, UK
DESCRIPTION:Places are available for this event.
URL:https://celebrationdayforgirls.com/event/mothers-session-maidanhead-uk/
LOCATION:Maidanhead\, Maidanhead\, United Kingdom
ORGANIZER;CN="Noura Alfadl":MAILTO:nouranaf@gmail.com
END:VEVENT
BEGIN:VEVENT
DTSTART;TZID=America/Bogota:20240222T100000
DTEND;TZID=America/Bogota:20240222T160000
DTSTAMP:20260420T050350
CREATED:20240226T041753Z
LAST-MODIFIED:20240226T041753Z
UID:8572-1708596000-1708617600@celebrationdayforgirls.com
SUMMARY:Día de Celebración para Niñas\, Chagualal\, Abejorral\, Colombia
DESCRIPTION:Places are available for this event.
URL:https://celebrationdayforgirls.com/event/dia-de-celebracion-para-ninas-chagualal-abejorral-colombia/
LOCATION:Abejorral\, Abejorral\, Colombia
ORGANIZER;CN="Yecenia Gutierrez":MAILTO:yeceniagutierrezo@hotmail.com
END:VEVENT
BEGIN:VEVENT
DTSTART;TZID=America/Mexico_City:20240218T100000
DTEND;TZID=America/Mexico_City:20240218T160000
DTSTAMP:20260420T050350
CREATED:20240216T055507Z
LAST-MODIFIED:20240216T055507Z
UID:8565-1708250400-1708272000@celebrationdayforgirls.com
SUMMARY:Día de Celebración para Niñas\, Campos Santa Blanca\, Mexico
DESCRIPTION:Places are available for this event.
URL:https://celebrationdayforgirls.com/event/dia-de-celebracion-para-ninas-campos-santa-blanca-mexico/
LOCATION:Campos Santa Blanca\, Campos Santa Blanca\, Mexico
ORGANIZER;CN="Liz Campos":MAILTO:lizbethanahicamposgamez@outlook.com
END:VEVENT
BEGIN:VEVENT
DTSTART;TZID=UTC:20240203T100000
DTEND;TZID=UTC:20240203T160000
DTSTAMP:20260420T050350
CREATED:20240118T020005Z
LAST-MODIFIED:20240118T020005Z
UID:8525-1706954400-1706976000@celebrationdayforgirls.com
SUMMARY:Celebration Day for Girls\, London\, UK
DESCRIPTION:Places are available for this event.
URL:https://celebrationdayforgirls.com/event/celebration-day-for-girls-london-uk-12/
LOCATION:London\, London\, United Kingdom
ORGANIZER;CN="Noura Alfadl":MAILTO:nouranaf@gmail.com
END:VEVENT
BEGIN:VEVENT
DTSTART;TZID=UTC:20240202T190000
DTEND;TZID=UTC:20240202T210000
DTSTAMP:20260420T050350
CREATED:20240118T020135Z
LAST-MODIFIED:20240118T020135Z
UID:8527-1706900400-1706907600@celebrationdayforgirls.com
SUMMARY:Mother's Session\, London\, UK
DESCRIPTION:Places are available for this event.
URL:https://celebrationdayforgirls.com/event/mothers-session-london-uk-10/
LOCATION:London\, London\, United Kingdom
ORGANIZER;CN="Noura Alfadl":MAILTO:nouranaf@gmail.com
END:VEVENT
BEGIN:VEVENT
DTSTART;TZID=America/Bogota:20231220T100000
DTEND;TZID=America/Bogota:20231220T160000
DTSTAMP:20260420T050350
CREATED:20231223T054246Z
LAST-MODIFIED:20231223T054246Z
UID:8510-1703066400-1703088000@celebrationdayforgirls.com
SUMMARY:Día de Celebración para Niñas\, Bello\, Antioquia\, Colombia
DESCRIPTION:Places are available for this event.
URL:https://celebrationdayforgirls.com/event/dia-de-celebracion-para-ninas-bello-antioquia-colombia/
LOCATION:Bello\, Antioquia\, Colombia\, Bello\, Colombia
ORGANIZER;CN="Luz Karime Restrepo":MAILTO:luzkarimerestrepojimenez@gmail.com
END:VEVENT
BEGIN:VEVENT
DTSTART;TZID=Australia/Melbourne:20231202T100000
DTEND;TZID=Australia/Melbourne:20231202T160000
DTSTAMP:20260420T050350
CREATED:20231124T031945Z
LAST-MODIFIED:20231124T031945Z
UID:8471-1701511200-1701532800@celebrationdayforgirls.com
SUMMARY:Celebration Day for Girls\, Emerald\, VIC
DESCRIPTION:Places are available for this event.
URL:https://celebrationdayforgirls.com/event/celebration-day-for-girls-emerald-vic-4/
LOCATION:Emerald\, Emerald\, Victoria\, Australia
ORGANIZER;CN="Dionne Brown":MAILTO:dionnegardiner@gmail.com
END:VEVENT
BEGIN:VEVENT
DTSTART;TZID=Australia/Melbourne:20231128T190000
DTEND;TZID=Australia/Melbourne:20231128T210000
DTSTAMP:20260420T050350
CREATED:20231124T032111Z
LAST-MODIFIED:20231124T032111Z
UID:8474-1701198000-1701205200@celebrationdayforgirls.com
SUMMARY:Mother's Session\, Emerald\, VIC
DESCRIPTION:Places are available for this event.
URL:https://celebrationdayforgirls.com/event/mothers-session-emerald-vic-4/
LOCATION:Emerald\, Emerald\, Victoria\, Australia
ORGANIZER;CN="Dionne Brown":MAILTO:dionnegardiner@gmail.com
END:VEVENT
BEGIN:VEVENT
DTSTART;TZID=Australia/Melbourne:20231126T100000
DTEND;TZID=Australia/Melbourne:20231126T160000
DTSTAMP:20260420T050350
CREATED:20231107T022633Z
LAST-MODIFIED:20231107T022633Z
UID:8458-1700992800-1701014400@celebrationdayforgirls.com
SUMMARY:Celebration Day for Girls\, Moonee Ponds\, VIC
DESCRIPTION:Places are available for this event.
URL:https://celebrationdayforgirls.com/event/celebration-day-for-girls-moonee-ponds-vic/
LOCATION:Gaia Temple\, Moonee Ponds\, Moonee Ponds\, Australia
ORGANIZER;CN="Janoel Liddy":MAILTO:contact.janoel@gmail.com
END:VEVENT
BEGIN:VEVENT
DTSTART;TZID=America/Bogota:20231124T100000
DTEND;TZID=America/Bogota:20231124T160000
DTSTAMP:20260420T050350
CREATED:20231006T051948Z
LAST-MODIFIED:20231006T051948Z
UID:8403-1700820000-1700841600@celebrationdayforgirls.com
SUMMARY:Día de Celebración para Niñas\, Pantanillo\, Colombia
DESCRIPTION:Places are available for this event.
URL:https://celebrationdayforgirls.com/event/dia-de-celebracion-para-ninas-pantanillo-colombia-2/
LOCATION:Pantanillo\, Colombia\, Pantanillo\, Colombia\, Colombia
ORGANIZER;CN="Didi Ananda Rashmika & Yecenia Gutierrez":MAILTO:anandarashmika@gmail.com
END:VEVENT
BEGIN:VEVENT
DTSTART;TZID=Australia/Melbourne:20231122T190000
DTEND;TZID=Australia/Melbourne:20231122T210000
DTSTAMP:20260420T050350
CREATED:20231107T022758Z
LAST-MODIFIED:20231107T022758Z
UID:8460-1700679600-1700686800@celebrationdayforgirls.com
SUMMARY:Mother's Session\, Moonee Ponds\, VIC
DESCRIPTION:Places are available for this event.
URL:https://celebrationdayforgirls.com/event/mothers-session-moonee-ponds-vic/
LOCATION:Gaia Temple\, Moonee Ponds\, Moonee Ponds\, Australia
ORGANIZER;CN="Janoel Liddy":MAILTO:contact.janoel@gmail.com
END:VEVENT
BEGIN:VEVENT
DTSTART;TZID=UTC:20231119T190000
DTEND;TZID=UTC:20231119T210000
DTSTAMP:20260420T050350
CREATED:20230718T005658Z
LAST-MODIFIED:20230718T005658Z
UID:8275-1700420400-1700427600@celebrationdayforgirls.com
SUMMARY:Fathers Celebrating Daughters\, North London\, UK
DESCRIPTION:Places are available for this event.
URL:https://celebrationdayforgirls.com/event/fathers-celebrating-daughters-north-london-uk/
LOCATION:North London\, North London\, United Kingdom
END:VEVENT
BEGIN:VEVENT
DTSTART;TZID=Europe/Rome:20231119T100000
DTEND;TZID=Europe/Rome:20231119T160000
DTSTAMP:20260420T050350
CREATED:20231124T033208Z
LAST-MODIFIED:20231124T033208Z
UID:8477-1700388000-1700409600@celebrationdayforgirls.com
SUMMARY:Celebration Day for Girls\, Scaltenigo\, Italy
DESCRIPTION:Places are available for this event.
URL:https://celebrationdayforgirls.com/event/celebration-day-for-girls-scaltenigo-italy/
LOCATION:Scaltenigo\, Scaltenigo\, Italy
ORGANIZER;CN="Milena Da Forno":MAILTO:milena.daforno@gmail.com
END:VEVENT
BEGIN:VEVENT
DTSTART;TZID=Europe/Rome:20231118T190000
DTEND;TZID=Europe/Rome:20231118T210000
DTSTAMP:20260420T050350
CREATED:20231124T033354Z
LAST-MODIFIED:20231124T033354Z
UID:8480-1700334000-1700341200@celebrationdayforgirls.com
SUMMARY:Mother's Session\, Scaltenigo\, Italy
DESCRIPTION:Places are available for this event.
URL:https://celebrationdayforgirls.com/event/mothers-session-scaltenigo-italy/
LOCATION:Scaltenigo\, Scaltenigo\, Italy
ORGANIZER;CN="Milena Da Forno":MAILTO:milena.daforno@gmail.com
END:VEVENT
BEGIN:VEVENT
DTSTART;TZID=America/Bogota:20231112T100000
DTEND;TZID=America/Bogota:20231112T160000
DTSTAMP:20260420T050350
CREATED:20231026T054329Z
LAST-MODIFIED:20231026T054329Z
UID:8447-1699783200-1699804800@celebrationdayforgirls.com
SUMMARY:Día de Celebración para Niñas (Inclusión)\, Bogota\, Colombia
DESCRIPTION:Places are available for this event.
URL:https://celebrationdayforgirls.com/event/dia-de-celebracion-para-ninas-inclusion-bogota-colombia/
LOCATION:Bogota\, Colombia\, Bogota\, Colombia
ORGANIZER;CN="Jacquelinne Gomez":MAILTO:jacquelinne.gomezb@gmail.com
END:VEVENT
BEGIN:VEVENT
DTSTART;TZID=Australia/Melbourne:20231112T100000
DTEND;TZID=Australia/Melbourne:20231112T160000
DTSTAMP:20260420T050350
CREATED:20231009T231444Z
LAST-MODIFIED:20231130T032733Z
UID:8420-1699783200-1699804800@celebrationdayforgirls.com
SUMMARY:Celebration Day for Girls Outreach\, Park Orchards\, VIC
DESCRIPTION:This event has been generously granted to the community by
URL:https://celebrationdayforgirls.com/event/celebration-day-for-girls-outreach-park-orchards-vic/
LOCATION:Park Orchards\, Park Orchards\, Victoria\, Australia
ORGANIZER;CN="Lara Blumer":MAILTO:larajblumer@gmail.com
END:VEVENT
BEGIN:VEVENT
DTSTART;TZID=Europe/Brussels:20231111T100000
DTEND;TZID=Europe/Brussels:20231111T163000
DTSTAMP:20260420T050350
CREATED:20231009T224322Z
LAST-MODIFIED:20231009T224322Z
UID:8407-1699696800-1699720200@celebrationdayforgirls.com
SUMMARY:Celebration Day for Girls\, Kalmthout\, Belgium
DESCRIPTION:Places are available for this event.
URL:https://celebrationdayforgirls.com/event/celebration-day-for-girls-kalmthout-belgium/
LOCATION:Kalmthout\, Kalmthout\, Belgium
ORGANIZER;CN="Karin van Ginneken":MAILTO:8k8a8r8i8n8@gmail.com
END:VEVENT
BEGIN:VEVENT
DTSTART;TZID=UTC:20231111T100000
DTEND;TZID=UTC:20231111T160000
DTSTAMP:20260420T050350
CREATED:20231026T060621Z
LAST-MODIFIED:20231026T060621Z
UID:8453-1699696800-1699718400@celebrationdayforgirls.com
SUMMARY:Celebration Day for Girls (Outreach)\, Ho Chi Minh city\, Vietnam
DESCRIPTION:Places are available for this event.
URL:https://celebrationdayforgirls.com/event/celebration-day-for-girls-outreach-ho-chi-minh-city-vietnam/
LOCATION:HoChiMinh\, HoChiMinh\, Viet Nam
ORGANIZER;CN="Daniela Dolce and Valentina Thayer":MAILTO:dvd27@hotmail.com
END:VEVENT
BEGIN:VEVENT
DTSTART;TZID=Australia/Melbourne:20231111T100000
DTEND;TZID=Australia/Melbourne:20231111T160000
DTSTAMP:20260420T050350
CREATED:20231009T230428Z
LAST-MODIFIED:20231130T033516Z
UID:8418-1699696800-1699718400@celebrationdayforgirls.com
SUMMARY:Celebration Day for Girls Outreach\, Croyden\, VIC
DESCRIPTION:This event has been generously granted to the community by
URL:https://celebrationdayforgirls.com/event/celebration-day-for-girls-outreach-tbc-eastern-suburbs-melbourne-vic/
LOCATION:Croyden\, Melbourne\, Australia
ORGANIZER;CN="Lori Kemp":MAILTO:lori.elizabeth@outlook.com
END:VEVENT
BEGIN:VEVENT
DTSTART;TZID=Australia/Melbourne:20231111T100000
DTEND;TZID=Australia/Melbourne:20231111T160000
DTSTAMP:20260420T050350
CREATED:20231009T224918Z
LAST-MODIFIED:20231009T224918Z
UID:8412-1699696800-1699718400@celebrationdayforgirls.com
SUMMARY:Celebration Day for Girls\, Castlemaine\, VIC
DESCRIPTION:Places are available for this event. Please use the following link to book your place: \nhttps://www.eventbrite.com.au/e/727862214477?aff=oddtdtcreator
URL:https://celebrationdayforgirls.com/event/celebration-day-for-girls-castlemaine-vic-22/
LOCATION:Castlemaine
ORGANIZER;CN="Rachel Pilgrim":MAILTO:rachel.pilgrim@yahoo.com
END:VEVENT
BEGIN:VEVENT
DTSTART;TZID=Australia/Melbourne:20231109T193000
DTEND;TZID=Australia/Melbourne:20231109T213000
DTSTAMP:20260420T050350
CREATED:20231009T231616Z
LAST-MODIFIED:20231130T033634Z
UID:8423-1699558200-1699565400@celebrationdayforgirls.com
SUMMARY:Mother's Session\, Park Orchards\, VIC
DESCRIPTION:This event has been generously granted to the community by
URL:https://celebrationdayforgirls.com/event/mothers-session-park-orchards-vic-3/
LOCATION:Park Orchards\, Park Orchards\, Victoria\, Australia
ORGANIZER;CN="Lara Blumer":MAILTO:larajblumer@gmail.com
END:VEVENT
BEGIN:VEVENT
DTSTART;TZID=Australia/Melbourne:20231108T193000
DTEND;TZID=Australia/Melbourne:20231108T213000
DTSTAMP:20260420T050350
CREATED:20231009T230157Z
LAST-MODIFIED:20231130T033730Z
UID:8414-1699471800-1699479000@celebrationdayforgirls.com
SUMMARY:Mother's Session\, Croyden\, VIC
DESCRIPTION:This event has been generously granted to the community by
URL:https://celebrationdayforgirls.com/event/mothers-session-eastern-suburbs-vic/
LOCATION:Croyden\, Melbourne\, Australia
ORGANIZER;CN="Lori Kemp":MAILTO:lori.elizabeth@outlook.com
END:VEVENT
BEGIN:VEVENT
DTSTART;TZID=Europe/Brussels:20231108T193000
DTEND;TZID=Europe/Brussels:20231108T213000
DTSTAMP:20260420T050350
CREATED:20231009T224451Z
LAST-MODIFIED:20231009T224451Z
UID:8410-1699471800-1699479000@celebrationdayforgirls.com
SUMMARY:Mother's Session\, Kalmthout\, Belgium
DESCRIPTION:Places are available for this event.
URL:https://celebrationdayforgirls.com/event/mothers-session-kalmthout-belgium/
LOCATION:Kalmthout\, Kalmthout\, Belgium
ORGANIZER;CN="Karin van Ginneken":MAILTO:8k8a8r8i8n8@gmail.com
END:VEVENT
END:VCALENDAR