BEGIN:VCALENDAR
VERSION:2.0
PRODID:-//Celebration Day For Girls - ECPv6.15.20//NONSGML v1.0//EN
CALSCALE:GREGORIAN
METHOD:PUBLISH
X-WR-CALNAME:Celebration Day For Girls
X-ORIGINAL-URL:https://celebrationdayforgirls.com
X-WR-CALDESC:Events for Celebration Day For Girls
REFRESH-INTERVAL;VALUE=DURATION:PT1H
X-Robots-Tag:noindex
X-PUBLISHED-TTL:PT1H
BEGIN:VTIMEZONE
TZID:Australia/Melbourne
BEGIN:STANDARD
TZOFFSETFROM:+1100
TZOFFSETTO:+1000
TZNAME:AEST
DTSTART:20180331T160000
END:STANDARD
BEGIN:DAYLIGHT
TZOFFSETFROM:+1000
TZOFFSETTO:+1100
TZNAME:AEDT
DTSTART:20181006T160000
END:DAYLIGHT
BEGIN:STANDARD
TZOFFSETFROM:+1100
TZOFFSETTO:+1000
TZNAME:AEST
DTSTART:20190406T160000
END:STANDARD
BEGIN:DAYLIGHT
TZOFFSETFROM:+1000
TZOFFSETTO:+1100
TZNAME:AEDT
DTSTART:20191005T160000
END:DAYLIGHT
BEGIN:STANDARD
TZOFFSETFROM:+1100
TZOFFSETTO:+1000
TZNAME:AEST
DTSTART:20200404T160000
END:STANDARD
BEGIN:DAYLIGHT
TZOFFSETFROM:+1000
TZOFFSETTO:+1100
TZNAME:AEDT
DTSTART:20201003T160000
END:DAYLIGHT
END:VTIMEZONE
BEGIN:VTIMEZONE
TZID:UTC
BEGIN:STANDARD
TZOFFSETFROM:+0000
TZOFFSETTO:+0000
TZNAME:UTC
DTSTART:20180101T000000
END:STANDARD
END:VTIMEZONE
BEGIN:VTIMEZONE
TZID:Europe/Madrid
BEGIN:DAYLIGHT
TZOFFSETFROM:+0100
TZOFFSETTO:+0200
TZNAME:CEST
DTSTART:20180325T010000
END:DAYLIGHT
BEGIN:STANDARD
TZOFFSETFROM:+0200
TZOFFSETTO:+0100
TZNAME:CET
DTSTART:20181028T010000
END:STANDARD
BEGIN:DAYLIGHT
TZOFFSETFROM:+0100
TZOFFSETTO:+0200
TZNAME:CEST
DTSTART:20190331T010000
END:DAYLIGHT
BEGIN:STANDARD
TZOFFSETFROM:+0200
TZOFFSETTO:+0100
TZNAME:CET
DTSTART:20191027T010000
END:STANDARD
BEGIN:DAYLIGHT
TZOFFSETFROM:+0100
TZOFFSETTO:+0200
TZNAME:CEST
DTSTART:20200329T010000
END:DAYLIGHT
BEGIN:STANDARD
TZOFFSETFROM:+0200
TZOFFSETTO:+0100
TZNAME:CET
DTSTART:20201025T010000
END:STANDARD
END:VTIMEZONE
BEGIN:VTIMEZONE
TZID:Pacific/Auckland
BEGIN:STANDARD
TZOFFSETFROM:+1300
TZOFFSETTO:+1200
TZNAME:NZST
DTSTART:20180331T140000
END:STANDARD
BEGIN:DAYLIGHT
TZOFFSETFROM:+1200
TZOFFSETTO:+1300
TZNAME:NZDT
DTSTART:20180929T140000
END:DAYLIGHT
BEGIN:STANDARD
TZOFFSETFROM:+1300
TZOFFSETTO:+1200
TZNAME:NZST
DTSTART:20190406T140000
END:STANDARD
BEGIN:DAYLIGHT
TZOFFSETFROM:+1200
TZOFFSETTO:+1300
TZNAME:NZDT
DTSTART:20190928T140000
END:DAYLIGHT
BEGIN:STANDARD
TZOFFSETFROM:+1300
TZOFFSETTO:+1200
TZNAME:NZST
DTSTART:20200404T140000
END:STANDARD
BEGIN:DAYLIGHT
TZOFFSETFROM:+1200
TZOFFSETTO:+1300
TZNAME:NZDT
DTSTART:20200926T140000
END:DAYLIGHT
END:VTIMEZONE
BEGIN:VTIMEZONE
TZID:America/Vancouver
BEGIN:DAYLIGHT
TZOFFSETFROM:-0800
TZOFFSETTO:-0700
TZNAME:PDT
DTSTART:20180311T100000
END:DAYLIGHT
BEGIN:STANDARD
TZOFFSETFROM:-0700
TZOFFSETTO:-0800
TZNAME:PST
DTSTART:20181104T090000
END:STANDARD
BEGIN:DAYLIGHT
TZOFFSETFROM:-0800
TZOFFSETTO:-0700
TZNAME:PDT
DTSTART:20190310T100000
END:DAYLIGHT
BEGIN:STANDARD
TZOFFSETFROM:-0700
TZOFFSETTO:-0800
TZNAME:PST
DTSTART:20191103T090000
END:STANDARD
BEGIN:DAYLIGHT
TZOFFSETFROM:-0800
TZOFFSETTO:-0700
TZNAME:PDT
DTSTART:20200308T100000
END:DAYLIGHT
BEGIN:STANDARD
TZOFFSETFROM:-0700
TZOFFSETTO:-0800
TZNAME:PST
DTSTART:20201101T090000
END:STANDARD
END:VTIMEZONE
BEGIN:VTIMEZONE
TZID:Europe/London
BEGIN:DAYLIGHT
TZOFFSETFROM:+0000
TZOFFSETTO:+0100
TZNAME:BST
DTSTART:20180325T010000
END:DAYLIGHT
BEGIN:STANDARD
TZOFFSETFROM:+0100
TZOFFSETTO:+0000
TZNAME:GMT
DTSTART:20181028T010000
END:STANDARD
BEGIN:DAYLIGHT
TZOFFSETFROM:+0000
TZOFFSETTO:+0100
TZNAME:BST
DTSTART:20190331T010000
END:DAYLIGHT
BEGIN:STANDARD
TZOFFSETFROM:+0100
TZOFFSETTO:+0000
TZNAME:GMT
DTSTART:20191027T010000
END:STANDARD
BEGIN:DAYLIGHT
TZOFFSETFROM:+0000
TZOFFSETTO:+0100
TZNAME:BST
DTSTART:20200329T010000
END:DAYLIGHT
BEGIN:STANDARD
TZOFFSETFROM:+0100
TZOFFSETTO:+0000
TZNAME:GMT
DTSTART:20201025T010000
END:STANDARD
END:VTIMEZONE
BEGIN:VEVENT
DTSTART;TZID=Australia/Melbourne:20191114T190000
DTEND;TZID=Australia/Melbourne:20191114T210000
DTSTAMP:20260424T211936
CREATED:20191105T103407Z
LAST-MODIFIED:20191105T103407Z
UID:4914-1573758000-1573765200@celebrationdayforgirls.com
SUMMARY:Mother's Session\, Kilsyth\, VIC
DESCRIPTION:This is a class event. Please contact the facilitator for future events or workshops.
URL:https://celebrationdayforgirls.com/event/mothers-session-kilsyth-vic-3/
LOCATION:kilsyth\, Kilsyth\, Victoria\, Australia
ORGANIZER;CN="Janoel Liddy":MAILTO:contact.janoel@gmail.com
END:VEVENT
BEGIN:VEVENT
DTSTART;TZID=Australia/Melbourne:20191114T190000
DTEND;TZID=Australia/Melbourne:20191114T210000
DTSTAMP:20260424T211936
CREATED:20190730T094011Z
LAST-MODIFIED:20190730T094011Z
UID:4734-1573758000-1573765200@celebrationdayforgirls.com
SUMMARY:Mother's Session\, Eltham/Kangaroo Ground\, VIC
DESCRIPTION:Places are available for this event.
URL:https://celebrationdayforgirls.com/event/mothers-session-eltham-kangaroo-ground-vic/
LOCATION:Eltham\, Eltham\, Victoria\, Australia
ORGANIZER;CN="Melissa Gonella":MAILTO:mmgonella@hotmail.com
END:VEVENT
BEGIN:VEVENT
DTSTART;TZID=Australia/Melbourne:20191113T071500
DTEND;TZID=Australia/Melbourne:20191113T210000
DTSTAMP:20260424T211936
CREATED:20190910T102508Z
LAST-MODIFIED:20190910T102508Z
UID:4813-1573629300-1573678800@celebrationdayforgirls.com
SUMMARY:Mother's Session\, Bendigo\, VIC
DESCRIPTION:Places are available for this event.
URL:https://celebrationdayforgirls.com/event/mothers-session-bendigo-vic/
LOCATION:Bendigo\, Bendigo\, Australia
ORGANIZER;CN="Rachel Pilgrim":MAILTO:rachel.pilgrim@yahoo.com
END:VEVENT
BEGIN:VEVENT
DTSTART;TZID=UTC:20191110T100000
DTEND;TZID=UTC:20191110T160000
DTSTAMP:20260424T211936
CREATED:20191105T111344Z
LAST-MODIFIED:20191105T111344Z
UID:4916-1573380000-1573401600@celebrationdayforgirls.com
SUMMARY:Celebration Day for Girls\, Bonn\, Germany
DESCRIPTION:This event is now full.
URL:https://celebrationdayforgirls.com/event/celebration-day-for-girls-bonn-germany-5/
LOCATION:Bonn\, Germany
ORGANIZER;CN="Kelly Kuypers":MAILTO:kelly_kuypers@hotmail.com
END:VEVENT
BEGIN:VEVENT
DTSTART;TZID=UTC:20191110T100000
DTEND;TZID=UTC:20191110T160000
DTSTAMP:20260424T211936
CREATED:20190909T160846Z
LAST-MODIFIED:20190909T160846Z
UID:4802-1573380000-1573401600@celebrationdayforgirls.com
SUMMARY:Celebration Day for Girls\, Cornwall\, UK
DESCRIPTION:Places are available for this event\, please contact the organiser for more information and booking.
URL:https://celebrationdayforgirls.com/event/celebration-day-for-girls-cornwall-uk-2/
LOCATION:Falmouth\, Cornwall\, United Kingdom
ORGANIZER;CN="Victoria Dufour":MAILTO:victoria@natureandme.co.uk
END:VEVENT
BEGIN:VEVENT
DTSTART;TZID=UTC:20191108T190000
DTEND;TZID=UTC:20191108T210000
DTSTAMP:20260424T211936
CREATED:20190909T160956Z
LAST-MODIFIED:20190909T160956Z
UID:4804-1573239600-1573246800@celebrationdayforgirls.com
SUMMARY:Mothers Session\, Cornwall\, UK
DESCRIPTION:This is for the Celebration Day on 10/11/19\, please contact the organiser for more information.
URL:https://celebrationdayforgirls.com/event/mothers-session-cornwall-uk-2/
LOCATION:Falmouth\, Cornwall\, United Kingdom
ORGANIZER;CN="Victoria Dufour":MAILTO:victoria@natureandme.co.uk
END:VEVENT
BEGIN:VEVENT
DTSTART;TZID=Australia/Melbourne:20191027T100000
DTEND;TZID=Australia/Melbourne:20191027T160000
DTSTAMP:20260424T211936
CREATED:20190815T104135Z
LAST-MODIFIED:20190815T104135Z
UID:4783-1572170400-1572192000@celebrationdayforgirls.com
SUMMARY:Celebration Day for Girls\, Alphington/Ivanhoe\, VIC
DESCRIPTION:Places are available for this event.
URL:https://celebrationdayforgirls.com/event/celebration-day-for-girls-alphington-ivanhoe-vic/
LOCATION:Alphington\, Alphington\, Australia
ORGANIZER;CN="Janoel Liddy":MAILTO:contact.janoel@gmail.com
END:VEVENT
BEGIN:VEVENT
DTSTART;TZID=Australia/Melbourne:20191023T190000
DTEND;TZID=Australia/Melbourne:20191023T210000
DTSTAMP:20260424T211936
CREATED:20190815T104305Z
LAST-MODIFIED:20190815T104305Z
UID:4786-1571857200-1571864400@celebrationdayforgirls.com
SUMMARY:Mother's Session\, Alphington/Ivanhoe\, VIC
DESCRIPTION:Places are available for this event.
URL:https://celebrationdayforgirls.com/event/mothers-session-alphington-ivanhoe-vic/
LOCATION:Alphington\, Alphington\, Australia
ORGANIZER;CN="Janoel Liddy":MAILTO:contact.janoel@gmail.com
END:VEVENT
BEGIN:VEVENT
DTSTART;TZID=Australia/Melbourne:20191020T100000
DTEND;TZID=Australia/Melbourne:20191020T160000
DTSTAMP:20260424T211936
CREATED:20190823T104830Z
LAST-MODIFIED:20190823T104830Z
UID:4789-1571565600-1571587200@celebrationdayforgirls.com
SUMMARY:Celebration Day for Girls\, Doncaster\, VIC
DESCRIPTION:Places are available for this event.
URL:https://celebrationdayforgirls.com/event/celebration-day-for-girls-doncaster-vic/
LOCATION:Doncaster\, Doncaster\, Victoria\, Australia
ORGANIZER;CN="Charlotte Young":MAILTO:charlotteyoung007@gmail.com
END:VEVENT
BEGIN:VEVENT
DTSTART;TZID=UTC:20191019T100000
DTEND;TZID=UTC:20191019T160000
DTSTAMP:20260424T211936
CREATED:20190922T202137Z
LAST-MODIFIED:20190922T202137Z
UID:4830-1571479200-1571500800@celebrationdayforgirls.com
SUMMARY:Celebration Day for Girls\, Antwerp\, Belgium
DESCRIPTION:Places are available for this event. Please contact the organiser for more information.
URL:https://celebrationdayforgirls.com/event/celebration-day-for-girls-antwerp-belgium/
LOCATION:Antwerpen\, Belgium
ORGANIZER;CN="Lien Van Camp":MAILTO:lienvancamp@gmail.com
END:VEVENT
BEGIN:VEVENT
DTSTART;TZID=Europe/Madrid:20191019T100000
DTEND;TZID=Europe/Madrid:20191019T160000
DTSTAMP:20260424T211936
CREATED:20190919T101402Z
LAST-MODIFIED:20190919T101402Z
UID:4824-1571479200-1571500800@celebrationdayforgirls.com
SUMMARY:Celebration Day for Girls\, Malaga\, Spain
DESCRIPTION:Places are available for this event.
URL:https://celebrationdayforgirls.com/event/celebration-day-for-girls-malaga-spain/
LOCATION:Malaga\, Spain\, Malaga\, Spain
ORGANIZER;CN="Mariana Zavery":MAILTO:sprout@astralize.com
END:VEVENT
BEGIN:VEVENT
DTSTART;TZID=UTC:20191019T100000
DTEND;TZID=UTC:20191019T160000
DTSTAMP:20260424T211936
CREATED:20190909T161432Z
LAST-MODIFIED:20190909T161432Z
UID:4806-1571479200-1571500800@celebrationdayforgirls.com
SUMMARY:Celebration Day for Girls\, Marbella\, Spain
DESCRIPTION:Places are available for this event\, please contact the organiser for more information.
URL:https://celebrationdayforgirls.com/event/celebration-day-for-girls-marbella-spain-7/
LOCATION:Marbella\, Spain
ORGANIZER;CN="Mariana Zavery":MAILTO:sprout@astralize.com
END:VEVENT
BEGIN:VEVENT
DTSTART;TZID=Australia/Melbourne:20191019T100000
DTEND;TZID=Australia/Melbourne:20191019T160000
DTSTAMP:20260424T211936
CREATED:20190806T104027Z
LAST-MODIFIED:20190806T104027Z
UID:4752-1571479200-1571500800@celebrationdayforgirls.com
SUMMARY:Celebration Day for Girls\, Balnarring\, VIC
DESCRIPTION:Places are available for this event.
URL:https://celebrationdayforgirls.com/event/celebration-day-for-girls-balnarring-vic/
LOCATION:Balnarring\, Balnarring\, Victoria\, Australia
ORGANIZER;CN="Rebekah Popplewell":MAILTO:merakicircles@gmail.com
END:VEVENT
BEGIN:VEVENT
DTSTART;TZID=Pacific/Auckland:20191019T100000
DTEND;TZID=Pacific/Auckland:20191019T160000
DTSTAMP:20260424T211936
CREATED:20190513T103053Z
LAST-MODIFIED:20190513T103053Z
UID:4669-1571479200-1571500800@celebrationdayforgirls.com
SUMMARY:Celebration Day for Girls\, Hamner\, New Zealand
DESCRIPTION:This is a closed group. Please contact the facilitator for future events.
URL:https://celebrationdayforgirls.com/event/celebration-day-for-girls-hamner-new-zealand/
LOCATION:Hamner\, Hamner\, New Zealand
ORGANIZER;CN="Angela Fraser":MAILTO:angelafrasernz@gmail.com
END:VEVENT
BEGIN:VEVENT
DTSTART;TZID=UTC:20191018T190000
DTEND;TZID=UTC:20191018T210000
DTSTAMP:20260424T211936
CREATED:20190909T161553Z
LAST-MODIFIED:20190909T161553Z
UID:4808-1571425200-1571432400@celebrationdayforgirls.com
SUMMARY:Mothers Session\, Marbella\, Spain
DESCRIPTION:This is for the Celebration Day on 19/10/19\, please contact the organiser for more information.
URL:https://celebrationdayforgirls.com/event/mothers-session-marbella-spain-6/
LOCATION:Marbella\, Spain
ORGANIZER;CN="Mariana Zavery":MAILTO:sprout@astralize.com
END:VEVENT
BEGIN:VEVENT
DTSTART;TZID=Pacific/Auckland:20191018T190000
DTEND;TZID=Pacific/Auckland:20191018T210000
DTSTAMP:20260424T211936
CREATED:20190513T103226Z
LAST-MODIFIED:20190513T103226Z
UID:4672-1571425200-1571432400@celebrationdayforgirls.com
SUMMARY:Mother's Session\, Hamner\, New Zealand
DESCRIPTION:This is a closed group.
URL:https://celebrationdayforgirls.com/event/mothers-session-hamner-new-zealand/
LOCATION:Hamner\, Hamner\, New Zealand
ORGANIZER;CN="Angela Fraser":MAILTO:angelafrasernz@gmail.com
END:VEVENT
BEGIN:VEVENT
DTSTART;TZID=UTC:20191017T190000
DTEND;TZID=UTC:20191017T210000
DTSTAMP:20260424T211936
CREATED:20190922T202345Z
LAST-MODIFIED:20190922T202345Z
UID:4832-1571338800-1571346000@celebrationdayforgirls.com
SUMMARY:Mothers Session\, Antwerp\, Belgium
DESCRIPTION:This is for the Celebration Day on the 19th October. Please contact the organiser for more information.
URL:https://celebrationdayforgirls.com/event/mothers-session-antwerp-belgium/
LOCATION:Antwerpen\, Belgium
ORGANIZER;CN="Lien Van Camp":MAILTO:lienvancamp@gmail.com
END:VEVENT
BEGIN:VEVENT
DTSTART;TZID=Australia/Melbourne:20191017T190000
DTEND;TZID=Australia/Melbourne:20191017T210000
DTSTAMP:20260424T211936
CREATED:20190806T104141Z
LAST-MODIFIED:20190806T104141Z
UID:4756-1571338800-1571346000@celebrationdayforgirls.com
SUMMARY:Mother's Session\, Balnarring\, VIC
DESCRIPTION:Places are available for this event.
URL:https://celebrationdayforgirls.com/event/mothers-session-balnarring-vic/
LOCATION:Balnarring\, Balnarring\, Victoria\, Australia
ORGANIZER;CN="Rebekah Popplewell":MAILTO:merakicircles@gmail.com
END:VEVENT
BEGIN:VEVENT
DTSTART;TZID=Australia/Melbourne:20191014T190000
DTEND;TZID=Australia/Melbourne:20191014T210000
DTSTAMP:20260424T211936
CREATED:20190823T104955Z
LAST-MODIFIED:20190823T104955Z
UID:4792-1571079600-1571086800@celebrationdayforgirls.com
SUMMARY:Mother's Session\, Doncaster\, VIC
DESCRIPTION:Places are available for this event.
URL:https://celebrationdayforgirls.com/event/mothers-session-doncaster-vic/
LOCATION:Doncaster\, Doncaster\, Victoria\, Australia
ORGANIZER;CN="Charlotte Young":MAILTO:charlotteyoung007@gmail.com
END:VEVENT
BEGIN:VEVENT
DTSTART;TZID=Australia/Melbourne:20191013T100000
DTEND;TZID=Australia/Melbourne:20191013T160000
DTSTAMP:20260424T211936
CREATED:20190815T103713Z
LAST-MODIFIED:20190815T103713Z
UID:4778-1570960800-1570982400@celebrationdayforgirls.com
SUMMARY:Celebration Day for Girls\, Pascoe Vale\, VIC
DESCRIPTION:Places are available for this event.
URL:https://celebrationdayforgirls.com/event/celebration-day-for-girls-pascoe-vale-vic/
LOCATION:Pascoe Vale\, Pascoe Vale\, Victoria\, Australia
ORGANIZER;CN="Janoel Liddy":MAILTO:contact.janoel@gmail.com
END:VEVENT
BEGIN:VEVENT
DTSTART;TZID=America/Vancouver:20191012T100000
DTEND;TZID=America/Vancouver:20191012T160000
DTSTAMP:20260424T211936
CREATED:20190814T104655Z
LAST-MODIFIED:20190908T100711Z
UID:4765-1570874400-1570896000@celebrationdayforgirls.com
SUMMARY:Celebration Day for Girls\, North Vancouver\, Canada
DESCRIPTION:Places are available for this event.
URL:https://celebrationdayforgirls.com/event/celebration-day-for-girls-vancouver-canada/
LOCATION:Vancouver\, Vancouver\, Canada
ORGANIZER;CN="Rachel Pilgrim":MAILTO:rachel.pilgrim@yahoo.com
END:VEVENT
BEGIN:VEVENT
DTSTART;TZID=America/Vancouver:20191011T100000
DTEND;TZID=America/Vancouver:20191011T160000
DTSTAMP:20260424T211936
CREATED:20190926T112419Z
LAST-MODIFIED:20190926T112535Z
UID:4854-1570788000-1570809600@celebrationdayforgirls.com
SUMMARY:Celebration Day for Girls\, North Vancouver\, Canada
DESCRIPTION:Places are available for this event. Please use the following booking link: https://www.eventbrite.com.au/e/a-celebration-day-for-girls-north-vancouver-saturday-12th-october-2019-tickets-61924484801
URL:https://celebrationdayforgirls.com/event/celebration-day-for-girls-north-vancouver-canada/
LOCATION:North Vancouver\, Kahlena Movement Studio\, North Vancouver\, Canada
ORGANIZER;CN="Rachel Pilgrim":MAILTO:rachel.pilgrim@yahoo.com
END:VEVENT
BEGIN:VEVENT
DTSTART;TZID=Australia/Melbourne:20191010T190000
DTEND;TZID=Australia/Melbourne:20191010T210000
DTSTAMP:20260424T211936
CREATED:20190815T103903Z
LAST-MODIFIED:20190815T103903Z
UID:4781-1570734000-1570741200@celebrationdayforgirls.com
SUMMARY:Mother's Session\, Pascoe Vale\, VIC
DESCRIPTION:Places are available for this event.
URL:https://celebrationdayforgirls.com/event/mothers-session-pascoe-vale-vic/
LOCATION:Pascoe Vale\, Pascoe Vale\, Victoria\, Australia
ORGANIZER;CN="Janoel Liddy":MAILTO:contact.janoel@gmail.com
END:VEVENT
BEGIN:VEVENT
DTSTART;TZID=America/Vancouver:20191008T190000
DTEND;TZID=America/Vancouver:20191008T210000
DTSTAMP:20260424T211936
CREATED:20190926T112245Z
LAST-MODIFIED:20190926T112245Z
UID:4847-1570561200-1570568400@celebrationdayforgirls.com
SUMMARY:Mother's Session\, North Vancouver\, Canada
DESCRIPTION:Places are available for this event.
URL:https://celebrationdayforgirls.com/event/mothers-session-north-vancouver-canada/
LOCATION:North Vancouver\, Kahlena Movement Studio\, North Vancouver\, Canada
ORGANIZER;CN="Rachel Pilgrim":MAILTO:rachel.pilgrim@yahoo.com
END:VEVENT
BEGIN:VEVENT
DTSTART;TZID=America/Vancouver:20191007T193000
DTEND;TZID=America/Vancouver:20191007T213000
DTSTAMP:20260424T211936
CREATED:20190814T105500Z
LAST-MODIFIED:20190926T112700Z
UID:4772-1570476600-1570483800@celebrationdayforgirls.com
SUMMARY:Mother's Session\, North Vancouver\, Canada
DESCRIPTION:Places are available for this event.
URL:https://celebrationdayforgirls.com/event/mothers-session-vancouver-canada/
LOCATION:Vancouver\, Vancouver\, Canada
ORGANIZER;CN="Rachel Pilgrim":MAILTO:rachel.pilgrim@yahoo.com
END:VEVENT
BEGIN:VEVENT
DTSTART;TZID=UTC:20191006T100000
DTEND;TZID=UTC:20191006T160000
DTSTAMP:20260424T211936
CREATED:20190916T092230Z
LAST-MODIFIED:20190918T100555Z
UID:4816-1570356000-1570377600@celebrationdayforgirls.com
SUMMARY:Celebration Day for Girls\, Walthamstow\, UK
DESCRIPTION:Places are available for this event\, please contact the organiser for more information.
URL:https://celebrationdayforgirls.com/event/celebration-day-for-girls-london-uk-10/
LOCATION:Walthamstow
ORGANIZER;CN="Elena Riu":MAILTO:elenariu@easynet.co.uk
END:VEVENT
BEGIN:VEVENT
DTSTART;TZID=UTC:20191005T183000
DTEND;TZID=UTC:20191005T203000
DTSTAMP:20260424T211936
CREATED:20190916T092335Z
LAST-MODIFIED:20190918T100605Z
UID:4819-1570300200-1570307400@celebrationdayforgirls.com
SUMMARY:Mothers Session\, Walthamstow\, UK
DESCRIPTION:This is for the Celebration Day on the 6th October\, please contact the organiser for more details and to book.
URL:https://celebrationdayforgirls.com/event/mothers-session-london-uk-8/
LOCATION:Walthamstow
ORGANIZER;CN="Elena Riu":MAILTO:elenariu@easynet.co.uk
END:VEVENT
BEGIN:VEVENT
DTSTART;TZID=Europe/London:20190929T100000
DTEND;TZID=Europe/London:20190929T160000
DTSTAMP:20260424T211936
CREATED:20190730T094440Z
LAST-MODIFIED:20190730T094440Z
UID:4736-1569751200-1569772800@celebrationdayforgirls.com
SUMMARY:Celebration Day for Girls\, Wasin\, UK
DESCRIPTION:Places are available for this event.
URL:https://celebrationdayforgirls.com/event/celebration-day-for-girls-wasin-uk/
LOCATION:Wasin\, Wasin (near Reading)\, United Kingdom
ORGANIZER;CN="Tessa Sanderson":MAILTO:hello@tessayoga.co.uk
END:VEVENT
BEGIN:VEVENT
DTSTART;TZID=UTC:20190928T100000
DTEND;TZID=UTC:20190928T160000
DTSTAMP:20260424T211936
CREATED:20190708T092622Z
LAST-MODIFIED:20190708T092622Z
UID:4713-1569664800-1569686400@celebrationdayforgirls.com
SUMMARY:Celebration Day for Girls\, Colwall\, Malvern\, UK
DESCRIPTION:There are places available for this event\, please contact the organiser for more details.
URL:https://celebrationdayforgirls.com/event/celebration-day-for-girls-colwall-malvern-uk/
LOCATION:Colwall\, Malvern
ORGANIZER;CN="Elena Riu":MAILTO:elenariu@easynet.co.uk
END:VEVENT
BEGIN:VEVENT
DTSTART;TZID=UTC:20190927T070000
DTEND;TZID=UTC:20190927T210000
DTSTAMP:20260424T211936
CREATED:20190708T092741Z
LAST-MODIFIED:20190708T092741Z
UID:4717-1569567600-1569618000@celebrationdayforgirls.com
SUMMARY:Mothers Session\, Colwall\, Malvern\, UK
DESCRIPTION:This is for the Celebration Day on 28/9/19\, please contact the organiser for more details.
URL:https://celebrationdayforgirls.com/event/mothers-session-colwall-malvern-uk/
LOCATION:Colwall\, Malvern
ORGANIZER;CN="Elena Riu":MAILTO:elenariu@easynet.co.uk
END:VEVENT
END:VCALENDAR