BEGIN:VCALENDAR
VERSION:2.0
PRODID:-//Celebration Day For Girls - ECPv6.15.20//NONSGML v1.0//EN
CALSCALE:GREGORIAN
METHOD:PUBLISH
X-WR-CALNAME:Celebration Day For Girls
X-ORIGINAL-URL:https://celebrationdayforgirls.com
X-WR-CALDESC:Events for Celebration Day For Girls
REFRESH-INTERVAL;VALUE=DURATION:PT1H
X-Robots-Tag:noindex
X-PUBLISHED-TTL:PT1H
BEGIN:VTIMEZONE
TZID:Australia/Sydney
BEGIN:STANDARD
TZOFFSETFROM:+1100
TZOFFSETTO:+1000
TZNAME:AEST
DTSTART:20160402T160000
END:STANDARD
BEGIN:DAYLIGHT
TZOFFSETFROM:+1000
TZOFFSETTO:+1100
TZNAME:AEDT
DTSTART:20161001T160000
END:DAYLIGHT
BEGIN:STANDARD
TZOFFSETFROM:+1100
TZOFFSETTO:+1000
TZNAME:AEST
DTSTART:20170401T160000
END:STANDARD
BEGIN:DAYLIGHT
TZOFFSETFROM:+1000
TZOFFSETTO:+1100
TZNAME:AEDT
DTSTART:20170930T160000
END:DAYLIGHT
BEGIN:STANDARD
TZOFFSETFROM:+1100
TZOFFSETTO:+1000
TZNAME:AEST
DTSTART:20180331T160000
END:STANDARD
BEGIN:DAYLIGHT
TZOFFSETFROM:+1000
TZOFFSETTO:+1100
TZNAME:AEDT
DTSTART:20181006T160000
END:DAYLIGHT
END:VTIMEZONE
BEGIN:VTIMEZONE
TZID:Australia/Melbourne
BEGIN:STANDARD
TZOFFSETFROM:+1100
TZOFFSETTO:+1000
TZNAME:AEST
DTSTART:20160402T160000
END:STANDARD
BEGIN:DAYLIGHT
TZOFFSETFROM:+1000
TZOFFSETTO:+1100
TZNAME:AEDT
DTSTART:20161001T160000
END:DAYLIGHT
BEGIN:STANDARD
TZOFFSETFROM:+1100
TZOFFSETTO:+1000
TZNAME:AEST
DTSTART:20170401T160000
END:STANDARD
BEGIN:DAYLIGHT
TZOFFSETFROM:+1000
TZOFFSETTO:+1100
TZNAME:AEDT
DTSTART:20170930T160000
END:DAYLIGHT
BEGIN:STANDARD
TZOFFSETFROM:+1100
TZOFFSETTO:+1000
TZNAME:AEST
DTSTART:20180331T160000
END:STANDARD
BEGIN:DAYLIGHT
TZOFFSETFROM:+1000
TZOFFSETTO:+1100
TZNAME:AEDT
DTSTART:20181006T160000
END:DAYLIGHT
END:VTIMEZONE
BEGIN:VTIMEZONE
TZID:UTC
BEGIN:STANDARD
TZOFFSETFROM:+0000
TZOFFSETTO:+0000
TZNAME:UTC
DTSTART:20160101T000000
END:STANDARD
END:VTIMEZONE
BEGIN:VTIMEZONE
TZID:UTC
BEGIN:STANDARD
TZOFFSETFROM:+0000
TZOFFSETTO:+0000
TZNAME:UTC
DTSTART:20160101T000000
END:STANDARD
END:VTIMEZONE
BEGIN:VEVENT
DTSTART;TZID=Australia/Sydney:20170426T100000
DTEND;TZID=Australia/Sydney:20170426T160000
DTSTAMP:20260425T163814
CREATED:20170409T124703Z
LAST-MODIFIED:20170409T124703Z
UID:2295-1493200800-1493222400@celebrationdayforgirls.com
SUMMARY:Mother's Session\, Albury/Wodonga\, NSW
DESCRIPTION:This is a class event.
URL:https://celebrationdayforgirls.com/event/mothers-session-alburywodonga-nsw-2/
LOCATION:albury/wodonga\, Albury/Wodonga\, New South Wales\, Australia
ORGANIZER;CN="Cathy Giltrap":MAILTO:cathy@celebrationday.me
END:VEVENT
BEGIN:VEVENT
DTSTART;TZID=Australia/Sydney:20170426T100000
DTEND;TZID=Australia/Sydney:20170426T160000
DTSTAMP:20260425T163814
CREATED:20170409T124703Z
LAST-MODIFIED:20170409T124703Z
UID:3498-1493200800-1493222400@celebrationdayforgirls.com
SUMMARY:Mother's Session\, Albury/Wodonga\, NSW
DESCRIPTION:This is a class event.
URL:https://celebrationdayforgirls.com/event/mothers-session-alburywodonga-nsw-2-2/
LOCATION:albury/wodonga\, Albury/Wodonga\, New South Wales\, Australia
ORGANIZER;CN="Cathy Giltrap":MAILTO:cathy@celebrationday.me
END:VEVENT
BEGIN:VEVENT
DTSTART;TZID=Australia/Melbourne:20170423T100000
DTEND;TZID=Australia/Melbourne:20170423T160000
DTSTAMP:20260425T163814
CREATED:20170402T113047Z
LAST-MODIFIED:20170402T113047Z
UID:2265-1492941600-1492963200@celebrationdayforgirls.com
SUMMARY:Celebration Day for Girls\, Freshwater Creek\, VIC
DESCRIPTION:This is a class event.
URL:https://celebrationdayforgirls.com/event/celebration-day-for-girls-freshwater-creek-vic/
LOCATION:Freshwater Creek Steiner School\, Victoria\, Australia
ORGANIZER;CN="Ingrid Petterson":MAILTO:artmedicine@ymail.com
END:VEVENT
BEGIN:VEVENT
DTSTART;TZID=Australia/Melbourne:20170423T100000
DTEND;TZID=Australia/Melbourne:20170423T160000
DTSTAMP:20260425T163814
CREATED:20170402T113047Z
LAST-MODIFIED:20170402T113047Z
UID:3485-1492941600-1492963200@celebrationdayforgirls.com
SUMMARY:Celebration Day for Girls\, Freshwater Creek\, VIC
DESCRIPTION:This is a class event.
URL:https://celebrationdayforgirls.com/event/celebration-day-for-girls-freshwater-creek-vic-3/
LOCATION:Freshwater Creek Steiner School\, Victoria\, Australia
ORGANIZER;CN="Ingrid Petterson":MAILTO:artmedicine@ymail.com
END:VEVENT
BEGIN:VEVENT
DTSTART;TZID=UTC:20170423T100000
DTEND;TZID=UTC:20170423T160000
DTSTAMP:20260425T163814
CREATED:20170321T185011Z
LAST-MODIFIED:20170321T185011Z
UID:3476-1492941600-1492963200@celebrationdayforgirls.com
SUMMARY:Celebration Day for Girls\, Dunedin\, New Zealand
DESCRIPTION:There are places available for this event
URL:https://celebrationdayforgirls.com/event/celebration-day-for-girls-dunedin-new-zealand-2/
ORGANIZER;CN="Tracy Botica":MAILTO:tracybotica@gmail.com
END:VEVENT
BEGIN:VEVENT
DTSTART;TZID=UTC:20170423T100000
DTEND;TZID=UTC:20170423T160000
DTSTAMP:20260425T163814
CREATED:20170321T185011Z
LAST-MODIFIED:20170321T185011Z
UID:2243-1492941600-1492963200@celebrationdayforgirls.com
SUMMARY:Celebration Day for Girls\, Dunedin\, New Zealand
DESCRIPTION:There are places available for this event
URL:https://celebrationdayforgirls.com/event/celebration-day-for-girls-dunedin-new-zealand/
ORGANIZER;CN="Tracy Botica":MAILTO:tracybotica@gmail.com
END:VEVENT
BEGIN:VEVENT
DTSTART;TZID=UTC:20170423T100000
DTEND;TZID=UTC:20170423T160000
DTSTAMP:20260425T163814
CREATED:20170224T070905Z
LAST-MODIFIED:20170224T070905Z
UID:3465-1492941600-1492963200@celebrationdayforgirls.com
SUMMARY:Celebration Day for Girls\, East Brunswick\, VIC
DESCRIPTION:There are places available for this event
URL:https://celebrationdayforgirls.com/event/celebration-day-for-girls-east-brunswick-vic-2-2/
ORGANIZER;CN="Janoel Liddy":MAILTO:contact.janoel@gmail.com or jac@crimsonmovement.com
END:VEVENT
BEGIN:VEVENT
DTSTART;TZID=UTC:20170423T100000
DTEND;TZID=UTC:20170423T160000
DTSTAMP:20260425T163814
CREATED:20170224T070905Z
LAST-MODIFIED:20170224T070905Z
UID:2211-1492941600-1492963200@celebrationdayforgirls.com
SUMMARY:Celebration Day for Girls\, East Brunswick\, VIC
DESCRIPTION:There are places available for this event
URL:https://celebrationdayforgirls.com/event/celebration-day-for-girls-east-brunswick-vic-2/
ORGANIZER;CN="Janoel Liddy":MAILTO:contact.janoel@gmail.com or jac@crimsonmovement.com
END:VEVENT
BEGIN:VEVENT
DTSTART;TZID=Australia/Melbourne:20170422T190000
DTEND;TZID=Australia/Melbourne:20170422T210000
DTSTAMP:20260425T163814
CREATED:20170402T112738Z
LAST-MODIFIED:20170402T112738Z
UID:3484-1492887600-1492894800@celebrationdayforgirls.com
SUMMARY:Fathers Celebrating Daughters\, Freshwater Creek\, VIC
DESCRIPTION:This is a class event.
URL:https://celebrationdayforgirls.com/event/fathers-celebrating-daughters-freshwater-creek-vic-3/
LOCATION:Freshwater Creek Steiner School\, Victoria\, Australia
ORGANIZER;CN="Ingrid Petterson":MAILTO:artmedicine@ymail.com
END:VEVENT
BEGIN:VEVENT
DTSTART;TZID=Australia/Melbourne:20170422T190000
DTEND;TZID=Australia/Melbourne:20170422T210000
DTSTAMP:20260425T163814
CREATED:20170402T112738Z
LAST-MODIFIED:20170402T112738Z
UID:2262-1492887600-1492894800@celebrationdayforgirls.com
SUMMARY:Fathers Celebrating Daughters\, Freshwater Creek\, VIC
DESCRIPTION:This is a class event.
URL:https://celebrationdayforgirls.com/event/fathers-celebrating-daughters-freshwater-creek-vic/
LOCATION:Freshwater Creek Steiner School\, Victoria\, Australia
ORGANIZER;CN="Ingrid Petterson":MAILTO:artmedicine@ymail.com
END:VEVENT
BEGIN:VEVENT
DTSTART;TZID=Australia/Melbourne:20170422T190000
DTEND;TZID=Australia/Melbourne:20170422T210000
DTSTAMP:20260425T163814
CREATED:20170402T112550Z
LAST-MODIFIED:20170402T112550Z
UID:3483-1492887600-1492894800@celebrationdayforgirls.com
SUMMARY:Mother's Session\, Freshwater Creek\, VIC
DESCRIPTION:This is a class event.
URL:https://celebrationdayforgirls.com/event/mothers-session-freshwater-creek-vic-3/
LOCATION:Freshwater Creek Steiner School\, Victoria\, Australia
ORGANIZER;CN="Ingrid Petterson":MAILTO:artmedicine@ymail.com
END:VEVENT
BEGIN:VEVENT
DTSTART;TZID=Australia/Melbourne:20170422T190000
DTEND;TZID=Australia/Melbourne:20170422T210000
DTSTAMP:20260425T163814
CREATED:20170402T112550Z
LAST-MODIFIED:20170402T112550Z
UID:2260-1492887600-1492894800@celebrationdayforgirls.com
SUMMARY:Mother's Session\, Freshwater Creek\, VIC
DESCRIPTION:This is a class event.
URL:https://celebrationdayforgirls.com/event/mothers-session-freshwater-creek-vic/
LOCATION:Freshwater Creek Steiner School\, Victoria\, Australia
ORGANIZER;CN="Ingrid Petterson":MAILTO:artmedicine@ymail.com
END:VEVENT
BEGIN:VEVENT
DTSTART;TZID=UTC:20170422T190000
DTEND;TZID=UTC:20170422T210000
DTSTAMP:20260425T163814
CREATED:20170321T184900Z
LAST-MODIFIED:20170321T184900Z
UID:3475-1492887600-1492894800@celebrationdayforgirls.com
SUMMARY:Mother's Preparation Session\, Dunedin\, New Zealand
DESCRIPTION:There are places available for this event
URL:https://celebrationdayforgirls.com/event/mothers-preparation-session-dunedin-new-zealand-2/
ORGANIZER;CN="Tracy Botica":MAILTO:tracybotica@gmail.com
END:VEVENT
BEGIN:VEVENT
DTSTART;TZID=UTC:20170422T190000
DTEND;TZID=UTC:20170422T210000
DTSTAMP:20260425T163814
CREATED:20170321T184900Z
LAST-MODIFIED:20170321T184900Z
UID:2240-1492887600-1492894800@celebrationdayforgirls.com
SUMMARY:Mother's Preparation Session\, Dunedin\, New Zealand
DESCRIPTION:There are places available for this event
URL:https://celebrationdayforgirls.com/event/mothers-preparation-session-dunedin-new-zealand/
ORGANIZER;CN="Tracy Botica":MAILTO:tracybotica@gmail.com
END:VEVENT
BEGIN:VEVENT
DTSTART;TZID=UTC:20170419T190000
DTEND;TZID=UTC:20170419T210000
DTSTAMP:20260425T163814
CREATED:20170305T004717Z
LAST-MODIFIED:20170305T004717Z
UID:2224-1492628400-1492635600@celebrationdayforgirls.com
SUMMARY:Mother's Preparation Session\, East Brunswick\, VIC
DESCRIPTION:There are places available for this event
URL:https://celebrationdayforgirls.com/event/mothers-preparation-session-east-brunswick-vic/
END:VEVENT
BEGIN:VEVENT
DTSTART;TZID=UTC:20170419T190000
DTEND;TZID=UTC:20170419T210000
DTSTAMP:20260425T163814
CREATED:20170305T004717Z
LAST-MODIFIED:20170305T004717Z
UID:3471-1492628400-1492635600@celebrationdayforgirls.com
SUMMARY:Mother's Preparation Session\, East Brunswick\, VIC
DESCRIPTION:There are places available for this event
URL:https://celebrationdayforgirls.com/event/mothers-preparation-session-east-brunswick-vic-2/
END:VEVENT
BEGIN:VEVENT
DTSTART;TZID=Australia/Melbourne:20170326T100000
DTEND;TZID=Australia/Melbourne:20170326T160000
DTSTAMP:20260425T163814
CREATED:20170402T113956Z
LAST-MODIFIED:20170402T113956Z
UID:3489-1490522400-1490544000@celebrationdayforgirls.com
SUMMARY:Celebration Day for Girls\, Torquay\, VIC
DESCRIPTION:Places are available for this event.
URL:https://celebrationdayforgirls.com/event/celebration-day-for-girls-torquay-vic-5-2/
LOCATION:Torquay\, Victoria\, Victoria\, Australia
ORGANIZER;CN="Michelle Buggy":MAILTO:informemotion@gmail.com
END:VEVENT
BEGIN:VEVENT
DTSTART;TZID=Australia/Melbourne:20170326T100000
DTEND;TZID=Australia/Melbourne:20170326T160000
DTSTAMP:20260425T163814
CREATED:20170402T113956Z
LAST-MODIFIED:20170402T113956Z
UID:2273-1490522400-1490544000@celebrationdayforgirls.com
SUMMARY:Celebration Day for Girls\, Torquay\, VIC
DESCRIPTION:Places are available for this event.
URL:https://celebrationdayforgirls.com/event/celebration-day-for-girls-torquay-vic-5/
LOCATION:Torquay\, Victoria\, Victoria\, Australia
ORGANIZER;CN="Michelle Buggy":MAILTO:informemotion@gmail.com
END:VEVENT
BEGIN:VEVENT
DTSTART;TZID=Australia/Melbourne:20170326T100000
DTEND;TZID=Australia/Melbourne:20170326T160000
DTSTAMP:20260425T163814
CREATED:20170402T112142Z
LAST-MODIFIED:20170402T112142Z
UID:3482-1490522400-1490544000@celebrationdayforgirls.com
SUMMARY:Celebration Day for Girls\, Geelong\, VIC
DESCRIPTION:Places are available for this event.
URL:https://celebrationdayforgirls.com/event/celebration-day-for-girls-geelong-vic-3-2/
LOCATION:Geelong\, Geelong\, Victoria\, Australia
ORGANIZER;CN="Ingrid Petterson":MAILTO:artmedicine@ymail.com
END:VEVENT
BEGIN:VEVENT
DTSTART;TZID=Australia/Melbourne:20170326T100000
DTEND;TZID=Australia/Melbourne:20170326T160000
DTSTAMP:20260425T163814
CREATED:20170402T112142Z
LAST-MODIFIED:20170402T112142Z
UID:2258-1490522400-1490544000@celebrationdayforgirls.com
SUMMARY:Celebration Day for Girls\, Geelong\, VIC
DESCRIPTION:Places are available for this event.
URL:https://celebrationdayforgirls.com/event/celebration-day-for-girls-geelong-vic-3/
LOCATION:Geelong\, Geelong\, Victoria\, Australia
ORGANIZER;CN="Ingrid Petterson":MAILTO:artmedicine@ymail.com
END:VEVENT
BEGIN:VEVENT
DTSTART;TZID=Australia/Melbourne:20170326T100000
DTEND;TZID=Australia/Melbourne:20170326T160000
DTSTAMP:20260425T163814
CREATED:20161107T104119Z
LAST-MODIFIED:20161107T104119Z
UID:3452-1490522400-1490544000@celebrationdayforgirls.com
SUMMARY:A Celebration Day for Girls\, Geelong\, VIC
DESCRIPTION:Places are available for this event.
URL:https://celebrationdayforgirls.com/event/a-celebration-day-for-girls-geelong-vic-3/
LOCATION:Geelong\, Victoria\, Australia
ORGANIZER;CN="Ingrid Petterson":MAILTO:artmedicine@ymail.com
END:VEVENT
BEGIN:VEVENT
DTSTART;TZID=Australia/Melbourne:20170326T100000
DTEND;TZID=Australia/Melbourne:20170326T160000
DTSTAMP:20260425T163814
CREATED:20161107T104119Z
LAST-MODIFIED:20161107T104119Z
UID:2156-1490522400-1490544000@celebrationdayforgirls.com
SUMMARY:A Celebration Day for Girls\, Geelong\, VIC
DESCRIPTION:Places are available for this event.
URL:https://celebrationdayforgirls.com/event/a-celebration-day-for-girls-geelong-vic/
LOCATION:Geelong\, Victoria\, Australia
ORGANIZER;CN="Ingrid Petterson":MAILTO:artmedicine@ymail.com
END:VEVENT
BEGIN:VEVENT
DTSTART;TZID=Australia/Melbourne:20170325T190000
DTEND;TZID=Australia/Melbourne:20170325T210000
DTSTAMP:20260425T163814
CREATED:20170402T111931Z
LAST-MODIFIED:20170402T111931Z
UID:3481-1490468400-1490475600@celebrationdayforgirls.com
SUMMARY:Fathers Celebrating Daughters\, Geelong\, VIC
DESCRIPTION:Places are available for this event.
URL:https://celebrationdayforgirls.com/event/fathers-celebrating-daughters-geelong-vic-3/
LOCATION:Geelong\, Geelong\, Victoria\, Australia
ORGANIZER;CN="Ingrid Petterson":MAILTO:artmedicine@ymail.com
END:VEVENT
BEGIN:VEVENT
DTSTART;TZID=Australia/Melbourne:20170325T190000
DTEND;TZID=Australia/Melbourne:20170325T210000
DTSTAMP:20260425T163814
CREATED:20170402T111931Z
LAST-MODIFIED:20170402T111931Z
UID:2256-1490468400-1490475600@celebrationdayforgirls.com
SUMMARY:Fathers Celebrating Daughters\, Geelong\, VIC
DESCRIPTION:Places are available for this event.
URL:https://celebrationdayforgirls.com/event/fathers-celebrating-daughters-geelong-vic/
LOCATION:Geelong\, Geelong\, Victoria\, Australia
ORGANIZER;CN="Ingrid Petterson":MAILTO:artmedicine@ymail.com
END:VEVENT
BEGIN:VEVENT
DTSTART;TZID=Australia/Melbourne:20170325T190000
DTEND;TZID=Australia/Melbourne:20170325T210000
DTSTAMP:20260425T163814
CREATED:20170402T111416Z
LAST-MODIFIED:20170402T111416Z
UID:2253-1490468400-1490475600@celebrationdayforgirls.com
SUMMARY:Mother's Session\, Geelong\, VIC
DESCRIPTION:Places are available for this event.
URL:https://celebrationdayforgirls.com/event/mothers-session-geelong-vic-3/
LOCATION:Geelong\, Geelong\, Victoria\, Australia
ORGANIZER;CN="Ingrid Petterson":MAILTO:artmedicine@ymail.com
END:VEVENT
BEGIN:VEVENT
DTSTART;TZID=Australia/Melbourne:20170325T190000
DTEND;TZID=Australia/Melbourne:20170325T210000
DTSTAMP:20260425T163814
CREATED:20170402T111416Z
LAST-MODIFIED:20170402T111416Z
UID:3480-1490468400-1490475600@celebrationdayforgirls.com
SUMMARY:Mother's Session\, Geelong\, VIC
DESCRIPTION:Places are available for this event.
URL:https://celebrationdayforgirls.com/event/mothers-session-geelong-vic-3-2/
LOCATION:Geelong\, Geelong\, Victoria\, Australia
ORGANIZER;CN="Ingrid Petterson":MAILTO:artmedicine@ymail.com
END:VEVENT
BEGIN:VEVENT
DTSTART;TZID=Australia/Melbourne:20170325T190000
DTEND;TZID=Australia/Melbourne:20170325T210000
DTSTAMP:20260425T163814
CREATED:20161108T100436Z
LAST-MODIFIED:20161108T100436Z
UID:3454-1490468400-1490475600@celebrationdayforgirls.com
SUMMARY:Mother's Session and Fathers Celebrating Daughters\, Geelong\, VIC
DESCRIPTION:Places are available for this event.
URL:https://celebrationdayforgirls.com/event/mothers-session-and-fathers-celebrating-daughters-geelong-vic-2/
LOCATION:Geelong\, Victoria\, Australia
ORGANIZER;CN="Ingrid Petterson":MAILTO:artmedicine@ymail.com
END:VEVENT
BEGIN:VEVENT
DTSTART;TZID=Australia/Melbourne:20170325T190000
DTEND;TZID=Australia/Melbourne:20170325T210000
DTSTAMP:20260425T163814
CREATED:20161108T100436Z
LAST-MODIFIED:20161108T100436Z
UID:2164-1490468400-1490475600@celebrationdayforgirls.com
SUMMARY:Mother's Session and Fathers Celebrating Daughters\, Geelong\, VIC
DESCRIPTION:Places are available for this event.
URL:https://celebrationdayforgirls.com/event/mothers-session-and-fathers-celebrating-daughters-geelong-vic/
LOCATION:Geelong\, Victoria\, Australia
ORGANIZER;CN="Ingrid Petterson":MAILTO:artmedicine@ymail.com
END:VEVENT
BEGIN:VEVENT
DTSTART;TZID=Australia/Sydney:20170325T100000
DTEND;TZID=Australia/Sydney:20170325T160000
DTSTAMP:20260425T163814
CREATED:20171111T090609Z
LAST-MODIFIED:20171111T090609Z
UID:3573-1490436000-1490457600@celebrationdayforgirls.com
SUMMARY:Celebration Day for Girls\, Brookvale\, NSW
DESCRIPTION:Places are available for this event.
URL:https://celebrationdayforgirls.com/event/celebration-day-for-girls-brookvale-nsw-2/
LOCATION:Brookvale\, Brookvale\, New South Wales\, Australia
ORGANIZER;CN="Monique Winderbaum":MAILTO:monique.winderbaum@gmail.com
END:VEVENT
BEGIN:VEVENT
DTSTART;TZID=Australia/Sydney:20170325T100000
DTEND;TZID=Australia/Sydney:20170325T160000
DTSTAMP:20260425T163814
CREATED:20171111T090609Z
LAST-MODIFIED:20171111T090609Z
UID:2626-1490436000-1490457600@celebrationdayforgirls.com
SUMMARY:Celebration Day for Girls\, Brookvale\, NSW
DESCRIPTION:Places are available for this event.
URL:https://celebrationdayforgirls.com/event/celebration-day-for-girls-brookvale-nsw/
LOCATION:Brookvale\, Brookvale\, New South Wales\, Australia
ORGANIZER;CN="Monique Winderbaum":MAILTO:monique.winderbaum@gmail.com
END:VEVENT
END:VCALENDAR