BEGIN:VCALENDAR
VERSION:2.0
PRODID:-//Celebration Day For Girls - ECPv6.15.20//NONSGML v1.0//EN
CALSCALE:GREGORIAN
METHOD:PUBLISH
X-ORIGINAL-URL:https://celebrationdayforgirls.com
X-WR-CALDESC:Events for Celebration Day For Girls
REFRESH-INTERVAL;VALUE=DURATION:PT1H
X-Robots-Tag:noindex
X-PUBLISHED-TTL:PT1H
BEGIN:VTIMEZONE
TZID:UTC
BEGIN:STANDARD
TZOFFSETFROM:+0000
TZOFFSETTO:+0000
TZNAME:UTC
DTSTART:20240101T000000
END:STANDARD
END:VTIMEZONE
BEGIN:VTIMEZONE
TZID:UTC
BEGIN:STANDARD
TZOFFSETFROM:+0000
TZOFFSETTO:+0000
TZNAME:UTC
DTSTART:20240101T000000
END:STANDARD
END:VTIMEZONE
BEGIN:VTIMEZONE
TZID:Africa/Johannesburg
BEGIN:STANDARD
TZOFFSETFROM:+0200
TZOFFSETTO:+0200
TZNAME:SAST
DTSTART:20240101T000000
END:STANDARD
END:VTIMEZONE
BEGIN:VTIMEZONE
TZID:Australia/Hobart
BEGIN:STANDARD
TZOFFSETFROM:+1100
TZOFFSETTO:+1000
TZNAME:AEST
DTSTART:20240406T160000
END:STANDARD
BEGIN:DAYLIGHT
TZOFFSETFROM:+1000
TZOFFSETTO:+1100
TZNAME:AEDT
DTSTART:20241005T160000
END:DAYLIGHT
BEGIN:STANDARD
TZOFFSETFROM:+1100
TZOFFSETTO:+1000
TZNAME:AEST
DTSTART:20250405T160000
END:STANDARD
BEGIN:DAYLIGHT
TZOFFSETFROM:+1000
TZOFFSETTO:+1100
TZNAME:AEDT
DTSTART:20251004T160000
END:DAYLIGHT
BEGIN:STANDARD
TZOFFSETFROM:+1100
TZOFFSETTO:+1000
TZNAME:AEST
DTSTART:20260404T160000
END:STANDARD
BEGIN:DAYLIGHT
TZOFFSETFROM:+1000
TZOFFSETTO:+1100
TZNAME:AEDT
DTSTART:20261003T160000
END:DAYLIGHT
END:VTIMEZONE
BEGIN:VTIMEZONE
TZID:America/Bogota
BEGIN:STANDARD
TZOFFSETFROM:-0500
TZOFFSETTO:-0500
TZNAME:-05
DTSTART:20240101T000000
END:STANDARD
END:VTIMEZONE
BEGIN:VTIMEZONE
TZID:Australia/Melbourne
BEGIN:STANDARD
TZOFFSETFROM:+1100
TZOFFSETTO:+1000
TZNAME:AEST
DTSTART:20240406T160000
END:STANDARD
BEGIN:DAYLIGHT
TZOFFSETFROM:+1000
TZOFFSETTO:+1100
TZNAME:AEDT
DTSTART:20241005T160000
END:DAYLIGHT
BEGIN:STANDARD
TZOFFSETFROM:+1100
TZOFFSETTO:+1000
TZNAME:AEST
DTSTART:20250405T160000
END:STANDARD
BEGIN:DAYLIGHT
TZOFFSETFROM:+1000
TZOFFSETTO:+1100
TZNAME:AEDT
DTSTART:20251004T160000
END:DAYLIGHT
BEGIN:STANDARD
TZOFFSETFROM:+1100
TZOFFSETTO:+1000
TZNAME:AEST
DTSTART:20260404T160000
END:STANDARD
BEGIN:DAYLIGHT
TZOFFSETFROM:+1000
TZOFFSETTO:+1100
TZNAME:AEDT
DTSTART:20261003T160000
END:DAYLIGHT
END:VTIMEZONE
BEGIN:VEVENT
DTSTART;TZID=UTC:20250202T100000
DTEND;TZID=UTC:20250202T160000
DTSTAMP:20260425T033413
CREATED:20250215T033841Z
LAST-MODIFIED:20250215T033841Z
UID:9016-1738490400-1738512000@celebrationdayforgirls.com
SUMMARY:Celebration Day for Girls\, London\, UK
DESCRIPTION:Places are available for this event.
URL:https://celebrationdayforgirls.com/event/celebration-day-for-girls-london-uk-20/
LOCATION:North London\, North London\, United Kingdom
ORGANIZER;CN="Nisha Toppin":MAILTO:nisha@periodhealthmatters.com
END:VEVENT
BEGIN:VEVENT
DTSTART;TZID=UTC:20250206T190000
DTEND;TZID=UTC:20250206T201500
DTSTAMP:20260425T033413
CREATED:20241211T110655Z
LAST-MODIFIED:20241211T110941Z
UID:8887-1738868400-1738872900@celebrationdayforgirls.com
SUMMARY:Foundations of Menstrual Education (FOME) - course starts
DESCRIPTION:The eight weeks of Live Discussion Sessions starts today. If you would like to find out more and join the course please go here.
URL:https://celebrationdayforgirls.com/event/foundations-of-menstrual-education-course-starts/
END:VEVENT
BEGIN:VEVENT
DTSTART;TZID=Africa/Johannesburg:20250207T190000
DTEND;TZID=Africa/Johannesburg:20250207T210000
DTSTAMP:20260425T033413
CREATED:20250117T001428Z
LAST-MODIFIED:20250117T001428Z
UID:8996-1738954800-1738962000@celebrationdayforgirls.com
SUMMARY:Mother's Session
DESCRIPTION:Places are available for this event.
URL:https://celebrationdayforgirls.com/event/mothers-session-10/
LOCATION:Greyton\, Greyton\, South Africa
ORGANIZER;CN="Maaike Heger":MAILTO:Maaikeheger@gmail.com
END:VEVENT
BEGIN:VEVENT
DTSTART;TZID=Africa/Johannesburg:20250208T100000
DTEND;TZID=Africa/Johannesburg:20250208T160000
DTSTAMP:20260425T033413
CREATED:20250117T001304Z
LAST-MODIFIED:20250117T001304Z
UID:8993-1739008800-1739030400@celebrationdayforgirls.com
SUMMARY:Celebration Day for Girls\, Greyton\, South Africa
DESCRIPTION:Places are available for this event.
URL:https://celebrationdayforgirls.com/event/celebration-day-for-girls-greyton-south-africa/
LOCATION:Greyton\, Greyton\, South Africa
ORGANIZER;CN="Maaike Heger":MAILTO:Maaikeheger@gmail.com
END:VEVENT
BEGIN:VEVENT
DTSTART;TZID=UTC:20250208T100000
DTEND;TZID=UTC:20250208T160000
DTSTAMP:20260425T033413
CREATED:20250131T053034Z
LAST-MODIFIED:20250131T053034Z
UID:9000-1739008800-1739030400@celebrationdayforgirls.com
SUMMARY:Día de Celebración para Niñas\, Naples\, Florida\, USA
DESCRIPTION:Places are available for this event.
URL:https://celebrationdayforgirls.com/event/dia-de-celebracion-para-ninas-naples-florida-usa/
LOCATION:Naples\, Florida\, Naples\, United States
ORGANIZER;CN="Deisy Avellaneda":MAILTO:Deisyavellaneda0@gmail.com
END:VEVENT
BEGIN:VEVENT
DTSTART;TZID=UTC:20250213T190000
DTEND;TZID=UTC:20250213T201500
DTSTAMP:20260425T033413
CREATED:20241211T111108Z
LAST-MODIFIED:20241211T111108Z
UID:8890-1739473200-1739477700@celebrationdayforgirls.com
SUMMARY:FOME Discussion Session 2
DESCRIPTION:This course started 6/2/25. If you would like to find out more and join the course next time please go here.
URL:https://celebrationdayforgirls.com/event/fome-discussion-session-2/
END:VEVENT
BEGIN:VEVENT
DTSTART;TZID=Australia/Hobart:20250215T100000
DTEND;TZID=Australia/Hobart:20250215T160000
DTSTAMP:20260425T033413
CREATED:20250226T004144Z
LAST-MODIFIED:20250226T004618Z
UID:9020-1739613600-1739635200@celebrationdayforgirls.com
SUMMARY:Celebration Day for Girls\, Fern Tree\, TAS
DESCRIPTION:This event is fully booked. Please contact the facilitator for future events.
URL:https://celebrationdayforgirls.com/event/celebration-day-for-girls-fern-tree-tas-2/
LOCATION:Fern Tree\, Fern Tree\, Tasmania\, Australia
ORGANIZER;CN="Georgina O'Regan":MAILTO:georgie.oregan@gmail.com
END:VEVENT
BEGIN:VEVENT
DTSTART;TZID=UTC:20250220T190000
DTEND;TZID=UTC:20250220T201500
DTSTAMP:20260425T033413
CREATED:20241211T111208Z
LAST-MODIFIED:20241211T111208Z
UID:8892-1740078000-1740082500@celebrationdayforgirls.com
SUMMARY:FOME Discussion Session 3
DESCRIPTION:This course started 6/2/25. If you would like to find out more and join the course next time please go here.
URL:https://celebrationdayforgirls.com/event/fome-discussion-session-3/
END:VEVENT
BEGIN:VEVENT
DTSTART;TZID=UTC:20250227T190000
DTEND;TZID=UTC:20250227T201500
DTSTAMP:20260425T033413
CREATED:20241211T111318Z
LAST-MODIFIED:20241211T112057Z
UID:8894-1740682800-1740687300@celebrationdayforgirls.com
SUMMARY:FOME Discussion Session 4
DESCRIPTION:This course started 6/2/25. If you would like to find out more and join the course next time please go here.
URL:https://celebrationdayforgirls.com/event/fome-discussion-session-4/
END:VEVENT
BEGIN:VEVENT
DTSTART;TZID=Australia/Hobart:20250301T100000
DTEND;TZID=Australia/Hobart:20250301T160000
DTSTAMP:20260425T033413
CREATED:20250226T005053Z
LAST-MODIFIED:20250226T005053Z
UID:9023-1740823200-1740844800@celebrationdayforgirls.com
SUMMARY:Celebration Day for Girls\, Nubeena\, TAS
DESCRIPTION:Places are available for this event.
URL:https://celebrationdayforgirls.com/event/celebration-day-for-girls-nubeena-tas/
LOCATION:Nubeena\, Nubeena\, Tasmania\, Australia
ORGANIZER;CN="Georgina O'Regan":MAILTO:georgie.oregan@gmail.com
END:VEVENT
BEGIN:VEVENT
DTSTART;TZID=America/Bogota:20250301T100000
DTEND;TZID=America/Bogota:20250301T160000
DTSTAMP:20260425T033413
CREATED:20250310T030703Z
LAST-MODIFIED:20250310T030703Z
UID:9026-1740823200-1740844800@celebrationdayforgirls.com
SUMMARY:Día de Celebración para Niñas\, Florencia\, Colombia
DESCRIPTION:Places are available for this event.
URL:https://celebrationdayforgirls.com/event/dia-de-celebracion-para-ninas-florencia-colombia-2/
LOCATION:Florencia\, Colombia\, Florencia\, Colombia
ORGANIZER;CN="Carmen Mary Corrales":MAILTO:carmenmcorrales@hotmail.com
END:VEVENT
BEGIN:VEVENT
DTSTART;TZID=UTC:20250306T190000
DTEND;TZID=UTC:20250306T201500
DTSTAMP:20260425T033413
CREATED:20241211T111427Z
LAST-MODIFIED:20241211T112110Z
UID:8896-1741287600-1741292100@celebrationdayforgirls.com
SUMMARY:FOME Discussion Session 5
DESCRIPTION:This course started 6/2/25. If you would like to find out more and join the course next time please go here.
URL:https://celebrationdayforgirls.com/event/fome-discussion-session-5/
END:VEVENT
BEGIN:VEVENT
DTSTART;TZID=UTC:20250307T190000
DTEND;TZID=UTC:20250307T210000
DTSTAMP:20260425T033413
CREATED:20250114T095523Z
LAST-MODIFIED:20250114T095523Z
UID:8991-1741374000-1741381200@celebrationdayforgirls.com
SUMMARY:Mother's Session\, London\, UK
DESCRIPTION:Places are available for this event.
URL:https://celebrationdayforgirls.com/event/mothers-session-london-uk-16/
LOCATION:London\, London\, United Kingdom
ORGANIZER;CN="Noura Alfadl":MAILTO:nouranaf@gmail.com
END:VEVENT
BEGIN:VEVENT
DTSTART;TZID=UTC:20250309T100000
DTEND;TZID=UTC:20250309T160000
DTSTAMP:20260425T033413
CREATED:20250114T095326Z
LAST-MODIFIED:20250114T095326Z
UID:8989-1741514400-1741536000@celebrationdayforgirls.com
SUMMARY:Celebration Day for Girls\, London\, UK
DESCRIPTION:Places are available for this event.
URL:https://celebrationdayforgirls.com/event/celebration-day-for-girls-london-uk-18/
LOCATION:London\, London\, United Kingdom
ORGANIZER;CN="Noura Alfadl":MAILTO:nouranaf@gmail.com
END:VEVENT
BEGIN:VEVENT
DTSTART;TZID=UTC:20250313T190000
DTEND;TZID=UTC:20250313T201500
DTSTAMP:20260425T033413
CREATED:20241211T111609Z
LAST-MODIFIED:20241211T112103Z
UID:8898-1741892400-1741896900@celebrationdayforgirls.com
SUMMARY:FOME Discussion Session 6
DESCRIPTION:This course started 6/2/25. If you would like to find out more and join the course next time please go here.
URL:https://celebrationdayforgirls.com/event/fome-discussion-session-6/
END:VEVENT
BEGIN:VEVENT
DTSTART;TZID=UTC:20250320T190000
DTEND;TZID=UTC:20250320T201500
DTSTAMP:20260425T033413
CREATED:20241211T112203Z
LAST-MODIFIED:20241211T112203Z
UID:8912-1742497200-1742501700@celebrationdayforgirls.com
SUMMARY:FOME Discussion Session 7
DESCRIPTION:This course started 6/2/25. If you would like to find out more and join the course next time please go here.
URL:https://celebrationdayforgirls.com/event/fome-discussion-session-7-2/
END:VEVENT
BEGIN:VEVENT
DTSTART;TZID=UTC:20250327T190000
DTEND;TZID=UTC:20250327T201500
DTSTAMP:20260425T033413
CREATED:20241211T111733Z
LAST-MODIFIED:20241211T112117Z
UID:8902-1743102000-1743106500@celebrationdayforgirls.com
SUMMARY:FOME Discussion Session 8 (final session)
DESCRIPTION:This course started 6/2/25. If you would like to find out more and join the course next time please go here.
URL:https://celebrationdayforgirls.com/event/fome-discussion-session-8-final-session/
END:VEVENT
BEGIN:VEVENT
DTSTART;TZID=Australia/Melbourne:20250327T190000
DTEND;TZID=Australia/Melbourne:20250327T210000
DTSTAMP:20260425T033413
CREATED:20250210T040432Z
LAST-MODIFIED:20250210T040432Z
UID:9012-1743102000-1743109200@celebrationdayforgirls.com
SUMMARY:Mother's Session\, Castlemaine\, VIC
DESCRIPTION:Places are available for this event.
URL:https://celebrationdayforgirls.com/event/mothers-session-castlemaine-vic-14/
LOCATION:Castlemaine
ORGANIZER;CN="Rachel Pilgrim":MAILTO:rachel.pilgrim@yahoo.com
END:VEVENT
BEGIN:VEVENT
DTSTART;TZID=Australia/Melbourne:20250330T100000
DTEND;TZID=Australia/Melbourne:20250330T160000
DTSTAMP:20260425T033413
CREATED:20250210T040117Z
LAST-MODIFIED:20250210T040300Z
UID:9008-1743328800-1743350400@celebrationdayforgirls.com
SUMMARY:Celebration Day for Girls\, Castlemaine\, VIC
DESCRIPTION:Places are available for this event. Please use the following link to book your place. \nhttps://www.eventbrite.com.au/e/a-celebration-day-for-girls-castlemaine-tickets-1237284734949?aff=oddtdtcreator
URL:https://celebrationdayforgirls.com/event/celebration-day-for-girls-castlemaine-vic-28/
LOCATION:Castlemaine
ORGANIZER;CN="Rachel Pilgrim":MAILTO:rachel.pilgrim@yahoo.com
END:VEVENT
BEGIN:VEVENT
DTSTART;TZID=Australia/Melbourne:20250408T200000
DTEND;TZID=Australia/Melbourne:20250408T220000
DTSTAMP:20260425T033413
CREATED:20241211T154033Z
LAST-MODIFIED:20241211T165508Z
UID:8939-1744142400-1744149600@celebrationdayforgirls.com
SUMMARY:Fathers Celebrating Daughters Facilitator Training Online Week 1
DESCRIPTION:Places are available on this training. \nCompletion of Foundations of Menstrual Education or prior CDG training essential. \nTo apply please go here.
URL:https://celebrationdayforgirls.com/event/fathers-celebrating-daughters-online-training-week-1/
LOCATION:Online\, Your city\, United Kingdom
END:VEVENT
BEGIN:VEVENT
DTSTART;TZID=UTC:20250415T200000
DTEND;TZID=UTC:20250415T220000
DTSTAMP:20260425T033413
CREATED:20241211T154150Z
LAST-MODIFIED:20241211T165501Z
UID:8941-1744747200-1744754400@celebrationdayforgirls.com
SUMMARY:Fathers Celebrating Daughters Facilitator Training Online Week 2
DESCRIPTION:This training started 8/4/25. \nTo apply to join our next training please go here. \nCompletion of Foundations of Menstrual Education or prior CDG training essential.
URL:https://celebrationdayforgirls.com/event/fathers-celebrating-daughters-online-training-week-2/
LOCATION:Online\, Your city\, United Kingdom
END:VEVENT
BEGIN:VEVENT
DTSTART;TZID=UTC:20250422T080000
DTEND;TZID=UTC:20250422T100000
DTSTAMP:20260425T033413
CREATED:20241211T165031Z
LAST-MODIFIED:20241211T165448Z
UID:8943-1745308800-1745316000@celebrationdayforgirls.com
SUMMARY:Fathers Celebrating Daughters Facilitator Training Online Week 3
DESCRIPTION:This training started 8/4/25. \nTo apply to join our next training please go here. \nCompletion of Foundations of Menstrual Education or prior CDG training essential.
URL:https://celebrationdayforgirls.com/event/fathers-celebrating-daughters-online-training-week-3/
LOCATION:Online\, Your city\, United Kingdom
END:VEVENT
BEGIN:VEVENT
DTSTART;TZID=UTC:20250425T180000
DTEND;TZID=UTC:20250425T200000
DTSTAMP:20260425T033413
CREATED:20250201T034135Z
LAST-MODIFIED:20250201T034135Z
UID:9006-1745604000-1745611200@celebrationdayforgirls.com
SUMMARY:Mother's Session\, Ipswich\, UK
DESCRIPTION:This is a class event. Please contact the facilitator for upcoming events.
URL:https://celebrationdayforgirls.com/event/mothers-session-ipswich-uk/
LOCATION:Ipswich\, Ipswich\, United Kingdom
ORGANIZER;CN="Emily Druiff":MAILTO:emily@druiff.com
END:VEVENT
BEGIN:VEVENT
DTSTART;TZID=UTC:20250427T100000
DTEND;TZID=UTC:20250427T160000
DTSTAMP:20260425T033413
CREATED:20250201T033946Z
LAST-MODIFIED:20250201T033946Z
UID:9002-1745748000-1745769600@celebrationdayforgirls.com
SUMMARY:Celebration Day for Girls\, Ipswich\, UK
DESCRIPTION:This event is fully booked. Please contact the facilitator for future events.
URL:https://celebrationdayforgirls.com/event/celebration-day-for-girls-ipswich-uk/
LOCATION:Ipswich\, Ipswich\, United Kingdom
ORGANIZER;CN="Emily Druiff":MAILTO:emily@druiff.com
END:VEVENT
BEGIN:VEVENT
DTSTART;TZID=UTC:20250429T080000
DTEND;TZID=UTC:20250429T100000
DTSTAMP:20260425T033413
CREATED:20241211T165123Z
LAST-MODIFIED:20241211T165435Z
UID:8945-1745913600-1745920800@celebrationdayforgirls.com
SUMMARY:Fathers Celebrating Daughters Facilitator Training Online Week 4
DESCRIPTION:This training started 8/4/25. \nTo apply to join our next training please go here. \nCompletion of Foundations of Menstrual Education or prior CDG training essential.
URL:https://celebrationdayforgirls.com/event/fathers-celebrating-daughters-online-training-week-4/
LOCATION:Online\, Your city\, United Kingdom
END:VEVENT
BEGIN:VEVENT
DTSTART;TZID=UTC:20250506T080000
DTEND;TZID=UTC:20250506T100000
DTSTAMP:20260425T033413
CREATED:20241211T165227Z
LAST-MODIFIED:20241211T165227Z
UID:8947-1746518400-1746525600@celebrationdayforgirls.com
SUMMARY:Fathers Celebrating Daughters Facilitator Training Online Week 5
DESCRIPTION:This training started 8/4/25. \nTo apply to join our next training please go here. \nCompletion of Foundations of Menstrual Education or prior CDG training essential.
URL:https://celebrationdayforgirls.com/event/fathers-celebrating-daughters-facilitator-training-online-week-5/
LOCATION:Online\, Your city\, United Kingdom
END:VEVENT
BEGIN:VEVENT
DTSTART;TZID=Africa/Johannesburg:20250509T190000
DTEND;TZID=Africa/Johannesburg:20250509T210000
DTSTAMP:20260425T033413
CREATED:20250407T052033Z
LAST-MODIFIED:20250407T052033Z
UID:9033-1746817200-1746824400@celebrationdayforgirls.com
SUMMARY:Mother's Session\, Hermanus\, South Africa
DESCRIPTION:Places are available for this event.
URL:https://celebrationdayforgirls.com/event/mothers-session-hermanus-south-africa-2/
LOCATION:Hermanus\, South Africa\, Hermanus\, South Africa
ORGANIZER;CN="Maaike Heger":MAILTO:Maaikeheger@gmail.com
END:VEVENT
BEGIN:VEVENT
DTSTART;TZID=Africa/Johannesburg:20250510T100000
DTEND;TZID=Africa/Johannesburg:20250510T160000
DTSTAMP:20260425T033413
CREATED:20250407T051851Z
LAST-MODIFIED:20250407T051851Z
UID:9031-1746871200-1746892800@celebrationdayforgirls.com
SUMMARY:Celebration Day for Girls\, Hermanus\, South Africa
DESCRIPTION:Places are available for this event.
URL:https://celebrationdayforgirls.com/event/celebration-day-for-girls-hermanus-south-africa-3/
LOCATION:Hermanus\, South Africa\, Hermanus\, South Africa
ORGANIZER;CN="Maaike Heger":MAILTO:Maaikeheger@gmail.com
END:VEVENT
BEGIN:VEVENT
DTSTART;TZID=UTC:20250513T080000
DTEND;TZID=UTC:20250513T100000
DTSTAMP:20260425T033413
CREATED:20241211T165317Z
LAST-MODIFIED:20241211T165317Z
UID:8949-1747123200-1747130400@celebrationdayforgirls.com
SUMMARY:Fathers Celebrating Daughters Facilitator Training Online Week 6
DESCRIPTION:This training started 8/4/25. \nTo apply to join our next training please go here. \nCompletion of Foundations of Menstrual Education or prior CDG training essential.
URL:https://celebrationdayforgirls.com/event/fathers-celebrating-daughters-facilitator-training-online-week-6/
LOCATION:Online\, Your city\, United Kingdom
END:VEVENT
BEGIN:VEVENT
DTSTART;TZID=Australia/Melbourne:20250515T183000
DTEND;TZID=Australia/Melbourne:20250515T210000
DTSTAMP:20260425T033413
CREATED:20250503T002540Z
LAST-MODIFIED:20250503T002540Z
UID:9052-1747333800-1747342800@celebrationdayforgirls.com
SUMMARY:Fathers Celebrating Daughters\, Castlemaine\, VIC
DESCRIPTION:Please use the following link to book your place. \nhttps://www.eventbrite.com.au/e/1314220491869?aff=oddtdtcreator
URL:https://celebrationdayforgirls.com/event/fathers-celebrating-daughters-castlemaine-vic-8/
LOCATION:Campbell’s Creek\, Campbell's Creek Community Centre\, Campbell's Creek\, Victoria\, Australia
ORGANIZER;CN="Rachel Pilgrim":MAILTO:rachel.pilgrim@yahoo.com
END:VEVENT
END:VCALENDAR