BEGIN:VCALENDAR
VERSION:2.0
PRODID:-//Celebration Day For Girls - ECPv6.15.20//NONSGML v1.0//EN
CALSCALE:GREGORIAN
METHOD:PUBLISH
X-ORIGINAL-URL:https://celebrationdayforgirls.com
X-WR-CALDESC:Events for Celebration Day For Girls
REFRESH-INTERVAL;VALUE=DURATION:PT1H
X-Robots-Tag:noindex
X-PUBLISHED-TTL:PT1H
BEGIN:VTIMEZONE
TZID:UTC
BEGIN:STANDARD
TZOFFSETFROM:+0000
TZOFFSETTO:+0000
TZNAME:UTC
DTSTART:20230101T000000
END:STANDARD
END:VTIMEZONE
BEGIN:VTIMEZONE
TZID:America/Mexico_City
BEGIN:STANDARD
TZOFFSETFROM:-0600
TZOFFSETTO:-0600
TZNAME:CST
DTSTART:20230101T000000
END:STANDARD
END:VTIMEZONE
BEGIN:VTIMEZONE
TZID:America/Bogota
BEGIN:STANDARD
TZOFFSETFROM:-0500
TZOFFSETTO:-0500
TZNAME:-05
DTSTART:20230101T000000
END:STANDARD
END:VTIMEZONE
BEGIN:VTIMEZONE
TZID:Europe/Rome
BEGIN:DAYLIGHT
TZOFFSETFROM:+0100
TZOFFSETTO:+0200
TZNAME:CEST
DTSTART:20230326T010000
END:DAYLIGHT
BEGIN:STANDARD
TZOFFSETFROM:+0200
TZOFFSETTO:+0100
TZNAME:CET
DTSTART:20231029T010000
END:STANDARD
BEGIN:DAYLIGHT
TZOFFSETFROM:+0100
TZOFFSETTO:+0200
TZNAME:CEST
DTSTART:20240331T010000
END:DAYLIGHT
BEGIN:STANDARD
TZOFFSETFROM:+0200
TZOFFSETTO:+0100
TZNAME:CET
DTSTART:20241027T010000
END:STANDARD
BEGIN:DAYLIGHT
TZOFFSETFROM:+0100
TZOFFSETTO:+0200
TZNAME:CEST
DTSTART:20250330T010000
END:DAYLIGHT
BEGIN:STANDARD
TZOFFSETFROM:+0200
TZOFFSETTO:+0100
TZNAME:CET
DTSTART:20251026T010000
END:STANDARD
END:VTIMEZONE
BEGIN:VTIMEZONE
TZID:America/Vancouver
BEGIN:DAYLIGHT
TZOFFSETFROM:-0800
TZOFFSETTO:-0700
TZNAME:PDT
DTSTART:20230312T100000
END:DAYLIGHT
BEGIN:STANDARD
TZOFFSETFROM:-0700
TZOFFSETTO:-0800
TZNAME:PST
DTSTART:20231105T090000
END:STANDARD
BEGIN:DAYLIGHT
TZOFFSETFROM:-0800
TZOFFSETTO:-0700
TZNAME:PDT
DTSTART:20240310T100000
END:DAYLIGHT
BEGIN:STANDARD
TZOFFSETFROM:-0700
TZOFFSETTO:-0800
TZNAME:PST
DTSTART:20241103T090000
END:STANDARD
BEGIN:DAYLIGHT
TZOFFSETFROM:-0800
TZOFFSETTO:-0700
TZNAME:PDT
DTSTART:20250309T100000
END:DAYLIGHT
BEGIN:STANDARD
TZOFFSETFROM:-0700
TZOFFSETTO:-0800
TZNAME:PST
DTSTART:20251102T090000
END:STANDARD
END:VTIMEZONE
BEGIN:VTIMEZONE
TZID:Australia/Melbourne
BEGIN:STANDARD
TZOFFSETFROM:+1100
TZOFFSETTO:+1000
TZNAME:AEST
DTSTART:20230401T160000
END:STANDARD
BEGIN:DAYLIGHT
TZOFFSETFROM:+1000
TZOFFSETTO:+1100
TZNAME:AEDT
DTSTART:20230930T160000
END:DAYLIGHT
BEGIN:STANDARD
TZOFFSETFROM:+1100
TZOFFSETTO:+1000
TZNAME:AEST
DTSTART:20240406T160000
END:STANDARD
BEGIN:DAYLIGHT
TZOFFSETFROM:+1000
TZOFFSETTO:+1100
TZNAME:AEDT
DTSTART:20241005T160000
END:DAYLIGHT
BEGIN:STANDARD
TZOFFSETFROM:+1100
TZOFFSETTO:+1000
TZNAME:AEST
DTSTART:20250405T160000
END:STANDARD
BEGIN:DAYLIGHT
TZOFFSETFROM:+1000
TZOFFSETTO:+1100
TZNAME:AEDT
DTSTART:20251004T160000
END:DAYLIGHT
END:VTIMEZONE
BEGIN:VTIMEZONE
TZID:Pacific/Auckland
BEGIN:STANDARD
TZOFFSETFROM:+1300
TZOFFSETTO:+1200
TZNAME:NZST
DTSTART:20230401T140000
END:STANDARD
BEGIN:DAYLIGHT
TZOFFSETFROM:+1200
TZOFFSETTO:+1300
TZNAME:NZDT
DTSTART:20230923T140000
END:DAYLIGHT
BEGIN:STANDARD
TZOFFSETFROM:+1300
TZOFFSETTO:+1200
TZNAME:NZST
DTSTART:20240406T140000
END:STANDARD
BEGIN:DAYLIGHT
TZOFFSETFROM:+1200
TZOFFSETTO:+1300
TZNAME:NZDT
DTSTART:20240928T140000
END:DAYLIGHT
BEGIN:STANDARD
TZOFFSETFROM:+1300
TZOFFSETTO:+1200
TZNAME:NZST
DTSTART:20250405T140000
END:STANDARD
BEGIN:DAYLIGHT
TZOFFSETFROM:+1200
TZOFFSETTO:+1300
TZNAME:NZDT
DTSTART:20250927T140000
END:DAYLIGHT
END:VTIMEZONE
BEGIN:VTIMEZONE
TZID:Africa/Johannesburg
BEGIN:STANDARD
TZOFFSETFROM:+0200
TZOFFSETTO:+0200
TZNAME:SAST
DTSTART:20230101T000000
END:STANDARD
END:VTIMEZONE
BEGIN:VTIMEZONE
TZID:America/Lima
BEGIN:STANDARD
TZOFFSETFROM:-0500
TZOFFSETTO:-0500
TZNAME:-05
DTSTART:20230101T000000
END:STANDARD
END:VTIMEZONE
BEGIN:VEVENT
DTSTART;TZID=UTC:20240202T190000
DTEND;TZID=UTC:20240202T210000
DTSTAMP:20260421T014725
CREATED:20240118T020135Z
LAST-MODIFIED:20240118T020135Z
UID:8527-1706900400-1706907600@celebrationdayforgirls.com
SUMMARY:Mother's Session\, London\, UK
DESCRIPTION:Places are available for this event.
URL:https://celebrationdayforgirls.com/event/mothers-session-london-uk-10/
LOCATION:London\, London\, United Kingdom
ORGANIZER;CN="Noura Alfadl":MAILTO:nouranaf@gmail.com
END:VEVENT
BEGIN:VEVENT
DTSTART;TZID=UTC:20240203T100000
DTEND;TZID=UTC:20240203T160000
DTSTAMP:20260421T014725
CREATED:20240118T020005Z
LAST-MODIFIED:20240118T020005Z
UID:8525-1706954400-1706976000@celebrationdayforgirls.com
SUMMARY:Celebration Day for Girls\, London\, UK
DESCRIPTION:Places are available for this event.
URL:https://celebrationdayforgirls.com/event/celebration-day-for-girls-london-uk-12/
LOCATION:London\, London\, United Kingdom
ORGANIZER;CN="Noura Alfadl":MAILTO:nouranaf@gmail.com
END:VEVENT
BEGIN:VEVENT
DTSTART;TZID=America/Mexico_City:20240218T100000
DTEND;TZID=America/Mexico_City:20240218T160000
DTSTAMP:20260421T014725
CREATED:20240216T055507Z
LAST-MODIFIED:20240216T055507Z
UID:8565-1708250400-1708272000@celebrationdayforgirls.com
SUMMARY:Día de Celebración para Niñas\, Campos Santa Blanca\, Mexico
DESCRIPTION:Places are available for this event.
URL:https://celebrationdayforgirls.com/event/dia-de-celebracion-para-ninas-campos-santa-blanca-mexico/
LOCATION:Campos Santa Blanca\, Campos Santa Blanca\, Mexico
ORGANIZER;CN="Liz Campos":MAILTO:lizbethanahicamposgamez@outlook.com
END:VEVENT
BEGIN:VEVENT
DTSTART;TZID=America/Bogota:20240222T100000
DTEND;TZID=America/Bogota:20240222T160000
DTSTAMP:20260421T014725
CREATED:20240226T041753Z
LAST-MODIFIED:20240226T041753Z
UID:8572-1708596000-1708617600@celebrationdayforgirls.com
SUMMARY:Día de Celebración para Niñas\, Chagualal\, Abejorral\, Colombia
DESCRIPTION:Places are available for this event.
URL:https://celebrationdayforgirls.com/event/dia-de-celebracion-para-ninas-chagualal-abejorral-colombia/
LOCATION:Abejorral\, Abejorral\, Colombia
ORGANIZER;CN="Yecenia Gutierrez":MAILTO:yeceniagutierrezo@hotmail.com
END:VEVENT
BEGIN:VEVENT
DTSTART;TZID=UTC:20240223T190000
DTEND;TZID=UTC:20240223T210000
DTSTAMP:20260421T014725
CREATED:20240118T020426Z
LAST-MODIFIED:20240118T020426Z
UID:8532-1708714800-1708722000@celebrationdayforgirls.com
SUMMARY:Mother's Session\, Maidanhead\, UK
DESCRIPTION:Places are available for this event.
URL:https://celebrationdayforgirls.com/event/mothers-session-maidanhead-uk/
LOCATION:Maidanhead\, Maidanhead\, United Kingdom
ORGANIZER;CN="Noura Alfadl":MAILTO:nouranaf@gmail.com
END:VEVENT
BEGIN:VEVENT
DTSTART;TZID=UTC:20240224T100000
DTEND;TZID=UTC:20240224T160000
DTSTAMP:20260421T014725
CREATED:20240118T020308Z
LAST-MODIFIED:20240118T020308Z
UID:8529-1708768800-1708790400@celebrationdayforgirls.com
SUMMARY:Celebration Day for Girls\, Maidanhead\, UK
DESCRIPTION:Places are available for this event.
URL:https://celebrationdayforgirls.com/event/celebration-day-for-girls-maidanhead-uk/
LOCATION:Maidanhead\, Maidanhead\, United Kingdom
ORGANIZER;CN="Noura Alfadl":MAILTO:nouranaf@gmail.com
END:VEVENT
BEGIN:VEVENT
DTSTART;TZID=UTC:20240301T190000
DTEND;TZID=UTC:20240301T210000
DTSTAMP:20260421T014725
CREATED:20240118T020729Z
LAST-MODIFIED:20240118T020729Z
UID:8536-1709319600-1709326800@celebrationdayforgirls.com
SUMMARY:Mother's Session\, London\, UK
DESCRIPTION:Places are available for this event.
URL:https://celebrationdayforgirls.com/event/mothers-session-london-uk-13/
LOCATION:London\, London\, United Kingdom
ORGANIZER;CN="Noura Alfadl":MAILTO:nouranaf@gmail.com
END:VEVENT
BEGIN:VEVENT
DTSTART;TZID=UTC:20240302T080000
DTEND;TZID=UTC:20240302T170000
DTSTAMP:20260421T014725
CREATED:20240118T020604Z
LAST-MODIFIED:20240118T020604Z
UID:8534-1709366400-1709398800@celebrationdayforgirls.com
SUMMARY:Celebration Day for Girls\, London\, UK
DESCRIPTION:Places are available for this event.
URL:https://celebrationdayforgirls.com/event/celebration-day-for-girls-london-uk-15/
LOCATION:London\, London\, United Kingdom
ORGANIZER;CN="Noura Alfadl":MAILTO:nouranaf@gmail.com
END:VEVENT
BEGIN:VEVENT
DTSTART;TZID=Europe/Rome:20240303T100000
DTEND;TZID=Europe/Rome:20240303T160000
DTSTAMP:20260421T014725
CREATED:20240216T052036Z
LAST-MODIFIED:20240216T052036Z
UID:8563-1709460000-1709481600@celebrationdayforgirls.com
SUMMARY:Celebration Day for Girls\, Scaltenigo\, Venice\, Italy
DESCRIPTION:Places are available for this event.
URL:https://celebrationdayforgirls.com/event/celebration-day-for-girls-scaltenigo-venice-italy/
LOCATION:Scaltenigo\, Scaltenigo\, Italy
ORGANIZER;CN="Milena Da Forno":MAILTO:milena.daforno@gmail.com
END:VEVENT
BEGIN:VEVENT
DTSTART;TZID=America/Vancouver:20240305T190000
DTEND;TZID=America/Vancouver:20240305T210000
DTSTAMP:20260421T014725
CREATED:20240210T213544Z
LAST-MODIFIED:20240210T213544Z
UID:8559-1709665200-1709672400@celebrationdayforgirls.com
SUMMARY:Mother's Session\, Winnipeg\, Canada
DESCRIPTION:Places are available for this event.
URL:https://celebrationdayforgirls.com/event/mothers-session-winnipeg-canada-2/
LOCATION:Winnipeg\, Winnipeg\, MB\, Canada
ORGANIZER;CN="Kathy Dayanara Milla":MAILTO:km_moonprincess@hotmail.com
END:VEVENT
BEGIN:VEVENT
DTSTART;TZID=America/Vancouver:20240310T100000
DTEND;TZID=America/Vancouver:20240310T160000
DTSTAMP:20260421T014725
CREATED:20240210T213711Z
LAST-MODIFIED:20240210T213711Z
UID:8561-1710064800-1710086400@celebrationdayforgirls.com
SUMMARY:Celebration Day for Girls\, Winnipeg\, Canada
DESCRIPTION:Places are available for this event.
URL:https://celebrationdayforgirls.com/event/celebration-day-for-girls-winnipeg-canada-2/
LOCATION:Winnipeg\, Winnipeg\, MB\, Canada
ORGANIZER;CN="Kathy Dayanara Milla":MAILTO:km_moonprincess@hotmail.com
END:VEVENT
BEGIN:VEVENT
DTSTART;TZID=America/Bogota:20240314T100000
DTEND;TZID=America/Bogota:20240314T160000
DTSTAMP:20260421T014725
CREATED:20240310T043006Z
LAST-MODIFIED:20240310T043006Z
UID:8578-1710410400-1710432000@celebrationdayforgirls.com
SUMMARY:Día de Celebración para Niñas\, El Cairo\, Abejorral\, Colombia
DESCRIPTION:Places are available for this event.
URL:https://celebrationdayforgirls.com/event/dia-de-celebracion-para-ninas-el-cairo-abejorral-colombia/
LOCATION:Abejorral\, Abejorral\, Colombia
ORGANIZER;CN="Didi Ananda Rashmika & Yecenia Gutierrez":MAILTO:anandarashmika@gmail.com
END:VEVENT
BEGIN:VEVENT
DTSTART;TZID=Australia/Melbourne:20240315T190000
DTEND;TZID=Australia/Melbourne:20240315T210000
DTSTAMP:20260421T014725
CREATED:20240226T034313Z
LAST-MODIFIED:20240226T034313Z
UID:8570-1710529200-1710536400@celebrationdayforgirls.com
SUMMARY:Mother's Session\, Bairnsdale\, VIC
DESCRIPTION:Places are available for this event.
URL:https://celebrationdayforgirls.com/event/mothers-session-bairnsdale-vic-3/
LOCATION:Bairnsdale\, Bairnsdale\, Victoria\, Australia
ORGANIZER;CN="Janoel Liddy":MAILTO:contact.janoel@gmail.com
END:VEVENT
BEGIN:VEVENT
DTSTART;TZID=Australia/Melbourne:20240316T080000
DTEND;TZID=Australia/Melbourne:20240316T170000
DTSTAMP:20260421T014725
CREATED:20240226T033658Z
LAST-MODIFIED:20240226T033658Z
UID:8568-1710576000-1710608400@celebrationdayforgirls.com
SUMMARY:Celebration Day for Girls\, Bairnsdale\, VIC
DESCRIPTION:Places are available for this event.
URL:https://celebrationdayforgirls.com/event/celebration-day-for-girls-bairnsdale-vic-3/
LOCATION:Bairnsdale\, Bairnsdale\, Victoria\, Australia
ORGANIZER;CN="Janoel Liddy":MAILTO:contact.janoel@gmail.com
END:VEVENT
BEGIN:VEVENT
DTSTART;TZID=America/Bogota:20240316T100000
DTEND;TZID=America/Bogota:20240316T160000
DTSTAMP:20260421T014725
CREATED:20240130T004038Z
LAST-MODIFIED:20240130T004038Z
UID:8550-1710583200-1710604800@celebrationdayforgirls.com
SUMMARY:Día de Celebración para Niñas\, La Calera\, Colombia
DESCRIPTION:Places are available for this event.
URL:https://celebrationdayforgirls.com/event/dia-de-celebracion-para-ninas-la-calera-colombia/
LOCATION:La Calera\, La Calera\, Colombia
ORGANIZER;CN="Deisy Avellaneda":MAILTO:Deisyavellaneda0@gmail.com
END:VEVENT
BEGIN:VEVENT
DTSTART;TZID=America/Bogota:20240316T100000
DTEND;TZID=America/Bogota:20240316T160000
DTSTAMP:20260421T014725
CREATED:20240310T043207Z
LAST-MODIFIED:20240310T043207Z
UID:8580-1710583200-1710604800@celebrationdayforgirls.com
SUMMARY:Día de Celebración para Niñas\, Quebrada Negra\, Abejorral\, Colombia\,
DESCRIPTION:Places are available for this event.
URL:https://celebrationdayforgirls.com/event/dia-de-celebracion-para-ninas-quebrada-negra-abejorral-colombia/
LOCATION:Abejorral\, Abejorral\, Colombia
ORGANIZER;CN="Yecenia Gutierrez":MAILTO:yeceniagutierrezo@hotmail.com
END:VEVENT
BEGIN:VEVENT
DTSTART;TZID=America/Bogota:20240316T100000
DTEND;TZID=America/Bogota:20240316T160000
DTSTAMP:20260421T014725
CREATED:20240310T043416Z
LAST-MODIFIED:20240310T043416Z
UID:8582-1710583200-1710604800@celebrationdayforgirls.com
SUMMARY:Día de Celebración para Niñas\, La Ceja\, Colombia
DESCRIPTION:Places are available for this event.
URL:https://celebrationdayforgirls.com/event/dia-de-celebracion-para-ninas-la-ceja-colombia/
LOCATION:La Ceja\, La Ceja\, Colombia
ORGANIZER;CN="Nathali Gil":MAILTO:natarock.173@gmail.com
END:VEVENT
BEGIN:VEVENT
DTSTART;TZID=Pacific/Auckland:20240317T100000
DTEND;TZID=Pacific/Auckland:20240317T160000
DTSTAMP:20260421T014726
CREATED:20240130T005022Z
LAST-MODIFIED:20240130T005022Z
UID:8553-1710669600-1710691200@celebrationdayforgirls.com
SUMMARY:Celebration Day for Girls\, Heathcote Valley\, Christchurch\, NZ
DESCRIPTION:Places are available for this event.
URL:https://celebrationdayforgirls.com/event/celebration-day-for-girls-heathcote-valley-christchurch-nz-3/
LOCATION:Heathcote Valley\, Heathcote Valley\, New Zealand
ORGANIZER;CN="Alice Tabak":MAILTO:cdg.alicetabak@gmail.com
END:VEVENT
BEGIN:VEVENT
DTSTART;TZID=UTC:20240322T190000
DTEND;TZID=UTC:20240322T210000
DTSTAMP:20260421T014726
CREATED:20240118T020949Z
LAST-MODIFIED:20240118T020949Z
UID:8540-1711134000-1711141200@celebrationdayforgirls.com
SUMMARY:Mother's Session\, Maidanhead\, UK
DESCRIPTION:Places are available for this event.
URL:https://celebrationdayforgirls.com/event/mothers-session-maidanhead-uk-2/
LOCATION:Maidanhead\, Maidanhead\, United Kingdom
ORGANIZER;CN="Noura Alfadl":MAILTO:nouranaf@gmail.com
END:VEVENT
BEGIN:VEVENT
DTSTART;TZID=UTC:20240323T100000
DTEND;TZID=UTC:20240323T160000
DTSTAMP:20260421T014726
CREATED:20240118T020837Z
LAST-MODIFIED:20240118T020837Z
UID:8538-1711188000-1711209600@celebrationdayforgirls.com
SUMMARY:Celebration Day for Girls\, Maidanhead\, UK
DESCRIPTION:Places are available for this event.
URL:https://celebrationdayforgirls.com/event/celebration-day-for-girls-maidanhead-uk-2/
LOCATION:Maidanhead\, Maidanhead\, United Kingdom
ORGANIZER;CN="Noura Alfadl":MAILTO:nouranaf@gmail.com
END:VEVENT
BEGIN:VEVENT
DTSTART;TZID=America/Bogota:20240406T100000
DTEND;TZID=America/Bogota:20240406T160000
DTSTAMP:20260421T014726
CREATED:20240326T051624Z
LAST-MODIFIED:20240326T051624Z
UID:8599-1712397600-1712419200@celebrationdayforgirls.com
SUMMARY:Día de Celebración para Niñas\, Bogota\, Colombia
DESCRIPTION:Places are available for this event.
URL:https://celebrationdayforgirls.com/event/dia-de-celebracion-para-ninas-bogota-colombia/
LOCATION:Bogota\, Colombia\, Bogota\, Colombia
ORGANIZER;CN="Jacquelinne Gomez":MAILTO:jacquelinne.gomezb@gmail.com
END:VEVENT
BEGIN:VEVENT
DTSTART;TZID=UTC:20240419T190000
DTEND;TZID=UTC:20240419T210000
DTSTAMP:20260421T014726
CREATED:20240118T021230Z
LAST-MODIFIED:20240118T021230Z
UID:8544-1713553200-1713560400@celebrationdayforgirls.com
SUMMARY:Mother's Session\, London\, UK
DESCRIPTION:Places are available for this event.
URL:https://celebrationdayforgirls.com/event/mothers-session-london-uk-14/
LOCATION:London\, London\, United Kingdom
ORGANIZER;CN="Noura Alfadl":MAILTO:nouranaf@gmail.com
END:VEVENT
BEGIN:VEVENT
DTSTART;TZID=UTC:20240420T100000
DTEND;TZID=UTC:20240420T160000
DTSTAMP:20260421T014726
CREATED:20240118T021113Z
LAST-MODIFIED:20240118T021113Z
UID:8542-1713607200-1713628800@celebrationdayforgirls.com
SUMMARY:Celebration Day for Girls\, London\, UK
DESCRIPTION:Places are available for this event.
URL:https://celebrationdayforgirls.com/event/celebration-day-for-girls-london-uk-16/
LOCATION:London\, London\, United Kingdom
ORGANIZER;CN="Noura Alfadl":MAILTO:nouranaf@gmail.com
END:VEVENT
BEGIN:VEVENT
DTSTART;TZID=Africa/Johannesburg:20240420T100000
DTEND;TZID=Africa/Johannesburg:20240420T160000
DTSTAMP:20260421T014726
CREATED:20240408T041620Z
LAST-MODIFIED:20240408T041620Z
UID:8606-1713607200-1713628800@celebrationdayforgirls.com
SUMMARY:Celebration Day for Girls Outreach\, Schauderville\, Gqeberha\, South Africa
DESCRIPTION:Places are available for this event.
URL:https://celebrationdayforgirls.com/event/celebration-day-for-girls-outreach-schauderville-gqeberha-south-africa/
LOCATION:Schauderville\, Gqeberha\, Schauderville\, South Africa
ORGANIZER;CN="Anusooya Gosai":MAILTO:anusooya.gosai@gmail.com
END:VEVENT
BEGIN:VEVENT
DTSTART;TZID=Australia/Melbourne:20240501T190000
DTEND;TZID=Australia/Melbourne:20240501T210000
DTSTAMP:20260421T014726
CREATED:20240426T041035Z
LAST-MODIFIED:20240426T041035Z
UID:8628-1714590000-1714597200@celebrationdayforgirls.com
SUMMARY:Mother's Session\, Castlemaine\, VIC
DESCRIPTION:Places are available for this event.
URL:https://celebrationdayforgirls.com/event/mothers-session-castlemaine-vic-11/
LOCATION:Castlemaine
ORGANIZER;CN="Rachel Pilgrim":MAILTO:rachel.pilgrim@yahoo.com
END:VEVENT
BEGIN:VEVENT
DTSTART;TZID=America/Lima:20240503T100000
DTEND;TZID=America/Lima:20240503T160000
DTSTAMP:20260421T014726
CREATED:20240408T042513Z
LAST-MODIFIED:20240408T042513Z
UID:8609-1714730400-1714752000@celebrationdayforgirls.com
SUMMARY:Día de Celebración para Niñas\, Tiopamba\, Ecuador
DESCRIPTION:Places are available for this event.
URL:https://celebrationdayforgirls.com/event/dia-de-celebracion-para-ninas-tiopamba-ecuador/
LOCATION:Tiopamba\, Ecuador\, Tiopamba\, Ecuador
ORGANIZER;CN="Victoria Salinas":MAILTO:vkosalinas@gmail.com
END:VEVENT
BEGIN:VEVENT
DTSTART;TZID=Australia/Melbourne:20240505T100000
DTEND;TZID=Australia/Melbourne:20240505T160000
DTSTAMP:20260421T014726
CREATED:20240426T040545Z
LAST-MODIFIED:20240426T040545Z
UID:8626-1714903200-1714924800@celebrationdayforgirls.com
SUMMARY:Celebration Day for Girls\, Castlemaine\, VIC
DESCRIPTION:Places are available for this event.
URL:https://celebrationdayforgirls.com/event/celebration-day-for-girls-castlemaine-vic-24/
LOCATION:Castlemaine
ORGANIZER;CN="Rachel Pilgrim":MAILTO:rachel.pilgrim@yahoo.com
END:VEVENT
BEGIN:VEVENT
DTSTART;TZID=Australia/Melbourne:20240507T190000
DTEND;TZID=Australia/Melbourne:20240507T210000
DTSTAMP:20260421T014726
CREATED:20240426T041425Z
LAST-MODIFIED:20240426T041425Z
UID:8633-1715108400-1715115600@celebrationdayforgirls.com
SUMMARY:Mother's Session\, Ballarat Steiner School\, VIC
DESCRIPTION:This is a class event.
URL:https://celebrationdayforgirls.com/event/mothers-session-ballarat-steiner-school-vic/
LOCATION:Ballarat Steiner School\, Ballarat\, Victoria\, Australia
ORGANIZER;CN="Rachel Pilgrim":MAILTO:rachel.pilgrim@yahoo.com
END:VEVENT
BEGIN:VEVENT
DTSTART;TZID=Australia/Melbourne:20240511T100000
DTEND;TZID=Australia/Melbourne:20240511T160000
DTSTAMP:20260421T014726
CREATED:20240426T041258Z
LAST-MODIFIED:20240426T041258Z
UID:8630-1715421600-1715443200@celebrationdayforgirls.com
SUMMARY:Celebration Day for Girls\, Ballarat Steiner School\, VIC
DESCRIPTION:This is a class event. Please contact the event organiser for future workshops.
URL:https://celebrationdayforgirls.com/event/celebration-day-for-girls-ballarat-steiner-school-vic/
LOCATION:Ballarat Steiner School\, Ballarat\, Victoria\, Australia
ORGANIZER;CN="Rachel Pilgrim":MAILTO:rachel.pilgrim@yahoo.com
END:VEVENT
BEGIN:VEVENT
DTSTART;TZID=Pacific/Auckland:20240523T190000
DTEND;TZID=Pacific/Auckland:20240523T210000
DTSTAMP:20260421T014726
CREATED:20240523T050029Z
LAST-MODIFIED:20240523T050029Z
UID:8678-1716490800-1716498000@celebrationdayforgirls.com
SUMMARY:Mother's Session\, Papamoa Beach\, NZ
DESCRIPTION:Places are available for this event.
URL:https://celebrationdayforgirls.com/event/mothers-session-papamoa-beach-nz/
LOCATION:Papamoa Beach\, New Zealand\, Papamoa Beach\, New Zealand
ORGANIZER;CN="Amber Taylor":MAILTO:amberjanine@yahoo.com
END:VEVENT
END:VCALENDAR