BEGIN:VCALENDAR
VERSION:2.0
PRODID:-//Celebration Day For Girls - ECPv6.15.20//NONSGML v1.0//EN
CALSCALE:GREGORIAN
METHOD:PUBLISH
X-ORIGINAL-URL:https://celebrationdayforgirls.com
X-WR-CALDESC:Events for Celebration Day For Girls
REFRESH-INTERVAL;VALUE=DURATION:PT1H
X-Robots-Tag:noindex
X-PUBLISHED-TTL:PT1H
BEGIN:VTIMEZONE
TZID:Australia/Melbourne
BEGIN:STANDARD
TZOFFSETFROM:+1100
TZOFFSETTO:+1000
TZNAME:AEST
DTSTART:20170401T160000
END:STANDARD
BEGIN:DAYLIGHT
TZOFFSETFROM:+1000
TZOFFSETTO:+1100
TZNAME:AEDT
DTSTART:20170930T160000
END:DAYLIGHT
BEGIN:STANDARD
TZOFFSETFROM:+1100
TZOFFSETTO:+1000
TZNAME:AEST
DTSTART:20180331T160000
END:STANDARD
BEGIN:DAYLIGHT
TZOFFSETFROM:+1000
TZOFFSETTO:+1100
TZNAME:AEDT
DTSTART:20181006T160000
END:DAYLIGHT
BEGIN:STANDARD
TZOFFSETFROM:+1100
TZOFFSETTO:+1000
TZNAME:AEST
DTSTART:20190406T160000
END:STANDARD
BEGIN:DAYLIGHT
TZOFFSETFROM:+1000
TZOFFSETTO:+1100
TZNAME:AEDT
DTSTART:20191005T160000
END:DAYLIGHT
END:VTIMEZONE
BEGIN:VTIMEZONE
TZID:Australia/Brisbane
BEGIN:STANDARD
TZOFFSETFROM:+1000
TZOFFSETTO:+1000
TZNAME:AEST
DTSTART:20170101T000000
END:STANDARD
END:VTIMEZONE
BEGIN:VTIMEZONE
TZID:America/Lima
BEGIN:STANDARD
TZOFFSETFROM:-0500
TZOFFSETTO:-0500
TZNAME:-05
DTSTART:20170101T000000
END:STANDARD
END:VTIMEZONE
BEGIN:VTIMEZONE
TZID:Pacific/Auckland
BEGIN:STANDARD
TZOFFSETFROM:+1300
TZOFFSETTO:+1200
TZNAME:NZST
DTSTART:20170401T140000
END:STANDARD
BEGIN:DAYLIGHT
TZOFFSETFROM:+1200
TZOFFSETTO:+1300
TZNAME:NZDT
DTSTART:20170923T140000
END:DAYLIGHT
BEGIN:STANDARD
TZOFFSETFROM:+1300
TZOFFSETTO:+1200
TZNAME:NZST
DTSTART:20180331T140000
END:STANDARD
BEGIN:DAYLIGHT
TZOFFSETFROM:+1200
TZOFFSETTO:+1300
TZNAME:NZDT
DTSTART:20180929T140000
END:DAYLIGHT
BEGIN:STANDARD
TZOFFSETFROM:+1300
TZOFFSETTO:+1200
TZNAME:NZST
DTSTART:20190406T140000
END:STANDARD
BEGIN:DAYLIGHT
TZOFFSETFROM:+1200
TZOFFSETTO:+1300
TZNAME:NZDT
DTSTART:20190928T140000
END:DAYLIGHT
END:VTIMEZONE
BEGIN:VTIMEZONE
TZID:Australia/Sydney
BEGIN:STANDARD
TZOFFSETFROM:+1100
TZOFFSETTO:+1000
TZNAME:AEST
DTSTART:20170401T160000
END:STANDARD
BEGIN:DAYLIGHT
TZOFFSETFROM:+1000
TZOFFSETTO:+1100
TZNAME:AEDT
DTSTART:20170930T160000
END:DAYLIGHT
BEGIN:STANDARD
TZOFFSETFROM:+1100
TZOFFSETTO:+1000
TZNAME:AEST
DTSTART:20180331T160000
END:STANDARD
BEGIN:DAYLIGHT
TZOFFSETFROM:+1000
TZOFFSETTO:+1100
TZNAME:AEDT
DTSTART:20181006T160000
END:DAYLIGHT
BEGIN:STANDARD
TZOFFSETFROM:+1100
TZOFFSETTO:+1000
TZNAME:AEST
DTSTART:20190406T160000
END:STANDARD
BEGIN:DAYLIGHT
TZOFFSETFROM:+1000
TZOFFSETTO:+1100
TZNAME:AEDT
DTSTART:20191005T160000
END:DAYLIGHT
END:VTIMEZONE
BEGIN:VEVENT
DTSTART;TZID=Australia/Melbourne:20180708T100000
DTEND;TZID=Australia/Melbourne:20180708T160000
DTSTAMP:20260424T164506
CREATED:20180216T192033Z
LAST-MODIFIED:20180216T192033Z
UID:2761-1531044000-1531065600@celebrationdayforgirls.com
SUMMARY:Celebration Day for Girls\, Castlemaine\, VIC
DESCRIPTION:Places are available for this event.
URL:https://celebrationdayforgirls.com/event/celebration-day-for-girls-castlemaine-vic-8/
LOCATION:Castlemaine
ORGANIZER;CN="Rachel Pilgrim":MAILTO:rachel.pilgrim@yahoo.com
END:VEVENT
BEGIN:VEVENT
DTSTART;TZID=Australia/Melbourne:20180708T100000
DTEND;TZID=Australia/Melbourne:20180708T160000
DTSTAMP:20260424T164506
CREATED:20180216T192033Z
LAST-MODIFIED:20180216T192033Z
UID:3586-1531044000-1531065600@celebrationdayforgirls.com
SUMMARY:Celebration Day for Girls\, Castlemaine\, VIC
DESCRIPTION:Places are available for this event.
URL:https://celebrationdayforgirls.com/event/celebration-day-for-girls-castlemaine-vic-8-2/
LOCATION:Castlemaine
ORGANIZER;CN="Rachel Pilgrim":MAILTO:rachel.pilgrim@yahoo.com
END:VEVENT
BEGIN:VEVENT
DTSTART;TZID=Australia/Brisbane:20180720T080000
DTEND;TZID=Australia/Brisbane:20180722T170000
DTSTAMP:20260424T164506
CREATED:20171104T193205Z
LAST-MODIFIED:20171104T193205Z
UID:3567-1532073600-1532278800@celebrationdayforgirls.com
SUMMARY:Celebration Day for Girls Facilitator Training\, Brisbane\, QLD
DESCRIPTION:Places are available for this event.
URL:https://celebrationdayforgirls.com/event/celebration-day-for-girls-facilitator-training-brisbane-qld-3/
LOCATION:Brisbane\, Brisbane\, Queensland\, Australia
ORGANIZER;CN="Jane Bennett":MAILTO:jane@janebennett.com.au
END:VEVENT
BEGIN:VEVENT
DTSTART;TZID=Australia/Brisbane:20180720T080000
DTEND;TZID=Australia/Brisbane:20180722T170000
DTSTAMP:20260424T164506
CREATED:20171104T193205Z
LAST-MODIFIED:20171104T193205Z
UID:2603-1532073600-1532278800@celebrationdayforgirls.com
SUMMARY:Celebration Day for Girls Facilitator Training\, Brisbane\, QLD
DESCRIPTION:Places are available for this event.
URL:https://celebrationdayforgirls.com/event/celebration-day-for-girls-facilitator-training-brisbane-qld/
LOCATION:Brisbane\, Brisbane\, Queensland\, Australia
ORGANIZER;CN="Jane Bennett":MAILTO:jane@janebennett.com.au
END:VEVENT
BEGIN:VEVENT
DTSTART;TZID=America/Lima:20180720T193000
DTEND;TZID=America/Lima:20180720T213000
DTSTAMP:20260424T164506
CREATED:20180624T202249Z
LAST-MODIFIED:20180624T202249Z
UID:2798-1532115000-1532122200@celebrationdayforgirls.com
SUMMARY:Mother's Session\, Arequipa\, Peru
DESCRIPTION:Places are available for this event.
URL:https://celebrationdayforgirls.com/event/mothers-session-arequipa-peru/
LOCATION:Arequipa\, Arequipa\, Peru
ORGANIZER;CN="Mariana Zavery":MAILTO:sprout@astralize.com
END:VEVENT
BEGIN:VEVENT
DTSTART;TZID=America/Lima:20180720T193000
DTEND;TZID=America/Lima:20180720T213000
DTSTAMP:20260424T164506
CREATED:20180624T202249Z
LAST-MODIFIED:20180624T202249Z
UID:3611-1532115000-1532122200@celebrationdayforgirls.com
SUMMARY:Mother's Session\, Arequipa\, Peru
DESCRIPTION:Places are available for this event.
URL:https://celebrationdayforgirls.com/event/mothers-session-arequipa-peru-2/
LOCATION:Arequipa\, Arequipa\, Peru
ORGANIZER;CN="Mariana Zavery":MAILTO:sprout@astralize.com
END:VEVENT
BEGIN:VEVENT
DTSTART;TZID=America/Lima:20180721T100000
DTEND;TZID=America/Lima:20180721T160000
DTSTAMP:20260424T164506
CREATED:20180624T202111Z
LAST-MODIFIED:20180624T202111Z
UID:2794-1532167200-1532188800@celebrationdayforgirls.com
SUMMARY:Celebration Day for Girls\, Arequipa\, Peru
DESCRIPTION:Places are available for this event.
URL:https://celebrationdayforgirls.com/event/celebration-day-for-girls-arequipa-peru/
LOCATION:Arequipa\, Arequipa\, Peru
ORGANIZER;CN="Mariana Zavery":MAILTO:sprout@astralize.com
END:VEVENT
BEGIN:VEVENT
DTSTART;TZID=America/Lima:20180721T100000
DTEND;TZID=America/Lima:20180721T160000
DTSTAMP:20260424T164506
CREATED:20180624T202111Z
LAST-MODIFIED:20180624T202111Z
UID:3610-1532167200-1532188800@celebrationdayforgirls.com
SUMMARY:Celebration Day for Girls\, Arequipa\, Peru
DESCRIPTION:Places are available for this event.
URL:https://celebrationdayforgirls.com/event/celebration-day-for-girls-arequipa-peru-2/
LOCATION:Arequipa\, Arequipa\, Peru
ORGANIZER;CN="Mariana Zavery":MAILTO:sprout@astralize.com
END:VEVENT
BEGIN:VEVENT
DTSTART;TZID=Australia/Melbourne:20180726T193000
DTEND;TZID=Australia/Melbourne:20180726T213000
DTSTAMP:20260424T164506
CREATED:20180618T222145Z
LAST-MODIFIED:20180618T222145Z
UID:2790-1532633400-1532640600@celebrationdayforgirls.com
SUMMARY:Mother's Session\, BHPS Grade 5 Group\, Diamond Creek\, VIC
DESCRIPTION:This is a class event.
URL:https://celebrationdayforgirls.com/event/mothers-session-bhps-grade-5-group-diamond-creek-vic/
LOCATION:BHPS Diamond Creek\, VIC\, Diamond Creek\, Victoria\, Australia
ORGANIZER;CN="Melissa Gonella":MAILTO:mmgonella@hotmail.com
END:VEVENT
BEGIN:VEVENT
DTSTART;TZID=Pacific/Auckland:20180729T100000
DTEND;TZID=Pacific/Auckland:20180729T160000
DTSTAMP:20260424T164506
CREATED:20180417T222114Z
LAST-MODIFIED:20180417T222114Z
UID:2738-1532858400-1532880000@celebrationdayforgirls.com
SUMMARY:Celebration Day for Girls\, Auckland\, NZ
DESCRIPTION:Places are available for this event.
URL:https://celebrationdayforgirls.com/event/celebration-day-for-girls-auckland-nz-3-2/
END:VEVENT
BEGIN:VEVENT
DTSTART;TZID=Australia/Melbourne:20180729T100000
DTEND;TZID=Australia/Melbourne:20180729T160000
DTSTAMP:20260424T164506
CREATED:20180618T221948Z
LAST-MODIFIED:20180618T221948Z
UID:2787-1532858400-1532880000@celebrationdayforgirls.com
SUMMARY:Celebration Day for Girls\, BHPS Grade 5 Group\, Diamond Creek\, VIC
DESCRIPTION:This is a class event. Please contact the facilitator for future workshop dates.
URL:https://celebrationdayforgirls.com/event/celebration-day-for-girls-bhps-grade-5-group-diamond-creek-vic/
LOCATION:BHPS Diamond Creek\, VIC\, Diamond Creek\, Victoria\, Australia
ORGANIZER;CN="Melissa Gonella":MAILTO:mmgonella@hotmail.com
END:VEVENT
BEGIN:VEVENT
DTSTART;TZID=Australia/Sydney:20180803T080000
DTEND;TZID=Australia/Sydney:20180805T170000
DTSTAMP:20260424T164506
CREATED:20171104T193407Z
LAST-MODIFIED:20171104T193407Z
UID:2606-1533283200-1533488400@celebrationdayforgirls.com
SUMMARY:Celebration Day for Girls Facilitator Training\, Garran\, ACT
DESCRIPTION:Places are available for this event.
URL:https://celebrationdayforgirls.com/event/celebration-day-for-girls-facilitaor-training-garran-act/
LOCATION:Garran\, Garran\, Australian Capital Territory\, Australia
ORGANIZER;CN="Jane Bennett":MAILTO:jane@janebennett.com.au
END:VEVENT
BEGIN:VEVENT
DTSTART;TZID=Australia/Brisbane:20180803T090000
DTEND;TZID=Australia/Brisbane:20180805T170000
DTSTAMP:20260424T164506
CREATED:20180514T213351Z
LAST-MODIFIED:20180514T213351Z
UID:2770-1533286800-1533488400@celebrationdayforgirls.com
SUMMARY:Celebration Day for Girls Facilitator Training\, Brisbane\, QLD
DESCRIPTION:Places are available for this event.
URL:https://celebrationdayforgirls.com/event/celebration-day-for-girls-facilitator-training-brisbane-qld-2/
LOCATION:Brisbane\, Brisbane\, Queensland\, Australia
ORGANIZER;CN="Jane Bennett":MAILTO:jane@janebennett.com.au
END:VEVENT
BEGIN:VEVENT
DTSTART;TZID=Australia/Melbourne:20180806T190000
DTEND;TZID=Australia/Melbourne:20180806T210000
DTSTAMP:20260424T164506
CREATED:20180804T221516Z
LAST-MODIFIED:20180804T221516Z
UID:3634-1533582000-1533589200@celebrationdayforgirls.com
SUMMARY:Mother's Session\, Collingwood\, VIC
DESCRIPTION:This is a class event. Please contact the facilitator for future workshops.
URL:https://celebrationdayforgirls.com/event/mothers-session-collingwood-vic-3-2/
LOCATION:Collingwood College\, Collingwood\, Victoria\, Australia
ORGANIZER;CN="Carolyn Shurey":MAILTO:carolyn@ceres.org.au
END:VEVENT
BEGIN:VEVENT
DTSTART;TZID=Australia/Melbourne:20180807T190000
DTEND;TZID=Australia/Melbourne:20180807T210000
DTSTAMP:20260424T164506
CREATED:20180725T214457Z
LAST-MODIFIED:20180725T214457Z
UID:3631-1533668400-1533675600@celebrationdayforgirls.com
SUMMARY:Mother's Session\, Preston\, VIC
DESCRIPTION:Places are available for this event.
URL:https://celebrationdayforgirls.com/event/mothers-session-preston-vic-2-2/
LOCATION:Preston\, Preston\, Victoria\, Australia
ORGANIZER;CN="Janoel Liddy":MAILTO:contact.janoel@gmail.com
END:VEVENT
BEGIN:VEVENT
DTSTART;TZID=Australia/Melbourne:20180808T193000
DTEND;TZID=Australia/Melbourne:20180808T213000
DTSTAMP:20260424T164506
CREATED:20180527T214308Z
LAST-MODIFIED:20180527T214308Z
UID:2773-1533756600-1533763800@celebrationdayforgirls.com
SUMMARY:Mother's Session\, Kallista\, VIC
DESCRIPTION:Places are available for this event.
URL:https://celebrationdayforgirls.com/event/mothers-session-kallista-vic/
LOCATION:Mother’s Session\, West London\, UK
ORGANIZER;CN="Melinda Whyman":MAILTO:mummamel@gmail.com
END:VEVENT
BEGIN:VEVENT
DTSTART;TZID=America/Lima:20180810T193000
DTEND;TZID=America/Lima:20180810T213000
DTSTAMP:20260424T164506
CREATED:20180624T202620Z
LAST-MODIFIED:20180624T202620Z
UID:2803-1533929400-1533936600@celebrationdayforgirls.com
SUMMARY:Mother's Session\, Lima\, Peru
DESCRIPTION:Places are available for this event.
URL:https://celebrationdayforgirls.com/event/mothers-session-lima-peru/
LOCATION:Lima\, Lima\, Peru
ORGANIZER;CN="Mariana Zavery":MAILTO:sprout@astralize.com
END:VEVENT
BEGIN:VEVENT
DTSTART;TZID=America/Lima:20180811T100000
DTEND;TZID=America/Lima:20180811T160000
DTSTAMP:20260424T164506
CREATED:20180624T202500Z
LAST-MODIFIED:20180624T202500Z
UID:2800-1533981600-1534003200@celebrationdayforgirls.com
SUMMARY:Celebration Day for Girls\, Lima\, Peru
DESCRIPTION:Places are available for this event.
URL:https://celebrationdayforgirls.com/event/celebration-day-for-girls-lima-peru/
LOCATION:Lima\, Lima\, Peru
ORGANIZER;CN="Mariana Zavery":MAILTO:sprout@astralize.com
END:VEVENT
BEGIN:VEVENT
DTSTART;TZID=Australia/Sydney:20180811T100000
DTEND;TZID=Australia/Sydney:20180811T160000
DTSTAMP:20260424T164506
CREATED:20180729T212629Z
LAST-MODIFIED:20180729T212629Z
UID:3632-1533981600-1534003200@celebrationdayforgirls.com
SUMMARY:Celebration Day for Girls\, Sydney\, NSW
DESCRIPTION:Places are available for this event.
URL:https://celebrationdayforgirls.com/event/celebration-day-for-girls-sydney-nsw/
END:VEVENT
BEGIN:VEVENT
DTSTART;TZID=Australia/Melbourne:20180812T094500
DTEND;TZID=Australia/Melbourne:20180812T163000
DTSTAMP:20260424T164506
CREATED:20180725T214338Z
LAST-MODIFIED:20180725T214338Z
UID:3630-1534067100-1534091400@celebrationdayforgirls.com
SUMMARY:Celebration Day for Girls\, Preston\, VIC
DESCRIPTION:Places are available for this event.
URL:https://celebrationdayforgirls.com/event/celebration-day-for-girls-preston-vic-4-2/
LOCATION:Preston\, Preston\, Victoria\, Australia
ORGANIZER;CN="Janoel Liddy":MAILTO:contact.janoel@gmail.com
END:VEVENT
BEGIN:VEVENT
DTSTART;TZID=Australia/Melbourne:20180812T100000
DTEND;TZID=Australia/Melbourne:20180812T160000
DTSTAMP:20260424T164506
CREATED:20180804T221216Z
LAST-MODIFIED:20180804T221216Z
UID:3633-1534068000-1534089600@celebrationdayforgirls.com
SUMMARY:Celebration Day For Girls\, Collingwood\, VIC
DESCRIPTION:This is a class event. Please contact the facilitator for upcoming workshops.
URL:https://celebrationdayforgirls.com/event/celebration-day-for-girls-collingwood-vic-4-2/
LOCATION:Collingwood College\, Collingwood\, Victoria\, Australia
ORGANIZER;CN="Carolyn Shurey":MAILTO:carolyn@ceres.org.au
END:VEVENT
BEGIN:VEVENT
DTSTART;TZID=Australia/Melbourne:20180812T100000
DTEND;TZID=Australia/Melbourne:20180812T160000
DTSTAMP:20260424T164506
CREATED:20181102T102541Z
LAST-MODIFIED:20181102T102541Z
UID:4156-1534068000-1534089600@celebrationdayforgirls.com
SUMMARY:Celebration Day for Girls\, Preston\, VIC
DESCRIPTION:This is a class event.
URL:https://celebrationdayforgirls.com/event/celebration-day-for-girls-preston-vic-5/
LOCATION:Preston\, Preston\, Victoria\, Australia
ORGANIZER;CN="Janoel Liddy":MAILTO:contact.janoel@gmail.com
END:VEVENT
BEGIN:VEVENT
DTSTART;TZID=Australia/Sydney:20180819T100000
DTEND;TZID=Australia/Sydney:20180819T160000
DTSTAMP:20260424T164506
CREATED:20171014T194406Z
LAST-MODIFIED:20171014T194406Z
UID:3562-1534672800-1534694400@celebrationdayforgirls.com
SUMMARY:Celebration Day for Girls\, Garran\, ACT
DESCRIPTION:Places are available for this event.
URL:https://celebrationdayforgirls.com/event/celebration-day-for-girls-garran-act-5-2/
LOCATION:Garran\, Garran\, Australian Capital Territory\, Australia
ORGANIZER;CN="Julia Dendrinos":MAILTO:julia@grapevine.com.au
END:VEVENT
BEGIN:VEVENT
DTSTART;TZID=Australia/Sydney:20180819T100000
DTEND;TZID=Australia/Sydney:20180819T160000
DTSTAMP:20260424T164506
CREATED:20171014T194406Z
LAST-MODIFIED:20171014T194406Z
UID:2588-1534672800-1534694400@celebrationdayforgirls.com
SUMMARY:Celebration Day for Girls\, Garran\, ACT
DESCRIPTION:Places are available for this event.
URL:https://celebrationdayforgirls.com/event/celebration-day-for-girls-garran-act-5/
LOCATION:Garran\, Garran\, Australian Capital Territory\, Australia
ORGANIZER;CN="Julia Dendrinos":MAILTO:julia@grapevine.com.au
END:VEVENT
BEGIN:VEVENT
DTSTART;TZID=Australia/Melbourne:20180819T100000
DTEND;TZID=Australia/Melbourne:20180819T160000
DTSTAMP:20260424T164506
CREATED:20180527T214125Z
LAST-MODIFIED:20180527T214125Z
UID:2772-1534672800-1534694400@celebrationdayforgirls.com
SUMMARY:Celebration Day for Girls\, Kallista\, VIC
DESCRIPTION:Places are available for this event.
URL:https://celebrationdayforgirls.com/event/celebration-day-for-girls-kallista-vic/
LOCATION:Mother’s Session\, West London\, UK
ORGANIZER;CN="Melinda Whyman":MAILTO:mummamel@gmail.com
END:VEVENT
BEGIN:VEVENT
DTSTART;TZID=Australia/Melbourne:20180824T080000
DTEND;TZID=Australia/Melbourne:20180826T170000
DTSTAMP:20260424T164506
CREATED:20171104T194527Z
LAST-MODIFIED:20171104T194527Z
UID:2614-1535097600-1535302800@celebrationdayforgirls.com
SUMMARY:Celebration Day for Girls Facilitator Training\, Melbourne\, VIC
DESCRIPTION:Places are available for this event.
URL:https://celebrationdayforgirls.com/event/celebration-day-for-girls-facilitator-training-melbourne-vic-2/
LOCATION:Melbourne\, Melbourne\, Victoria\, Australia
ORGANIZER;CN="Jane Bennett":MAILTO:jane@janebennett.com.au
END:VEVENT
BEGIN:VEVENT
DTSTART;TZID=Australia/Melbourne:20180824T190000
DTEND;TZID=Australia/Melbourne:20180824T210000
DTSTAMP:20260424T164506
CREATED:20180724T221906Z
LAST-MODIFIED:20180724T221906Z
UID:3620-1535137200-1535144400@celebrationdayforgirls.com
SUMMARY:Mother's Session\, Horsham\, VIC
DESCRIPTION:Places are available for this event. Please use the following link to book your place :https://www.eventbrite.com.au/e/a-celebration-day-for-girls-horsham-26th-august-2018-tickets-46793125498
URL:https://celebrationdayforgirls.com/event/mothers-session-horsham-vic/
ORGANIZER;CN="Rachel Pilgrim":MAILTO:rachel.pilgrim@yahoo.com
END:VEVENT
BEGIN:VEVENT
DTSTART;TZID=Australia/Melbourne:20180826T100000
DTEND;TZID=Australia/Melbourne:20180826T160000
DTSTAMP:20260424T164506
CREATED:20180724T221659Z
LAST-MODIFIED:20180724T221659Z
UID:3619-1535277600-1535299200@celebrationdayforgirls.com
SUMMARY:Celebration Day for Girls\, Horsham\, VIC
DESCRIPTION:Places are available for this event. Please use the following link to book your place: https://www.eventbrite.com.au/e/a-celebration-day-for-girls-horsham-26th-august-2018-tickets-46793125498 \n  \n 
URL:https://celebrationdayforgirls.com/event/celebration-day-for-girls-horsham-vic/
ORGANIZER;CN="Rachel Pilgrim":MAILTO:rachel.pilgrim@yahoo.com
END:VEVENT
BEGIN:VEVENT
DTSTART;TZID=Australia/Brisbane:20180826T100000
DTEND;TZID=Australia/Brisbane:20180826T160000
DTSTAMP:20260424T164506
CREATED:20180817T105247Z
LAST-MODIFIED:20180817T105247Z
UID:2901-1535277600-1535299200@celebrationdayforgirls.com
SUMMARY:Celebration Day for Girls\, Ananda Marga River School
DESCRIPTION:This is a class event.
URL:https://celebrationdayforgirls.com/event/celebration-day-for-girls-ananda-marga-river-school/
LOCATION:Ananda Marga River School\, Maleny\, QLD\, Australia
ORGANIZER;CN="Alieta Belle":MAILTO:alieta@earthbase.net.au
END:VEVENT
BEGIN:VEVENT
DTSTART;TZID=Australia/Melbourne:20180831T190000
DTEND;TZID=Australia/Melbourne:20180831T210000
DTSTAMP:20260424T164506
CREATED:20180724T214104Z
LAST-MODIFIED:20180724T214104Z
UID:3618-1535742000-1535749200@celebrationdayforgirls.com
SUMMARY:Mother's Session\, Shepparton\, VIC
DESCRIPTION:Places are available for this event.
URL:https://celebrationdayforgirls.com/event/mothers-session-shepparton-vic-2-2/
LOCATION:Shepparton\, Shepparton\, Australia
ORGANIZER;CN="Nicole Tricarico":MAILTO:ntricarico@bigpond.com
END:VEVENT
END:VCALENDAR